BEGIN:VCALENDAR
VERSION:2.0
PRODID:-//Freedom Fitness - ECPv6.2.9//NONSGML v1.0//EN
CALSCALE:GREGORIAN
METHOD:PUBLISH
X-ORIGINAL-URL:https://freedomfitnessidaho.com
X-WR-CALDESC:Events for Freedom Fitness
REFRESH-INTERVAL;VALUE=DURATION:PT1H
X-Robots-Tag:noindex
X-PUBLISHED-TTL:PT1H
BEGIN:VTIMEZONE
TZID:America/Boise
BEGIN:DAYLIGHT
TZOFFSETFROM:-0700
TZOFFSETTO:-0600
TZNAME:MDT
DTSTART:20270314T090000
END:DAYLIGHT
BEGIN:STANDARD
TZOFFSETFROM:-0600
TZOFFSETTO:-0700
TZNAME:MST
DTSTART:20271107T080000
END:STANDARD
END:VTIMEZONE
BEGIN:VEVENT
DTSTART;TZID=America/Boise:20270409T081500
DTEND;TZID=America/Boise:20270409T090000
DTSTAMP:20260421T083858
CREATED:20250829T220615Z
LAST-MODIFIED:20250829T220617Z
UID:10020910-1807258500-1807261200@freedomfitnessidaho.com
SUMMARY:Surge Strength w/Aley
DESCRIPTION:
URL:https://freedomfitnessidaho.com/event/surge-strength-w-aley-2/2027-04-09/
LOCATION:Freedom Fitness Center\, 757 E Stagecoach Way\, Suite 103\, Kuna\, ID\, 83634\, United States
CATEGORIES:Weights
GEO:43.4833055;-116.4046421
X-APPLE-STRUCTURED-LOCATION;VALUE=URI;X-ADDRESS=Freedom Fitness Center 757 E Stagecoach Way Suite 103 Kuna ID 83634 United States;X-APPLE-RADIUS=500;X-TITLE=757 E Stagecoach Way\, Suite 103:geo:-116.4046421,43.4833055
END:VEVENT
BEGIN:VEVENT
DTSTART;TZID=America/Boise:20270416T081500
DTEND;TZID=America/Boise:20270416T090000
DTSTAMP:20260421T083858
CREATED:20250829T220615Z
LAST-MODIFIED:20250829T220617Z
UID:10020911-1807863300-1807866000@freedomfitnessidaho.com
SUMMARY:Surge Strength w/Aley
DESCRIPTION:
URL:https://freedomfitnessidaho.com/event/surge-strength-w-aley-2/2027-04-16/
LOCATION:Freedom Fitness Center\, 757 E Stagecoach Way\, Suite 103\, Kuna\, ID\, 83634\, United States
CATEGORIES:Weights
GEO:43.4833055;-116.4046421
X-APPLE-STRUCTURED-LOCATION;VALUE=URI;X-ADDRESS=Freedom Fitness Center 757 E Stagecoach Way Suite 103 Kuna ID 83634 United States;X-APPLE-RADIUS=500;X-TITLE=757 E Stagecoach Way\, Suite 103:geo:-116.4046421,43.4833055
END:VEVENT
BEGIN:VEVENT
DTSTART;TZID=America/Boise:20270423T081500
DTEND;TZID=America/Boise:20270423T090000
DTSTAMP:20260421T083858
CREATED:20250829T220615Z
LAST-MODIFIED:20250829T220617Z
UID:10020912-1808468100-1808470800@freedomfitnessidaho.com
SUMMARY:Surge Strength w/Aley
DESCRIPTION:
URL:https://freedomfitnessidaho.com/event/surge-strength-w-aley-2/2027-04-23/
LOCATION:Freedom Fitness Center\, 757 E Stagecoach Way\, Suite 103\, Kuna\, ID\, 83634\, United States
CATEGORIES:Weights
GEO:43.4833055;-116.4046421
X-APPLE-STRUCTURED-LOCATION;VALUE=URI;X-ADDRESS=Freedom Fitness Center 757 E Stagecoach Way Suite 103 Kuna ID 83634 United States;X-APPLE-RADIUS=500;X-TITLE=757 E Stagecoach Way\, Suite 103:geo:-116.4046421,43.4833055
END:VEVENT
BEGIN:VEVENT
DTSTART;TZID=America/Boise:20270430T081500
DTEND;TZID=America/Boise:20270430T090000
DTSTAMP:20260421T083858
CREATED:20250829T220615Z
LAST-MODIFIED:20250829T220617Z
UID:10020913-1809072900-1809075600@freedomfitnessidaho.com
SUMMARY:Surge Strength w/Aley
DESCRIPTION:
URL:https://freedomfitnessidaho.com/event/surge-strength-w-aley-2/2027-04-30/
LOCATION:Freedom Fitness Center\, 757 E Stagecoach Way\, Suite 103\, Kuna\, ID\, 83634\, United States
CATEGORIES:Weights
GEO:43.4833055;-116.4046421
X-APPLE-STRUCTURED-LOCATION;VALUE=URI;X-ADDRESS=Freedom Fitness Center 757 E Stagecoach Way Suite 103 Kuna ID 83634 United States;X-APPLE-RADIUS=500;X-TITLE=757 E Stagecoach Way\, Suite 103:geo:-116.4046421,43.4833055
END:VEVENT
BEGIN:VEVENT
DTSTART;TZID=America/Boise:20270507T081500
DTEND;TZID=America/Boise:20270507T090000
DTSTAMP:20260421T083858
CREATED:20250829T220615Z
LAST-MODIFIED:20250829T220617Z
UID:10020914-1809677700-1809680400@freedomfitnessidaho.com
SUMMARY:Surge Strength w/Aley
DESCRIPTION:
URL:https://freedomfitnessidaho.com/event/surge-strength-w-aley-2/2027-05-07/
LOCATION:Freedom Fitness Center\, 757 E Stagecoach Way\, Suite 103\, Kuna\, ID\, 83634\, United States
CATEGORIES:Weights
GEO:43.4833055;-116.4046421
X-APPLE-STRUCTURED-LOCATION;VALUE=URI;X-ADDRESS=Freedom Fitness Center 757 E Stagecoach Way Suite 103 Kuna ID 83634 United States;X-APPLE-RADIUS=500;X-TITLE=757 E Stagecoach Way\, Suite 103:geo:-116.4046421,43.4833055
END:VEVENT
BEGIN:VEVENT
DTSTART;TZID=America/Boise:20270514T081500
DTEND;TZID=America/Boise:20270514T090000
DTSTAMP:20260421T083858
CREATED:20250829T220615Z
LAST-MODIFIED:20250829T220617Z
UID:10020915-1810282500-1810285200@freedomfitnessidaho.com
SUMMARY:Surge Strength w/Aley
DESCRIPTION:
URL:https://freedomfitnessidaho.com/event/surge-strength-w-aley-2/2027-05-14/
LOCATION:Freedom Fitness Center\, 757 E Stagecoach Way\, Suite 103\, Kuna\, ID\, 83634\, United States
CATEGORIES:Weights
GEO:43.4833055;-116.4046421
X-APPLE-STRUCTURED-LOCATION;VALUE=URI;X-ADDRESS=Freedom Fitness Center 757 E Stagecoach Way Suite 103 Kuna ID 83634 United States;X-APPLE-RADIUS=500;X-TITLE=757 E Stagecoach Way\, Suite 103:geo:-116.4046421,43.4833055
END:VEVENT
BEGIN:VEVENT
DTSTART;TZID=America/Boise:20270521T081500
DTEND;TZID=America/Boise:20270521T090000
DTSTAMP:20260421T083858
CREATED:20250829T220615Z
LAST-MODIFIED:20250829T220617Z
UID:10020916-1810887300-1810890000@freedomfitnessidaho.com
SUMMARY:Surge Strength w/Aley
DESCRIPTION:
URL:https://freedomfitnessidaho.com/event/surge-strength-w-aley-2/2027-05-21/
LOCATION:Freedom Fitness Center\, 757 E Stagecoach Way\, Suite 103\, Kuna\, ID\, 83634\, United States
CATEGORIES:Weights
GEO:43.4833055;-116.4046421
X-APPLE-STRUCTURED-LOCATION;VALUE=URI;X-ADDRESS=Freedom Fitness Center 757 E Stagecoach Way Suite 103 Kuna ID 83634 United States;X-APPLE-RADIUS=500;X-TITLE=757 E Stagecoach Way\, Suite 103:geo:-116.4046421,43.4833055
END:VEVENT
BEGIN:VEVENT
DTSTART;TZID=America/Boise:20270528T081500
DTEND;TZID=America/Boise:20270528T090000
DTSTAMP:20260421T083858
CREATED:20250829T220615Z
LAST-MODIFIED:20250829T220617Z
UID:10020917-1811492100-1811494800@freedomfitnessidaho.com
SUMMARY:Surge Strength w/Aley
DESCRIPTION:
URL:https://freedomfitnessidaho.com/event/surge-strength-w-aley-2/2027-05-28/
LOCATION:Freedom Fitness Center\, 757 E Stagecoach Way\, Suite 103\, Kuna\, ID\, 83634\, United States
CATEGORIES:Weights
GEO:43.4833055;-116.4046421
X-APPLE-STRUCTURED-LOCATION;VALUE=URI;X-ADDRESS=Freedom Fitness Center 757 E Stagecoach Way Suite 103 Kuna ID 83634 United States;X-APPLE-RADIUS=500;X-TITLE=757 E Stagecoach Way\, Suite 103:geo:-116.4046421,43.4833055
END:VEVENT
BEGIN:VEVENT
DTSTART;TZID=America/Boise:20270604T081500
DTEND;TZID=America/Boise:20270604T090000
DTSTAMP:20260421T083858
CREATED:20250829T220615Z
LAST-MODIFIED:20250829T220617Z
UID:10020918-1812096900-1812099600@freedomfitnessidaho.com
SUMMARY:Surge Strength w/Aley
DESCRIPTION:
URL:https://freedomfitnessidaho.com/event/surge-strength-w-aley-2/2027-06-04/
LOCATION:Freedom Fitness Center\, 757 E Stagecoach Way\, Suite 103\, Kuna\, ID\, 83634\, United States
CATEGORIES:Weights
GEO:43.4833055;-116.4046421
X-APPLE-STRUCTURED-LOCATION;VALUE=URI;X-ADDRESS=Freedom Fitness Center 757 E Stagecoach Way Suite 103 Kuna ID 83634 United States;X-APPLE-RADIUS=500;X-TITLE=757 E Stagecoach Way\, Suite 103:geo:-116.4046421,43.4833055
END:VEVENT
BEGIN:VEVENT
DTSTART;TZID=America/Boise:20270611T081500
DTEND;TZID=America/Boise:20270611T090000
DTSTAMP:20260421T083858
CREATED:20250829T220615Z
LAST-MODIFIED:20250829T220617Z
UID:10020919-1812701700-1812704400@freedomfitnessidaho.com
SUMMARY:Surge Strength w/Aley
DESCRIPTION:
URL:https://freedomfitnessidaho.com/event/surge-strength-w-aley-2/2027-06-11/
LOCATION:Freedom Fitness Center\, 757 E Stagecoach Way\, Suite 103\, Kuna\, ID\, 83634\, United States
CATEGORIES:Weights
GEO:43.4833055;-116.4046421
X-APPLE-STRUCTURED-LOCATION;VALUE=URI;X-ADDRESS=Freedom Fitness Center 757 E Stagecoach Way Suite 103 Kuna ID 83634 United States;X-APPLE-RADIUS=500;X-TITLE=757 E Stagecoach Way\, Suite 103:geo:-116.4046421,43.4833055
END:VEVENT
BEGIN:VEVENT
DTSTART;TZID=America/Boise:20270618T081500
DTEND;TZID=America/Boise:20270618T090000
DTSTAMP:20260421T083858
CREATED:20250829T220615Z
LAST-MODIFIED:20250829T220617Z
UID:10020920-1813306500-1813309200@freedomfitnessidaho.com
SUMMARY:Surge Strength w/Aley
DESCRIPTION:
URL:https://freedomfitnessidaho.com/event/surge-strength-w-aley-2/2027-06-18/
LOCATION:Freedom Fitness Center\, 757 E Stagecoach Way\, Suite 103\, Kuna\, ID\, 83634\, United States
CATEGORIES:Weights
GEO:43.4833055;-116.4046421
X-APPLE-STRUCTURED-LOCATION;VALUE=URI;X-ADDRESS=Freedom Fitness Center 757 E Stagecoach Way Suite 103 Kuna ID 83634 United States;X-APPLE-RADIUS=500;X-TITLE=757 E Stagecoach Way\, Suite 103:geo:-116.4046421,43.4833055
END:VEVENT
BEGIN:VEVENT
DTSTART;TZID=America/Boise:20270625T081500
DTEND;TZID=America/Boise:20270625T090000
DTSTAMP:20260421T083858
CREATED:20250829T220615Z
LAST-MODIFIED:20250829T220617Z
UID:10020921-1813911300-1813914000@freedomfitnessidaho.com
SUMMARY:Surge Strength w/Aley
DESCRIPTION:
URL:https://freedomfitnessidaho.com/event/surge-strength-w-aley-2/2027-06-25/
LOCATION:Freedom Fitness Center\, 757 E Stagecoach Way\, Suite 103\, Kuna\, ID\, 83634\, United States
CATEGORIES:Weights
GEO:43.4833055;-116.4046421
X-APPLE-STRUCTURED-LOCATION;VALUE=URI;X-ADDRESS=Freedom Fitness Center 757 E Stagecoach Way Suite 103 Kuna ID 83634 United States;X-APPLE-RADIUS=500;X-TITLE=757 E Stagecoach Way\, Suite 103:geo:-116.4046421,43.4833055
END:VEVENT
BEGIN:VEVENT
DTSTART;TZID=America/Boise:20270702T081500
DTEND;TZID=America/Boise:20270702T090000
DTSTAMP:20260421T083858
CREATED:20250829T220615Z
LAST-MODIFIED:20250829T220617Z
UID:10020922-1814516100-1814518800@freedomfitnessidaho.com
SUMMARY:Surge Strength w/Aley
DESCRIPTION:
URL:https://freedomfitnessidaho.com/event/surge-strength-w-aley-2/2027-07-02/
LOCATION:Freedom Fitness Center\, 757 E Stagecoach Way\, Suite 103\, Kuna\, ID\, 83634\, United States
CATEGORIES:Weights
GEO:43.4833055;-116.4046421
X-APPLE-STRUCTURED-LOCATION;VALUE=URI;X-ADDRESS=Freedom Fitness Center 757 E Stagecoach Way Suite 103 Kuna ID 83634 United States;X-APPLE-RADIUS=500;X-TITLE=757 E Stagecoach Way\, Suite 103:geo:-116.4046421,43.4833055
END:VEVENT
BEGIN:VEVENT
DTSTART;TZID=America/Boise:20270709T081500
DTEND;TZID=America/Boise:20270709T090000
DTSTAMP:20260421T083858
CREATED:20250829T220615Z
LAST-MODIFIED:20250829T220617Z
UID:10020923-1815120900-1815123600@freedomfitnessidaho.com
SUMMARY:Surge Strength w/Aley
DESCRIPTION:
URL:https://freedomfitnessidaho.com/event/surge-strength-w-aley-2/2027-07-09/
LOCATION:Freedom Fitness Center\, 757 E Stagecoach Way\, Suite 103\, Kuna\, ID\, 83634\, United States
CATEGORIES:Weights
GEO:43.4833055;-116.4046421
X-APPLE-STRUCTURED-LOCATION;VALUE=URI;X-ADDRESS=Freedom Fitness Center 757 E Stagecoach Way Suite 103 Kuna ID 83634 United States;X-APPLE-RADIUS=500;X-TITLE=757 E Stagecoach Way\, Suite 103:geo:-116.4046421,43.4833055
END:VEVENT
BEGIN:VEVENT
DTSTART;TZID=America/Boise:20270716T081500
DTEND;TZID=America/Boise:20270716T090000
DTSTAMP:20260421T083858
CREATED:20250829T220615Z
LAST-MODIFIED:20250829T220617Z
UID:10020924-1815725700-1815728400@freedomfitnessidaho.com
SUMMARY:Surge Strength w/Aley
DESCRIPTION:
URL:https://freedomfitnessidaho.com/event/surge-strength-w-aley-2/2027-07-16/
LOCATION:Freedom Fitness Center\, 757 E Stagecoach Way\, Suite 103\, Kuna\, ID\, 83634\, United States
CATEGORIES:Weights
GEO:43.4833055;-116.4046421
X-APPLE-STRUCTURED-LOCATION;VALUE=URI;X-ADDRESS=Freedom Fitness Center 757 E Stagecoach Way Suite 103 Kuna ID 83634 United States;X-APPLE-RADIUS=500;X-TITLE=757 E Stagecoach Way\, Suite 103:geo:-116.4046421,43.4833055
END:VEVENT
BEGIN:VEVENT
DTSTART;TZID=America/Boise:20270723T081500
DTEND;TZID=America/Boise:20270723T090000
DTSTAMP:20260421T083858
CREATED:20250829T220615Z
LAST-MODIFIED:20250829T220617Z
UID:10020925-1816330500-1816333200@freedomfitnessidaho.com
SUMMARY:Surge Strength w/Aley
DESCRIPTION:
URL:https://freedomfitnessidaho.com/event/surge-strength-w-aley-2/2027-07-23/
LOCATION:Freedom Fitness Center\, 757 E Stagecoach Way\, Suite 103\, Kuna\, ID\, 83634\, United States
CATEGORIES:Weights
GEO:43.4833055;-116.4046421
X-APPLE-STRUCTURED-LOCATION;VALUE=URI;X-ADDRESS=Freedom Fitness Center 757 E Stagecoach Way Suite 103 Kuna ID 83634 United States;X-APPLE-RADIUS=500;X-TITLE=757 E Stagecoach Way\, Suite 103:geo:-116.4046421,43.4833055
END:VEVENT
BEGIN:VEVENT
DTSTART;TZID=America/Boise:20270730T081500
DTEND;TZID=America/Boise:20270730T090000
DTSTAMP:20260421T083858
CREATED:20250829T220615Z
LAST-MODIFIED:20250829T220617Z
UID:10020926-1816935300-1816938000@freedomfitnessidaho.com
SUMMARY:Surge Strength w/Aley
DESCRIPTION:
URL:https://freedomfitnessidaho.com/event/surge-strength-w-aley-2/2027-07-30/
LOCATION:Freedom Fitness Center\, 757 E Stagecoach Way\, Suite 103\, Kuna\, ID\, 83634\, United States
CATEGORIES:Weights
GEO:43.4833055;-116.4046421
X-APPLE-STRUCTURED-LOCATION;VALUE=URI;X-ADDRESS=Freedom Fitness Center 757 E Stagecoach Way Suite 103 Kuna ID 83634 United States;X-APPLE-RADIUS=500;X-TITLE=757 E Stagecoach Way\, Suite 103:geo:-116.4046421,43.4833055
END:VEVENT
BEGIN:VEVENT
DTSTART;TZID=America/Boise:20270806T081500
DTEND;TZID=America/Boise:20270806T090000
DTSTAMP:20260421T083858
CREATED:20250829T220615Z
LAST-MODIFIED:20250829T220617Z
UID:10020927-1817540100-1817542800@freedomfitnessidaho.com
SUMMARY:Surge Strength w/Aley
DESCRIPTION:
URL:https://freedomfitnessidaho.com/event/surge-strength-w-aley-2/2027-08-06/
LOCATION:Freedom Fitness Center\, 757 E Stagecoach Way\, Suite 103\, Kuna\, ID\, 83634\, United States
CATEGORIES:Weights
GEO:43.4833055;-116.4046421
X-APPLE-STRUCTURED-LOCATION;VALUE=URI;X-ADDRESS=Freedom Fitness Center 757 E Stagecoach Way Suite 103 Kuna ID 83634 United States;X-APPLE-RADIUS=500;X-TITLE=757 E Stagecoach Way\, Suite 103:geo:-116.4046421,43.4833055
END:VEVENT
BEGIN:VEVENT
DTSTART;TZID=America/Boise:20270813T081500
DTEND;TZID=America/Boise:20270813T090000
DTSTAMP:20260421T083858
CREATED:20250829T220615Z
LAST-MODIFIED:20250829T220617Z
UID:10020928-1818144900-1818147600@freedomfitnessidaho.com
SUMMARY:Surge Strength w/Aley
DESCRIPTION:
URL:https://freedomfitnessidaho.com/event/surge-strength-w-aley-2/2027-08-13/
LOCATION:Freedom Fitness Center\, 757 E Stagecoach Way\, Suite 103\, Kuna\, ID\, 83634\, United States
CATEGORIES:Weights
GEO:43.4833055;-116.4046421
X-APPLE-STRUCTURED-LOCATION;VALUE=URI;X-ADDRESS=Freedom Fitness Center 757 E Stagecoach Way Suite 103 Kuna ID 83634 United States;X-APPLE-RADIUS=500;X-TITLE=757 E Stagecoach Way\, Suite 103:geo:-116.4046421,43.4833055
END:VEVENT
BEGIN:VEVENT
DTSTART;TZID=America/Boise:20270820T081500
DTEND;TZID=America/Boise:20270820T090000
DTSTAMP:20260421T083858
CREATED:20250829T220615Z
LAST-MODIFIED:20250829T220617Z
UID:10020929-1818749700-1818752400@freedomfitnessidaho.com
SUMMARY:Surge Strength w/Aley
DESCRIPTION:
URL:https://freedomfitnessidaho.com/event/surge-strength-w-aley-2/2027-08-20/
LOCATION:Freedom Fitness Center\, 757 E Stagecoach Way\, Suite 103\, Kuna\, ID\, 83634\, United States
CATEGORIES:Weights
GEO:43.4833055;-116.4046421
X-APPLE-STRUCTURED-LOCATION;VALUE=URI;X-ADDRESS=Freedom Fitness Center 757 E Stagecoach Way Suite 103 Kuna ID 83634 United States;X-APPLE-RADIUS=500;X-TITLE=757 E Stagecoach Way\, Suite 103:geo:-116.4046421,43.4833055
END:VEVENT
BEGIN:VEVENT
DTSTART;TZID=America/Boise:20270827T081500
DTEND;TZID=America/Boise:20270827T090000
DTSTAMP:20260421T083858
CREATED:20250829T220615Z
LAST-MODIFIED:20250829T220617Z
UID:10020930-1819354500-1819357200@freedomfitnessidaho.com
SUMMARY:Surge Strength w/Aley
DESCRIPTION:
URL:https://freedomfitnessidaho.com/event/surge-strength-w-aley-2/2027-08-27/
LOCATION:Freedom Fitness Center\, 757 E Stagecoach Way\, Suite 103\, Kuna\, ID\, 83634\, United States
CATEGORIES:Weights
GEO:43.4833055;-116.4046421
X-APPLE-STRUCTURED-LOCATION;VALUE=URI;X-ADDRESS=Freedom Fitness Center 757 E Stagecoach Way Suite 103 Kuna ID 83634 United States;X-APPLE-RADIUS=500;X-TITLE=757 E Stagecoach Way\, Suite 103:geo:-116.4046421,43.4833055
END:VEVENT
BEGIN:VEVENT
DTSTART;TZID=America/Boise:20270903T081500
DTEND;TZID=America/Boise:20270903T090000
DTSTAMP:20260421T083858
CREATED:20250829T220615Z
LAST-MODIFIED:20250829T220617Z
UID:10020931-1819959300-1819962000@freedomfitnessidaho.com
SUMMARY:Surge Strength w/Aley
DESCRIPTION:
URL:https://freedomfitnessidaho.com/event/surge-strength-w-aley-2/2027-09-03/
LOCATION:Freedom Fitness Center\, 757 E Stagecoach Way\, Suite 103\, Kuna\, ID\, 83634\, United States
CATEGORIES:Weights
GEO:43.4833055;-116.4046421
X-APPLE-STRUCTURED-LOCATION;VALUE=URI;X-ADDRESS=Freedom Fitness Center 757 E Stagecoach Way Suite 103 Kuna ID 83634 United States;X-APPLE-RADIUS=500;X-TITLE=757 E Stagecoach Way\, Suite 103:geo:-116.4046421,43.4833055
END:VEVENT
BEGIN:VEVENT
DTSTART;TZID=America/Boise:20270910T081500
DTEND;TZID=America/Boise:20270910T090000
DTSTAMP:20260421T083858
CREATED:20250829T220615Z
LAST-MODIFIED:20250829T220617Z
UID:10020932-1820564100-1820566800@freedomfitnessidaho.com
SUMMARY:Surge Strength w/Aley
DESCRIPTION:
URL:https://freedomfitnessidaho.com/event/surge-strength-w-aley-2/2027-09-10/
LOCATION:Freedom Fitness Center\, 757 E Stagecoach Way\, Suite 103\, Kuna\, ID\, 83634\, United States
CATEGORIES:Weights
GEO:43.4833055;-116.4046421
X-APPLE-STRUCTURED-LOCATION;VALUE=URI;X-ADDRESS=Freedom Fitness Center 757 E Stagecoach Way Suite 103 Kuna ID 83634 United States;X-APPLE-RADIUS=500;X-TITLE=757 E Stagecoach Way\, Suite 103:geo:-116.4046421,43.4833055
END:VEVENT
BEGIN:VEVENT
DTSTART;TZID=America/Boise:20270917T081500
DTEND;TZID=America/Boise:20270917T090000
DTSTAMP:20260421T083858
CREATED:20250829T220615Z
LAST-MODIFIED:20250829T220617Z
UID:10020933-1821168900-1821171600@freedomfitnessidaho.com
SUMMARY:Surge Strength w/Aley
DESCRIPTION:
URL:https://freedomfitnessidaho.com/event/surge-strength-w-aley-2/2027-09-17/
LOCATION:Freedom Fitness Center\, 757 E Stagecoach Way\, Suite 103\, Kuna\, ID\, 83634\, United States
CATEGORIES:Weights
GEO:43.4833055;-116.4046421
X-APPLE-STRUCTURED-LOCATION;VALUE=URI;X-ADDRESS=Freedom Fitness Center 757 E Stagecoach Way Suite 103 Kuna ID 83634 United States;X-APPLE-RADIUS=500;X-TITLE=757 E Stagecoach Way\, Suite 103:geo:-116.4046421,43.4833055
END:VEVENT
BEGIN:VEVENT
DTSTART;TZID=America/Boise:20270924T081500
DTEND;TZID=America/Boise:20270924T090000
DTSTAMP:20260421T083858
CREATED:20250829T220615Z
LAST-MODIFIED:20250829T220617Z
UID:10020934-1821773700-1821776400@freedomfitnessidaho.com
SUMMARY:Surge Strength w/Aley
DESCRIPTION:
URL:https://freedomfitnessidaho.com/event/surge-strength-w-aley-2/2027-09-24/
LOCATION:Freedom Fitness Center\, 757 E Stagecoach Way\, Suite 103\, Kuna\, ID\, 83634\, United States
CATEGORIES:Weights
GEO:43.4833055;-116.4046421
X-APPLE-STRUCTURED-LOCATION;VALUE=URI;X-ADDRESS=Freedom Fitness Center 757 E Stagecoach Way Suite 103 Kuna ID 83634 United States;X-APPLE-RADIUS=500;X-TITLE=757 E Stagecoach Way\, Suite 103:geo:-116.4046421,43.4833055
END:VEVENT
BEGIN:VEVENT
DTSTART;TZID=America/Boise:20271001T081500
DTEND;TZID=America/Boise:20271001T090000
DTSTAMP:20260421T083858
CREATED:20250829T220615Z
LAST-MODIFIED:20250829T220617Z
UID:10020935-1822378500-1822381200@freedomfitnessidaho.com
SUMMARY:Surge Strength w/Aley
DESCRIPTION:
URL:https://freedomfitnessidaho.com/event/surge-strength-w-aley-2/2027-10-01/
LOCATION:Freedom Fitness Center\, 757 E Stagecoach Way\, Suite 103\, Kuna\, ID\, 83634\, United States
CATEGORIES:Weights
GEO:43.4833055;-116.4046421
X-APPLE-STRUCTURED-LOCATION;VALUE=URI;X-ADDRESS=Freedom Fitness Center 757 E Stagecoach Way Suite 103 Kuna ID 83634 United States;X-APPLE-RADIUS=500;X-TITLE=757 E Stagecoach Way\, Suite 103:geo:-116.4046421,43.4833055
END:VEVENT
BEGIN:VEVENT
DTSTART;TZID=America/Boise:20271008T081500
DTEND;TZID=America/Boise:20271008T090000
DTSTAMP:20260421T083858
CREATED:20250829T220615Z
LAST-MODIFIED:20250829T220617Z
UID:10020936-1822983300-1822986000@freedomfitnessidaho.com
SUMMARY:Surge Strength w/Aley
DESCRIPTION:
URL:https://freedomfitnessidaho.com/event/surge-strength-w-aley-2/2027-10-08/
LOCATION:Freedom Fitness Center\, 757 E Stagecoach Way\, Suite 103\, Kuna\, ID\, 83634\, United States
CATEGORIES:Weights
GEO:43.4833055;-116.4046421
X-APPLE-STRUCTURED-LOCATION;VALUE=URI;X-ADDRESS=Freedom Fitness Center 757 E Stagecoach Way Suite 103 Kuna ID 83634 United States;X-APPLE-RADIUS=500;X-TITLE=757 E Stagecoach Way\, Suite 103:geo:-116.4046421,43.4833055
END:VEVENT
BEGIN:VEVENT
DTSTART;TZID=America/Boise:20271015T081500
DTEND;TZID=America/Boise:20271015T090000
DTSTAMP:20260421T083858
CREATED:20250829T220615Z
LAST-MODIFIED:20250829T220617Z
UID:10020937-1823588100-1823590800@freedomfitnessidaho.com
SUMMARY:Surge Strength w/Aley
DESCRIPTION:
URL:https://freedomfitnessidaho.com/event/surge-strength-w-aley-2/2027-10-15/
LOCATION:Freedom Fitness Center\, 757 E Stagecoach Way\, Suite 103\, Kuna\, ID\, 83634\, United States
CATEGORIES:Weights
GEO:43.4833055;-116.4046421
X-APPLE-STRUCTURED-LOCATION;VALUE=URI;X-ADDRESS=Freedom Fitness Center 757 E Stagecoach Way Suite 103 Kuna ID 83634 United States;X-APPLE-RADIUS=500;X-TITLE=757 E Stagecoach Way\, Suite 103:geo:-116.4046421,43.4833055
END:VEVENT
BEGIN:VEVENT
DTSTART;TZID=America/Boise:20271022T081500
DTEND;TZID=America/Boise:20271022T090000
DTSTAMP:20260421T083858
CREATED:20250829T220615Z
LAST-MODIFIED:20250829T220617Z
UID:10020938-1824192900-1824195600@freedomfitnessidaho.com
SUMMARY:Surge Strength w/Aley
DESCRIPTION:
URL:https://freedomfitnessidaho.com/event/surge-strength-w-aley-2/2027-10-22/
LOCATION:Freedom Fitness Center\, 757 E Stagecoach Way\, Suite 103\, Kuna\, ID\, 83634\, United States
CATEGORIES:Weights
GEO:43.4833055;-116.4046421
X-APPLE-STRUCTURED-LOCATION;VALUE=URI;X-ADDRESS=Freedom Fitness Center 757 E Stagecoach Way Suite 103 Kuna ID 83634 United States;X-APPLE-RADIUS=500;X-TITLE=757 E Stagecoach Way\, Suite 103:geo:-116.4046421,43.4833055
END:VEVENT
BEGIN:VEVENT
DTSTART;TZID=America/Boise:20271029T081500
DTEND;TZID=America/Boise:20271029T090000
DTSTAMP:20260421T083859
CREATED:20250829T220615Z
LAST-MODIFIED:20250829T220617Z
UID:10020939-1824797700-1824800400@freedomfitnessidaho.com
SUMMARY:Surge Strength w/Aley
DESCRIPTION:
URL:https://freedomfitnessidaho.com/event/surge-strength-w-aley-2/2027-10-29/
LOCATION:Freedom Fitness Center\, 757 E Stagecoach Way\, Suite 103\, Kuna\, ID\, 83634\, United States
CATEGORIES:Weights
GEO:43.4833055;-116.4046421
X-APPLE-STRUCTURED-LOCATION;VALUE=URI;X-ADDRESS=Freedom Fitness Center 757 E Stagecoach Way Suite 103 Kuna ID 83634 United States;X-APPLE-RADIUS=500;X-TITLE=757 E Stagecoach Way\, Suite 103:geo:-116.4046421,43.4833055
END:VEVENT
END:VCALENDAR