BEGIN:VCALENDAR
VERSION:2.0
PRODID:-//Freedom Fitness - ECPv6.2.9//NONSGML v1.0//EN
CALSCALE:GREGORIAN
METHOD:PUBLISH
X-ORIGINAL-URL:https://freedomfitnessidaho.com
X-WR-CALDESC:Events for Freedom Fitness
REFRESH-INTERVAL;VALUE=DURATION:PT1H
X-Robots-Tag:noindex
X-PUBLISHED-TTL:PT1H
BEGIN:VTIMEZONE
TZID:America/Boise
BEGIN:DAYLIGHT
TZOFFSETFROM:-0700
TZOFFSETTO:-0600
TZNAME:MDT
DTSTART:20240310T090000
END:DAYLIGHT
BEGIN:STANDARD
TZOFFSETFROM:-0600
TZOFFSETTO:-0700
TZNAME:MST
DTSTART:20241103T080000
END:STANDARD
BEGIN:DAYLIGHT
TZOFFSETFROM:-0700
TZOFFSETTO:-0600
TZNAME:MDT
DTSTART:20250309T090000
END:DAYLIGHT
BEGIN:STANDARD
TZOFFSETFROM:-0600
TZOFFSETTO:-0700
TZNAME:MST
DTSTART:20251102T080000
END:STANDARD
END:VTIMEZONE
BEGIN:VEVENT
DTSTART;TZID=America/Boise:20241227T101500
DTEND;TZID=America/Boise:20241227T110000
DTSTAMP:20260425T071139
CREATED:20240715T231947Z
LAST-MODIFIED:20241009T195225Z
UID:10026927-1735294500-1735297200@freedomfitnessidaho.com
SUMMARY:Surge Strength w/Aley
DESCRIPTION:
URL:https://freedomfitnessidaho.com/event/surge-strength-w-aley/2024-12-27/
LOCATION:Freedom Fitness Center\, 757 E Stagecoach Way\, Suite 103\, Kuna\, ID\, 83634\, United States
CATEGORIES:Strength Training,Weights
GEO:43.4833055;-116.4046421
X-APPLE-STRUCTURED-LOCATION;VALUE=URI;X-ADDRESS=Freedom Fitness Center 757 E Stagecoach Way Suite 103 Kuna ID 83634 United States;X-APPLE-RADIUS=500;X-TITLE=757 E Stagecoach Way\, Suite 103:geo:-116.4046421,43.4833055
END:VEVENT
BEGIN:VEVENT
DTSTART;TZID=America/Boise:20241228T081500
DTEND;TZID=America/Boise:20241228T090000
DTSTAMP:20260425T071140
CREATED:20240606T033422Z
LAST-MODIFIED:20250224T002257Z
UID:10032822-1735373700-1735376400@freedomfitnessidaho.com
SUMMARY:Cardio Fuse or Surge Strength w/Rotating Instructors
DESCRIPTION:
URL:https://freedomfitnessidaho.com/event/cardio-fuse-or-surge-strength-w-rotating-instructors-2/2024-12-28/
LOCATION:Freedom Fitness Center\, 757 E Stagecoach Way\, Suite 103\, Kuna\, ID\, 83634\, United States
GEO:43.4833055;-116.4046421
X-APPLE-STRUCTURED-LOCATION;VALUE=URI;X-ADDRESS=Freedom Fitness Center 757 E Stagecoach Way Suite 103 Kuna ID 83634 United States;X-APPLE-RADIUS=500;X-TITLE=757 E Stagecoach Way\, Suite 103:geo:-116.4046421,43.4833055
END:VEVENT
BEGIN:VEVENT
DTSTART;TZID=America/Boise:20241230T051000
DTEND;TZID=America/Boise:20241230T060000
DTSTAMP:20260425T071140
CREATED:20241118T031217Z
LAST-MODIFIED:20241118T031217Z
UID:10029616-1735535400-1735538400@freedomfitnessidaho.com
SUMMARY:Tabata w/Rachael
DESCRIPTION:
URL:https://freedomfitnessidaho.com/event/tabata-w-rachael/2024-12-30/
LOCATION:Freedom Fitness Center\, 757 E Stagecoach Way\, Suite 103\, Kuna\, ID\, 83634\, United States
CATEGORIES:Body weight,Cardio,Weights
GEO:43.4833055;-116.4046421
X-APPLE-STRUCTURED-LOCATION;VALUE=URI;X-ADDRESS=Freedom Fitness Center 757 E Stagecoach Way Suite 103 Kuna ID 83634 United States;X-APPLE-RADIUS=500;X-TITLE=757 E Stagecoach Way\, Suite 103:geo:-116.4046421,43.4833055
END:VEVENT
BEGIN:VEVENT
DTSTART;TZID=America/Boise:20241230T081500
DTEND;TZID=America/Boise:20241230T090000
DTSTAMP:20260425T071140
CREATED:20231231T025337Z
LAST-MODIFIED:20231231T025337Z
UID:10019537-1735546500-1735549200@freedomfitnessidaho.com
SUMMARY:Cardio & Weights w/Laci
DESCRIPTION:
URL:https://freedomfitnessidaho.com/event/cardio-weights-w-laci/2024-12-30/
LOCATION:Freedom Fitness Center\, 757 E Stagecoach Way\, Suite 103\, Kuna\, ID\, 83634\, United States
CATEGORIES:Body weight,Cardio,Strength Training,Weights
GEO:43.4833055;-116.4046421
X-APPLE-STRUCTURED-LOCATION;VALUE=URI;X-ADDRESS=Freedom Fitness Center 757 E Stagecoach Way Suite 103 Kuna ID 83634 United States;X-APPLE-RADIUS=500;X-TITLE=757 E Stagecoach Way\, Suite 103:geo:-116.4046421,43.4833055
END:VEVENT
BEGIN:VEVENT
DTSTART;TZID=America/Boise:20241230T101500
DTEND;TZID=America/Boise:20241230T110000
DTSTAMP:20260425T071140
CREATED:20240715T230503Z
LAST-MODIFIED:20240715T230506Z
UID:10026146-1735553700-1735556400@freedomfitnessidaho.com
SUMMARY:Pilates w/Jenna
DESCRIPTION:
URL:https://freedomfitnessidaho.com/event/pilates-w-njenna/2024-12-30/
LOCATION:Freedom Fitness Center\, 757 E Stagecoach Way\, Suite 103\, Kuna\, ID\, 83634\, United States
CATEGORIES:Balance,Body weight,Stetching,Strength Training
GEO:43.4833055;-116.4046421
X-APPLE-STRUCTURED-LOCATION;VALUE=URI;X-ADDRESS=Freedom Fitness Center 757 E Stagecoach Way Suite 103 Kuna ID 83634 United States;X-APPLE-RADIUS=500;X-TITLE=757 E Stagecoach Way\, Suite 103:geo:-116.4046421,43.4833055
END:VEVENT
BEGIN:VEVENT
DTSTART;TZID=America/Boise:20241231T080000
DTEND;TZID=America/Boise:20241231T090000
DTSTAMP:20260425T071140
CREATED:20240903T212029Z
LAST-MODIFIED:20240903T212031Z
UID:10028546-1735632000-1735635600@freedomfitnessidaho.com
SUMMARY:StepIt Fitness w/Rachael
DESCRIPTION:
URL:https://freedomfitnessidaho.com/event/stepit-fitness-w-rachael-2/2024-12-31/
LOCATION:Freedom Fitness Center\, 757 E Stagecoach Way\, Suite 103\, Kuna\, ID\, 83634\, United States
CATEGORIES:Balance,Body weight,Cardio,Steps,Weights
GEO:43.4833055;-116.4046421
X-APPLE-STRUCTURED-LOCATION;VALUE=URI;X-ADDRESS=Freedom Fitness Center 757 E Stagecoach Way Suite 103 Kuna ID 83634 United States;X-APPLE-RADIUS=500;X-TITLE=757 E Stagecoach Way\, Suite 103:geo:-116.4046421,43.4833055
END:VEVENT
BEGIN:VEVENT
DTSTART;TZID=America/Boise:20241231T101500
DTEND;TZID=America/Boise:20241231T110000
DTSTAMP:20260425T071140
CREATED:20240125T211934Z
LAST-MODIFIED:20240128T000314Z
UID:10023212-1735640100-1735642800@freedomfitnessidaho.com
SUMMARY:Yoga w/Shawna
DESCRIPTION:
URL:https://freedomfitnessidaho.com/event/yoga-w-shawna-3/2024-12-31/
LOCATION:Freedom Fitness Center\, 757 E Stagecoach Way\, Suite 103\, Kuna\, ID\, 83634\, United States
CATEGORIES:Yoga
GEO:43.4833055;-116.4046421
X-APPLE-STRUCTURED-LOCATION;VALUE=URI;X-ADDRESS=Freedom Fitness Center 757 E Stagecoach Way Suite 103 Kuna ID 83634 United States;X-APPLE-RADIUS=500;X-TITLE=757 E Stagecoach Way\, Suite 103:geo:-116.4046421,43.4833055
END:VEVENT
BEGIN:VEVENT
DTSTART;TZID=America/Boise:20241231T190000
DTEND;TZID=America/Boise:20241231T194500
DTSTAMP:20260425T071140
CREATED:20240729T195536Z
LAST-MODIFIED:20240729T195537Z
UID:10028283-1735671600-1735674300@freedomfitnessidaho.com
SUMMARY:Zumba w/Janine
DESCRIPTION:
URL:https://freedomfitnessidaho.com/event/zumba-w-janine-2-2/2024-12-31/
LOCATION:Freedom Fitness Center\, 757 E Stagecoach Way\, Suite 103\, Kuna\, ID\, 83634\, United States
CATEGORIES:Cardio,Dance
GEO:43.4833055;-116.4046421
X-APPLE-STRUCTURED-LOCATION;VALUE=URI;X-ADDRESS=Freedom Fitness Center 757 E Stagecoach Way Suite 103 Kuna ID 83634 United States;X-APPLE-RADIUS=500;X-TITLE=757 E Stagecoach Way\, Suite 103:geo:-116.4046421,43.4833055
END:VEVENT
BEGIN:VEVENT
DTSTART;TZID=America/Boise:20250101T091500
DTEND;TZID=America/Boise:20250101T100500
DTSTAMP:20260425T071140
CREATED:20240903T214052Z
LAST-MODIFIED:20240903T214315Z
UID:10029344-1735722900-1735725900@freedomfitnessidaho.com
SUMMARY:Pound w/Jenna
DESCRIPTION:
URL:https://freedomfitnessidaho.com/event/pound-w-jenna/2025-01-01/
LOCATION:Freedom Fitness Center\, 757 E Stagecoach Way\, Suite 103\, Kuna\, ID\, 83634\, United States
CATEGORIES:Cardio,Core,Dance,Drum sticks,Focus,Low Impact
GEO:43.4833055;-116.4046421
X-APPLE-STRUCTURED-LOCATION;VALUE=URI;X-ADDRESS=Freedom Fitness Center 757 E Stagecoach Way Suite 103 Kuna ID 83634 United States;X-APPLE-RADIUS=500;X-TITLE=757 E Stagecoach Way\, Suite 103:geo:-116.4046421,43.4833055
END:VEVENT
BEGIN:VEVENT
DTSTART;TZID=America/Boise:20250101T102000
DTEND;TZID=America/Boise:20250101T110500
DTSTAMP:20260425T071140
CREATED:20231231T025810Z
LAST-MODIFIED:20231231T025811Z
UID:10020319-1735726800-1735729500@freedomfitnessidaho.com
SUMMARY:Silver Sneakers w/Rachael
DESCRIPTION:
URL:https://freedomfitnessidaho.com/event/silver-sneakers-w-rachael-2/2025-01-01/
LOCATION:Freedom Fitness Center\, 757 E Stagecoach Way\, Suite 103\, Kuna\, ID\, 83634\, United States
CATEGORIES:Balance,Ball,Body weight,Cardio,Chair,Focus,Low Impact,Resistance bands,Weights
GEO:43.4833055;-116.4046421
X-APPLE-STRUCTURED-LOCATION;VALUE=URI;X-ADDRESS=Freedom Fitness Center 757 E Stagecoach Way Suite 103 Kuna ID 83634 United States;X-APPLE-RADIUS=500;X-TITLE=757 E Stagecoach Way\, Suite 103:geo:-116.4046421,43.4833055
END:VEVENT
BEGIN:VEVENT
DTSTART;TZID=America/Boise:20250101T181500
DTEND;TZID=America/Boise:20250101T190000
DTSTAMP:20260425T071140
CREATED:20241118T031852Z
LAST-MODIFIED:20241118T031852Z
UID:10029883-1735755300-1735758000@freedomfitnessidaho.com
SUMMARY:Bootcamp or High Fitness
DESCRIPTION:
URL:https://freedomfitnessidaho.com/event/bootcamp-or-high-fitness/2025-01-01/
LOCATION:Freedom Fitness Center\, 757 E Stagecoach Way\, Suite 103\, Kuna\, ID\, 83634\, United States
CATEGORIES:Body weight,Cardio,Strength Training,Weights
GEO:43.4833055;-116.4046421
X-APPLE-STRUCTURED-LOCATION;VALUE=URI;X-ADDRESS=Freedom Fitness Center 757 E Stagecoach Way Suite 103 Kuna ID 83634 United States;X-APPLE-RADIUS=500;X-TITLE=757 E Stagecoach Way\, Suite 103:geo:-116.4046421,43.4833055
END:VEVENT
BEGIN:VEVENT
DTSTART;TZID=America/Boise:20250102T080000
DTEND;TZID=America/Boise:20250102T090000
DTSTAMP:20260425T071140
CREATED:20240125T211642Z
LAST-MODIFIED:20240430T231136Z
UID:10025342-1735804800-1735808400@freedomfitnessidaho.com
SUMMARY:Yoga w/Shawna
DESCRIPTION:
URL:https://freedomfitnessidaho.com/event/yoga-w-shawna-2-2/2025-01-02/
LOCATION:Freedom Fitness Center\, 757 E Stagecoach Way\, Suite 103\, Kuna\, ID\, 83634\, United States
CATEGORIES:Balance,Body weight,Core,Focus,Low Impact,Stetching,Yoga
GEO:43.4833055;-116.4046421
X-APPLE-STRUCTURED-LOCATION;VALUE=URI;X-ADDRESS=Freedom Fitness Center 757 E Stagecoach Way Suite 103 Kuna ID 83634 United States;X-APPLE-RADIUS=500;X-TITLE=757 E Stagecoach Way\, Suite 103:geo:-116.4046421,43.4833055
END:VEVENT
BEGIN:VEVENT
DTSTART;TZID=America/Boise:20250102T101500
DTEND;TZID=America/Boise:20250102T110000
DTSTAMP:20260425T071140
CREATED:20240715T230849Z
LAST-MODIFIED:20240715T230850Z
UID:10027453-1735812900-1735815600@freedomfitnessidaho.com
SUMMARY:Barre w/Grace
DESCRIPTION:
URL:https://freedomfitnessidaho.com/event/barre-w-grace-2-2/2025-01-02/
LOCATION:Freedom Fitness Center\, 757 E Stagecoach Way\, Suite 103\, Kuna\, ID\, 83634\, United States
CATEGORIES:Balance,Ball,Body weight,Chair,Weights
GEO:43.4833055;-116.4046421
X-APPLE-STRUCTURED-LOCATION;VALUE=URI;X-ADDRESS=Freedom Fitness Center 757 E Stagecoach Way Suite 103 Kuna ID 83634 United States;X-APPLE-RADIUS=500;X-TITLE=757 E Stagecoach Way\, Suite 103:geo:-116.4046421,43.4833055
END:VEVENT
BEGIN:VEVENT
DTSTART;TZID=America/Boise:20250102T181500
DTEND;TZID=America/Boise:20250102T190000
DTSTAMP:20260425T071140
CREATED:20250108T203401Z
LAST-MODIFIED:20250108T203401Z
UID:10030138-1735841700-1735844400@freedomfitnessidaho.com
SUMMARY:Pumped Up Strength w/Natalie
DESCRIPTION:
URL:https://freedomfitnessidaho.com/event/pumped-up-strength-w-natalie-4/2025-01-02/
LOCATION:Freedom Fitness Center\, 757 E Stagecoach Way\, Suite 103\, Kuna\, ID\, 83634\, United States
CATEGORIES:Weights
GEO:43.4833055;-116.4046421
X-APPLE-STRUCTURED-LOCATION;VALUE=URI;X-ADDRESS=Freedom Fitness Center 757 E Stagecoach Way Suite 103 Kuna ID 83634 United States;X-APPLE-RADIUS=500;X-TITLE=757 E Stagecoach Way\, Suite 103:geo:-116.4046421,43.4833055
END:VEVENT
BEGIN:VEVENT
DTSTART;TZID=America/Boise:20250103T051000
DTEND;TZID=America/Boise:20250103T060000
DTSTAMP:20260425T071140
CREATED:20240903T212628Z
LAST-MODIFIED:20240903T212629Z
UID:10028023-1735881000-1735884000@freedomfitnessidaho.com
SUMMARY:Pumped Up Strength w/Allison
DESCRIPTION:
URL:https://freedomfitnessidaho.com/event/pumped-up-strength-w-allison-3/2025-01-03/
LOCATION:Freedom Fitness Center\, 757 E Stagecoach Way\, Suite 103\, Kuna\, ID\, 83634\, United States
CATEGORIES:Strength Training,Weights
GEO:43.4833055;-116.4046421
X-APPLE-STRUCTURED-LOCATION;VALUE=URI;X-ADDRESS=Freedom Fitness Center 757 E Stagecoach Way Suite 103 Kuna ID 83634 United States;X-APPLE-RADIUS=500;X-TITLE=757 E Stagecoach Way\, Suite 103:geo:-116.4046421,43.4833055
END:VEVENT
BEGIN:VEVENT
DTSTART;TZID=America/Boise:20250103T081500
DTEND;TZID=America/Boise:20250103T090000
DTSTAMP:20260425T071140
CREATED:20240903T212201Z
LAST-MODIFIED:20240903T212203Z
UID:10020792-1735892100-1735894800@freedomfitnessidaho.com
SUMMARY:AMPD Strength w/Rachael
DESCRIPTION:
URL:https://freedomfitnessidaho.com/event/kickboxing-w-rachael-2021-10-08-2022-08-01-2022-08-29-3-2/2025-01-03/
LOCATION:Freedom Fitness Center\, 757 E Stagecoach Way\, Suite 103\, Kuna\, ID\, 83634\, United States
CATEGORIES:Strength Training,Weights
GEO:43.4833055;-116.4046421
X-APPLE-STRUCTURED-LOCATION;VALUE=URI;X-ADDRESS=Freedom Fitness Center 757 E Stagecoach Way Suite 103 Kuna ID 83634 United States;X-APPLE-RADIUS=500;X-TITLE=757 E Stagecoach Way\, Suite 103:geo:-116.4046421,43.4833055
END:VEVENT
BEGIN:VEVENT
DTSTART;TZID=America/Boise:20250103T091500
DTEND;TZID=America/Boise:20250103T100000
DTSTAMP:20260425T071140
CREATED:20240903T213554Z
LAST-MODIFIED:20240903T213556Z
UID:10021003-1735895700-1735898400@freedomfitnessidaho.com
SUMMARY:Zumba Sentao w/Carrie
DESCRIPTION:
URL:https://freedomfitnessidaho.com/event/zumba-sentao-w-carrie/2025-01-03/
LOCATION:Freedom Fitness Center\, 757 E Stagecoach Way\, Suite 103\, Kuna\, ID\, 83634\, United States
CATEGORIES:Body weight,Cardio,Chair,Core,Resistance bands,Seniors,Strength Training,Weights
GEO:43.4833055;-116.4046421
X-APPLE-STRUCTURED-LOCATION;VALUE=URI;X-ADDRESS=Freedom Fitness Center 757 E Stagecoach Way Suite 103 Kuna ID 83634 United States;X-APPLE-RADIUS=500;X-TITLE=757 E Stagecoach Way\, Suite 103:geo:-116.4046421,43.4833055
END:VEVENT
BEGIN:VEVENT
DTSTART;TZID=America/Boise:20250103T101500
DTEND;TZID=America/Boise:20250103T110000
DTSTAMP:20260425T071140
CREATED:20240715T231947Z
LAST-MODIFIED:20241009T195225Z
UID:10026928-1735899300-1735902000@freedomfitnessidaho.com
SUMMARY:Surge Strength w/Aley
DESCRIPTION:
URL:https://freedomfitnessidaho.com/event/surge-strength-w-aley/2025-01-03/
LOCATION:Freedom Fitness Center\, 757 E Stagecoach Way\, Suite 103\, Kuna\, ID\, 83634\, United States
CATEGORIES:Strength Training,Weights
GEO:43.4833055;-116.4046421
X-APPLE-STRUCTURED-LOCATION;VALUE=URI;X-ADDRESS=Freedom Fitness Center 757 E Stagecoach Way Suite 103 Kuna ID 83634 United States;X-APPLE-RADIUS=500;X-TITLE=757 E Stagecoach Way\, Suite 103:geo:-116.4046421,43.4833055
END:VEVENT
BEGIN:VEVENT
DTSTART;TZID=America/Boise:20250104T081500
DTEND;TZID=America/Boise:20250104T090000
DTSTAMP:20260425T071140
CREATED:20240606T033422Z
LAST-MODIFIED:20250224T002257Z
UID:10032823-1735978500-1735981200@freedomfitnessidaho.com
SUMMARY:Cardio Fuse or Surge Strength w/Rotating Instructors
DESCRIPTION:
URL:https://freedomfitnessidaho.com/event/cardio-fuse-or-surge-strength-w-rotating-instructors-2/2025-01-04/
LOCATION:Freedom Fitness Center\, 757 E Stagecoach Way\, Suite 103\, Kuna\, ID\, 83634\, United States
GEO:43.4833055;-116.4046421
X-APPLE-STRUCTURED-LOCATION;VALUE=URI;X-ADDRESS=Freedom Fitness Center 757 E Stagecoach Way Suite 103 Kuna ID 83634 United States;X-APPLE-RADIUS=500;X-TITLE=757 E Stagecoach Way\, Suite 103:geo:-116.4046421,43.4833055
END:VEVENT
BEGIN:VEVENT
DTSTART;TZID=America/Boise:20250106T051000
DTEND;TZID=America/Boise:20250106T060000
DTSTAMP:20260425T071140
CREATED:20241118T031217Z
LAST-MODIFIED:20241118T031217Z
UID:10029617-1736140200-1736143200@freedomfitnessidaho.com
SUMMARY:Tabata w/Rachael
DESCRIPTION:
URL:https://freedomfitnessidaho.com/event/tabata-w-rachael/2025-01-06/
LOCATION:Freedom Fitness Center\, 757 E Stagecoach Way\, Suite 103\, Kuna\, ID\, 83634\, United States
CATEGORIES:Body weight,Cardio,Weights
GEO:43.4833055;-116.4046421
X-APPLE-STRUCTURED-LOCATION;VALUE=URI;X-ADDRESS=Freedom Fitness Center 757 E Stagecoach Way Suite 103 Kuna ID 83634 United States;X-APPLE-RADIUS=500;X-TITLE=757 E Stagecoach Way\, Suite 103:geo:-116.4046421,43.4833055
END:VEVENT
BEGIN:VEVENT
DTSTART;TZID=America/Boise:20250106T081500
DTEND;TZID=America/Boise:20250106T090000
DTSTAMP:20260425T071140
CREATED:20231231T025337Z
LAST-MODIFIED:20231231T025337Z
UID:10019538-1736151300-1736154000@freedomfitnessidaho.com
SUMMARY:Cardio & Weights w/Laci
DESCRIPTION:
URL:https://freedomfitnessidaho.com/event/cardio-weights-w-laci/2025-01-06/
LOCATION:Freedom Fitness Center\, 757 E Stagecoach Way\, Suite 103\, Kuna\, ID\, 83634\, United States
CATEGORIES:Body weight,Cardio,Strength Training,Weights
GEO:43.4833055;-116.4046421
X-APPLE-STRUCTURED-LOCATION;VALUE=URI;X-ADDRESS=Freedom Fitness Center 757 E Stagecoach Way Suite 103 Kuna ID 83634 United States;X-APPLE-RADIUS=500;X-TITLE=757 E Stagecoach Way\, Suite 103:geo:-116.4046421,43.4833055
END:VEVENT
BEGIN:VEVENT
DTSTART;TZID=America/Boise:20250106T101500
DTEND;TZID=America/Boise:20250106T110000
DTSTAMP:20260425T071140
CREATED:20240715T230503Z
LAST-MODIFIED:20240715T230506Z
UID:10026147-1736158500-1736161200@freedomfitnessidaho.com
SUMMARY:Pilates w/Jenna
DESCRIPTION:
URL:https://freedomfitnessidaho.com/event/pilates-w-njenna/2025-01-06/
LOCATION:Freedom Fitness Center\, 757 E Stagecoach Way\, Suite 103\, Kuna\, ID\, 83634\, United States
CATEGORIES:Balance,Body weight,Stetching,Strength Training
GEO:43.4833055;-116.4046421
X-APPLE-STRUCTURED-LOCATION;VALUE=URI;X-ADDRESS=Freedom Fitness Center 757 E Stagecoach Way Suite 103 Kuna ID 83634 United States;X-APPLE-RADIUS=500;X-TITLE=757 E Stagecoach Way\, Suite 103:geo:-116.4046421,43.4833055
END:VEVENT
BEGIN:VEVENT
DTSTART;TZID=America/Boise:20250107T080000
DTEND;TZID=America/Boise:20250107T090000
DTSTAMP:20260425T071140
CREATED:20240903T212029Z
LAST-MODIFIED:20240903T212031Z
UID:10028547-1736236800-1736240400@freedomfitnessidaho.com
SUMMARY:StepIt Fitness w/Rachael
DESCRIPTION:
URL:https://freedomfitnessidaho.com/event/stepit-fitness-w-rachael-2/2025-01-07/
LOCATION:Freedom Fitness Center\, 757 E Stagecoach Way\, Suite 103\, Kuna\, ID\, 83634\, United States
CATEGORIES:Balance,Body weight,Cardio,Steps,Weights
GEO:43.4833055;-116.4046421
X-APPLE-STRUCTURED-LOCATION;VALUE=URI;X-ADDRESS=Freedom Fitness Center 757 E Stagecoach Way Suite 103 Kuna ID 83634 United States;X-APPLE-RADIUS=500;X-TITLE=757 E Stagecoach Way\, Suite 103:geo:-116.4046421,43.4833055
END:VEVENT
BEGIN:VEVENT
DTSTART;TZID=America/Boise:20250107T101500
DTEND;TZID=America/Boise:20250107T110000
DTSTAMP:20260425T071140
CREATED:20240125T211934Z
LAST-MODIFIED:20240128T000314Z
UID:10023213-1736244900-1736247600@freedomfitnessidaho.com
SUMMARY:Yoga w/Shawna
DESCRIPTION:
URL:https://freedomfitnessidaho.com/event/yoga-w-shawna-3/2025-01-07/
LOCATION:Freedom Fitness Center\, 757 E Stagecoach Way\, Suite 103\, Kuna\, ID\, 83634\, United States
CATEGORIES:Yoga
GEO:43.4833055;-116.4046421
X-APPLE-STRUCTURED-LOCATION;VALUE=URI;X-ADDRESS=Freedom Fitness Center 757 E Stagecoach Way Suite 103 Kuna ID 83634 United States;X-APPLE-RADIUS=500;X-TITLE=757 E Stagecoach Way\, Suite 103:geo:-116.4046421,43.4833055
END:VEVENT
BEGIN:VEVENT
DTSTART;TZID=America/Boise:20250107T190000
DTEND;TZID=America/Boise:20250107T194500
DTSTAMP:20260425T071140
CREATED:20240729T195536Z
LAST-MODIFIED:20240729T195537Z
UID:10028284-1736276400-1736279100@freedomfitnessidaho.com
SUMMARY:Zumba w/Janine
DESCRIPTION:
URL:https://freedomfitnessidaho.com/event/zumba-w-janine-2-2/2025-01-07/
LOCATION:Freedom Fitness Center\, 757 E Stagecoach Way\, Suite 103\, Kuna\, ID\, 83634\, United States
CATEGORIES:Cardio,Dance
GEO:43.4833055;-116.4046421
X-APPLE-STRUCTURED-LOCATION;VALUE=URI;X-ADDRESS=Freedom Fitness Center 757 E Stagecoach Way Suite 103 Kuna ID 83634 United States;X-APPLE-RADIUS=500;X-TITLE=757 E Stagecoach Way\, Suite 103:geo:-116.4046421,43.4833055
END:VEVENT
BEGIN:VEVENT
DTSTART;TZID=America/Boise:20250108T091500
DTEND;TZID=America/Boise:20250108T100500
DTSTAMP:20260425T071140
CREATED:20240903T214052Z
LAST-MODIFIED:20240903T214315Z
UID:10029345-1736327700-1736330700@freedomfitnessidaho.com
SUMMARY:Pound w/Jenna
DESCRIPTION:
URL:https://freedomfitnessidaho.com/event/pound-w-jenna/2025-01-08/
LOCATION:Freedom Fitness Center\, 757 E Stagecoach Way\, Suite 103\, Kuna\, ID\, 83634\, United States
CATEGORIES:Cardio,Core,Dance,Drum sticks,Focus,Low Impact
GEO:43.4833055;-116.4046421
X-APPLE-STRUCTURED-LOCATION;VALUE=URI;X-ADDRESS=Freedom Fitness Center 757 E Stagecoach Way Suite 103 Kuna ID 83634 United States;X-APPLE-RADIUS=500;X-TITLE=757 E Stagecoach Way\, Suite 103:geo:-116.4046421,43.4833055
END:VEVENT
BEGIN:VEVENT
DTSTART;TZID=America/Boise:20250108T102000
DTEND;TZID=America/Boise:20250108T110500
DTSTAMP:20260425T071140
CREATED:20231231T025810Z
LAST-MODIFIED:20231231T025811Z
UID:10020320-1736331600-1736334300@freedomfitnessidaho.com
SUMMARY:Silver Sneakers w/Rachael
DESCRIPTION:
URL:https://freedomfitnessidaho.com/event/silver-sneakers-w-rachael-2/2025-01-08/
LOCATION:Freedom Fitness Center\, 757 E Stagecoach Way\, Suite 103\, Kuna\, ID\, 83634\, United States
CATEGORIES:Balance,Ball,Body weight,Cardio,Chair,Focus,Low Impact,Resistance bands,Weights
GEO:43.4833055;-116.4046421
X-APPLE-STRUCTURED-LOCATION;VALUE=URI;X-ADDRESS=Freedom Fitness Center 757 E Stagecoach Way Suite 103 Kuna ID 83634 United States;X-APPLE-RADIUS=500;X-TITLE=757 E Stagecoach Way\, Suite 103:geo:-116.4046421,43.4833055
END:VEVENT
BEGIN:VEVENT
DTSTART;TZID=America/Boise:20250108T181500
DTEND;TZID=America/Boise:20250108T190000
DTSTAMP:20260425T071140
CREATED:20250108T203614Z
LAST-MODIFIED:20250108T203616Z
UID:10029884-1736360100-1736362800@freedomfitnessidaho.com
SUMMARY:Bootcamp or Surge Fit
DESCRIPTION:
URL:https://freedomfitnessidaho.com/event/bootcamp-or-surge-fit/2025-01-08/
LOCATION:Freedom Fitness Center\, 757 E Stagecoach Way\, Suite 103\, Kuna\, ID\, 83634\, United States
CATEGORIES:Body weight,Cardio,Strength Training,Weights
GEO:43.4833055;-116.4046421
X-APPLE-STRUCTURED-LOCATION;VALUE=URI;X-ADDRESS=Freedom Fitness Center 757 E Stagecoach Way Suite 103 Kuna ID 83634 United States;X-APPLE-RADIUS=500;X-TITLE=757 E Stagecoach Way\, Suite 103:geo:-116.4046421,43.4833055
END:VEVENT
BEGIN:VEVENT
DTSTART;TZID=America/Boise:20250109T080000
DTEND;TZID=America/Boise:20250109T090000
DTSTAMP:20260425T071140
CREATED:20240125T211642Z
LAST-MODIFIED:20240430T231136Z
UID:10025343-1736409600-1736413200@freedomfitnessidaho.com
SUMMARY:Yoga w/Shawna
DESCRIPTION:
URL:https://freedomfitnessidaho.com/event/yoga-w-shawna-2-2/2025-01-09/
LOCATION:Freedom Fitness Center\, 757 E Stagecoach Way\, Suite 103\, Kuna\, ID\, 83634\, United States
CATEGORIES:Balance,Body weight,Core,Focus,Low Impact,Stetching,Yoga
GEO:43.4833055;-116.4046421
X-APPLE-STRUCTURED-LOCATION;VALUE=URI;X-ADDRESS=Freedom Fitness Center 757 E Stagecoach Way Suite 103 Kuna ID 83634 United States;X-APPLE-RADIUS=500;X-TITLE=757 E Stagecoach Way\, Suite 103:geo:-116.4046421,43.4833055
END:VEVENT
BEGIN:VEVENT
DTSTART;TZID=America/Boise:20250109T101500
DTEND;TZID=America/Boise:20250109T110000
DTSTAMP:20260425T071140
CREATED:20240715T230849Z
LAST-MODIFIED:20240715T230850Z
UID:10027454-1736417700-1736420400@freedomfitnessidaho.com
SUMMARY:Barre w/Grace
DESCRIPTION:
URL:https://freedomfitnessidaho.com/event/barre-w-grace-2-2/2025-01-09/
LOCATION:Freedom Fitness Center\, 757 E Stagecoach Way\, Suite 103\, Kuna\, ID\, 83634\, United States
CATEGORIES:Balance,Ball,Body weight,Chair,Weights
GEO:43.4833055;-116.4046421
X-APPLE-STRUCTURED-LOCATION;VALUE=URI;X-ADDRESS=Freedom Fitness Center 757 E Stagecoach Way Suite 103 Kuna ID 83634 United States;X-APPLE-RADIUS=500;X-TITLE=757 E Stagecoach Way\, Suite 103:geo:-116.4046421,43.4833055
END:VEVENT
END:VCALENDAR