BEGIN:VCALENDAR
VERSION:2.0
PRODID:-//Freedom Fitness - ECPv6.2.9//NONSGML v1.0//EN
CALSCALE:GREGORIAN
METHOD:PUBLISH
X-ORIGINAL-URL:https://freedomfitnessidaho.com
X-WR-CALDESC:Events for Freedom Fitness
REFRESH-INTERVAL;VALUE=DURATION:PT1H
X-Robots-Tag:noindex
X-PUBLISHED-TTL:PT1H
BEGIN:VTIMEZONE
TZID:America/Boise
BEGIN:DAYLIGHT
TZOFFSETFROM:-0700
TZOFFSETTO:-0600
TZNAME:MDT
DTSTART:20260308T090000
END:DAYLIGHT
BEGIN:STANDARD
TZOFFSETFROM:-0600
TZOFFSETTO:-0700
TZNAME:MST
DTSTART:20261101T080000
END:STANDARD
END:VTIMEZONE
BEGIN:VEVENT
DTSTART;TZID=America/Boise:20260925T051000
DTEND;TZID=America/Boise:20260925T060000
DTSTAMP:20260423T154010
CREATED:20260105T164706Z
LAST-MODIFIED:20260105T164708Z
UID:10035587-1790313000-1790316000@freedomfitnessidaho.com
SUMMARY:AMPD Strength w/Rachael
DESCRIPTION:
URL:https://freedomfitnessidaho.com/event/ampd-strength-w-rachael/2026-09-25/
LOCATION:Freedom Fitness Center\, 757 E Stagecoach Way\, Suite 103\, Kuna\, ID\, 83634\, United States
CATEGORIES:Body bar,Body weight,Cardio,Low Impact,Weights
GEO:43.4833055;-116.4046421
X-APPLE-STRUCTURED-LOCATION;VALUE=URI;X-ADDRESS=Freedom Fitness Center 757 E Stagecoach Way Suite 103 Kuna ID 83634 United States;X-APPLE-RADIUS=500;X-TITLE=757 E Stagecoach Way\, Suite 103:geo:-116.4046421,43.4833055
END:VEVENT
BEGIN:VEVENT
DTSTART;TZID=America/Boise:20260925T081500
DTEND;TZID=America/Boise:20260925T090000
DTSTAMP:20260423T154010
CREATED:20250829T220615Z
LAST-MODIFIED:20250829T220617Z
UID:10020882-1790324100-1790326800@freedomfitnessidaho.com
SUMMARY:Surge Strength w/Aley
DESCRIPTION:
URL:https://freedomfitnessidaho.com/event/surge-strength-w-aley-2/2026-09-25/
LOCATION:Freedom Fitness Center\, 757 E Stagecoach Way\, Suite 103\, Kuna\, ID\, 83634\, United States
CATEGORIES:Weights
GEO:43.4833055;-116.4046421
X-APPLE-STRUCTURED-LOCATION;VALUE=URI;X-ADDRESS=Freedom Fitness Center 757 E Stagecoach Way Suite 103 Kuna ID 83634 United States;X-APPLE-RADIUS=500;X-TITLE=757 E Stagecoach Way\, Suite 103:geo:-116.4046421,43.4833055
END:VEVENT
BEGIN:VEVENT
DTSTART;TZID=America/Boise:20260925T091500
DTEND;TZID=America/Boise:20260925T100000
DTSTAMP:20260423T154010
CREATED:20240903T213554Z
LAST-MODIFIED:20240903T213556Z
UID:10021093-1790327700-1790330400@freedomfitnessidaho.com
SUMMARY:Zumba Sentao w/Carrie
DESCRIPTION:
URL:https://freedomfitnessidaho.com/event/zumba-sentao-w-carrie/2026-09-25/
LOCATION:Freedom Fitness Center\, 757 E Stagecoach Way\, Suite 103\, Kuna\, ID\, 83634\, United States
CATEGORIES:Body weight,Cardio,Chair,Core,Resistance bands,Seniors,Strength Training,Weights
GEO:43.4833055;-116.4046421
X-APPLE-STRUCTURED-LOCATION;VALUE=URI;X-ADDRESS=Freedom Fitness Center 757 E Stagecoach Way Suite 103 Kuna ID 83634 United States;X-APPLE-RADIUS=500;X-TITLE=757 E Stagecoach Way\, Suite 103:geo:-116.4046421,43.4833055
END:VEVENT
BEGIN:VEVENT
DTSTART;TZID=America/Boise:20260925T101500
DTEND;TZID=America/Boise:20260925T110000
DTSTAMP:20260423T154010
CREATED:20250331T145557Z
LAST-MODIFIED:20250331T145559Z
UID:10027018-1790331300-1790334000@freedomfitnessidaho.com
SUMMARY:Pumped Up Strength W/Natalie
DESCRIPTION:
URL:https://freedomfitnessidaho.com/event/pumped-up-strength-w-natalie-5/2026-09-25/
LOCATION:Freedom Fitness Center\, 757 E Stagecoach Way\, Suite 103\, Kuna\, ID\, 83634\, United States
CATEGORIES:Strength Training,Weights
GEO:43.4833055;-116.4046421
X-APPLE-STRUCTURED-LOCATION;VALUE=URI;X-ADDRESS=Freedom Fitness Center 757 E Stagecoach Way Suite 103 Kuna ID 83634 United States;X-APPLE-RADIUS=500;X-TITLE=757 E Stagecoach Way\, Suite 103:geo:-116.4046421,43.4833055
END:VEVENT
BEGIN:VEVENT
DTSTART;TZID=America/Boise:20260926T091500
DTEND;TZID=America/Boise:20260926T100000
DTSTAMP:20260423T154010
CREATED:20250506T002139Z
LAST-MODIFIED:20250506T002140Z
UID:10033668-1790414100-1790416800@freedomfitnessidaho.com
SUMMARY:Cardio Fuse or Surge Strength w/Rotating Instructors
DESCRIPTION:
URL:https://freedomfitnessidaho.com/event/cardio-fuse-or-surge-strength-w-rotating-instructors-2-2/2026-09-26/
LOCATION:Freedom Fitness Center\, 757 E Stagecoach Way\, Suite 103\, Kuna\, ID\, 83634\, United States
GEO:43.4833055;-116.4046421
X-APPLE-STRUCTURED-LOCATION;VALUE=URI;X-ADDRESS=Freedom Fitness Center 757 E Stagecoach Way Suite 103 Kuna ID 83634 United States;X-APPLE-RADIUS=500;X-TITLE=757 E Stagecoach Way\, Suite 103:geo:-116.4046421,43.4833055
END:VEVENT
BEGIN:VEVENT
DTSTART;TZID=America/Boise:20260928T051000
DTEND;TZID=America/Boise:20260928T060000
DTSTAMP:20260423T154010
CREATED:20260105T140411Z
LAST-MODIFIED:20260105T140414Z
UID:10035846-1790572200-1790575200@freedomfitnessidaho.com
SUMMARY:StepIt Strength w/Rachael
DESCRIPTION:
URL:https://freedomfitnessidaho.com/event/stepit-strength-w-rachael/2026-09-28/
LOCATION:Freedom Fitness Center\, 757 E Stagecoach Way\, Suite 103\, Kuna\, ID\, 83634\, United States
CATEGORIES:Functional Movement,Steps,Strength Training,Weights
GEO:43.4833055;-116.4046421
X-APPLE-STRUCTURED-LOCATION;VALUE=URI;X-ADDRESS=Freedom Fitness Center 757 E Stagecoach Way Suite 103 Kuna ID 83634 United States;X-APPLE-RADIUS=500;X-TITLE=757 E Stagecoach Way\, Suite 103:geo:-116.4046421,43.4833055
END:VEVENT
BEGIN:VEVENT
DTSTART;TZID=America/Boise:20260928T081500
DTEND;TZID=America/Boise:20260928T090000
DTSTAMP:20260423T154010
CREATED:20231231T025337Z
LAST-MODIFIED:20231231T025337Z
UID:10019628-1790583300-1790586000@freedomfitnessidaho.com
SUMMARY:Cardio & Weights w/Laci
DESCRIPTION:
URL:https://freedomfitnessidaho.com/event/cardio-weights-w-laci/2026-09-28/
LOCATION:Freedom Fitness Center\, 757 E Stagecoach Way\, Suite 103\, Kuna\, ID\, 83634\, United States
CATEGORIES:Body weight,Cardio,Strength Training,Weights
GEO:43.4833055;-116.4046421
X-APPLE-STRUCTURED-LOCATION;VALUE=URI;X-ADDRESS=Freedom Fitness Center 757 E Stagecoach Way Suite 103 Kuna ID 83634 United States;X-APPLE-RADIUS=500;X-TITLE=757 E Stagecoach Way\, Suite 103:geo:-116.4046421,43.4833055
END:VEVENT
BEGIN:VEVENT
DTSTART;TZID=America/Boise:20260928T091500
DTEND;TZID=America/Boise:20260928T100000
DTSTAMP:20260423T154010
CREATED:20250204T185335Z
LAST-MODIFIED:20250204T185335Z
UID:10032095-1790586900-1790589600@freedomfitnessidaho.com
SUMMARY:Silver Sneakers w/Angela
DESCRIPTION:
URL:https://freedomfitnessidaho.com/event/silver-sneakers-w-angela/2026-09-28/
LOCATION:Freedom Fitness Center\, 757 E Stagecoach Way\, Suite 103\, Kuna\, ID\, 83634\, United States
CATEGORIES:Balance,Ball,Cardio,Chair,Low Impact,Seniors,Weights
GEO:43.4833055;-116.4046421
X-APPLE-STRUCTURED-LOCATION;VALUE=URI;X-ADDRESS=Freedom Fitness Center 757 E Stagecoach Way Suite 103 Kuna ID 83634 United States;X-APPLE-RADIUS=500;X-TITLE=757 E Stagecoach Way\, Suite 103:geo:-116.4046421,43.4833055
END:VEVENT
BEGIN:VEVENT
DTSTART;TZID=America/Boise:20260928T101500
DTEND;TZID=America/Boise:20260928T110000
DTSTAMP:20260423T154010
CREATED:20250602T225923Z
LAST-MODIFIED:20250602T225925Z
UID:10026237-1790590500-1790593200@freedomfitnessidaho.com
SUMMARY:Pilates w/Jenna
DESCRIPTION:
URL:https://freedomfitnessidaho.com/event/pilates-w-jenna-4/2026-09-28/
LOCATION:Freedom Fitness Center\, 757 E Stagecoach Way\, Suite 103\, Kuna\, ID\, 83634\, United States
CATEGORIES:Balance,Body weight,Stetching,Strength Training
GEO:43.4833055;-116.4046421
X-APPLE-STRUCTURED-LOCATION;VALUE=URI;X-ADDRESS=Freedom Fitness Center 757 E Stagecoach Way Suite 103 Kuna ID 83634 United States;X-APPLE-RADIUS=500;X-TITLE=757 E Stagecoach Way\, Suite 103:geo:-116.4046421,43.4833055
END:VEVENT
BEGIN:VEVENT
DTSTART;TZID=America/Boise:20260928T181500
DTEND;TZID=America/Boise:20260928T190000
DTSTAMP:20260423T154010
CREATED:20250204T185129Z
LAST-MODIFIED:20250204T185129Z
UID:10031833-1790619300-1790622000@freedomfitnessidaho.com
SUMMARY:Cardio Fuse w/Kelsey
DESCRIPTION:
URL:https://freedomfitnessidaho.com/event/cardio-fuse-w-kelsey-4/2026-09-28/
LOCATION:Freedom Fitness Center\, 757 E Stagecoach Way\, Suite 103\, Kuna\, ID\, 83634\, United States
CATEGORIES:Cardio,Loop band
GEO:43.4833055;-116.4046421
X-APPLE-STRUCTURED-LOCATION;VALUE=URI;X-ADDRESS=Freedom Fitness Center 757 E Stagecoach Way Suite 103 Kuna ID 83634 United States;X-APPLE-RADIUS=500;X-TITLE=757 E Stagecoach Way\, Suite 103:geo:-116.4046421,43.4833055
END:VEVENT
BEGIN:VEVENT
DTSTART;TZID=America/Boise:20260929T080000
DTEND;TZID=America/Boise:20260929T090000
DTSTAMP:20260423T154010
CREATED:20250830T013810Z
LAST-MODIFIED:20250830T013812Z
UID:10034448-1790668800-1790672400@freedomfitnessidaho.com
SUMMARY:Kickboxing w/Rachael
DESCRIPTION:
URL:https://freedomfitnessidaho.com/event/kickboxing-w-rachael-2/2026-09-29/
LOCATION:Freedom Fitness Center\, 757 E Stagecoach Way\, Suite 103\, Kuna\, ID\, 83634\, United States
CATEGORIES:Cardio,Kickboxing
GEO:43.4833055;-116.4046421
X-APPLE-STRUCTURED-LOCATION;VALUE=URI;X-ADDRESS=Freedom Fitness Center 757 E Stagecoach Way Suite 103 Kuna ID 83634 United States;X-APPLE-RADIUS=500;X-TITLE=757 E Stagecoach Way\, Suite 103:geo:-116.4046421,43.4833055
END:VEVENT
BEGIN:VEVENT
DTSTART;TZID=America/Boise:20260929T091500
DTEND;TZID=America/Boise:20260929T100000
DTSTAMP:20260423T154010
CREATED:20250204T185536Z
LAST-MODIFIED:20250204T185536Z
UID:10032357-1790673300-1790676000@freedomfitnessidaho.com
SUMMARY:Barre w/Grace
DESCRIPTION:
URL:https://freedomfitnessidaho.com/event/barre-w-grace-3/2026-09-29/
LOCATION:Freedom Fitness Center\, 757 E Stagecoach Way\, Suite 103\, Kuna\, ID\, 83634\, United States
CATEGORIES:Balance,Barre,Body weight,Chair
GEO:43.4833055;-116.4046421
X-APPLE-STRUCTURED-LOCATION;VALUE=URI;X-ADDRESS=Freedom Fitness Center 757 E Stagecoach Way Suite 103 Kuna ID 83634 United States;X-APPLE-RADIUS=500;X-TITLE=757 E Stagecoach Way\, Suite 103:geo:-116.4046421,43.4833055
END:VEVENT
BEGIN:VEVENT
DTSTART;TZID=America/Boise:20260929T101500
DTEND;TZID=America/Boise:20260929T110000
DTSTAMP:20260423T154010
CREATED:20240125T211934Z
LAST-MODIFIED:20240128T000314Z
UID:10023303-1790676900-1790679600@freedomfitnessidaho.com
SUMMARY:Yoga w/Shawna
DESCRIPTION:
URL:https://freedomfitnessidaho.com/event/yoga-w-shawna-3/2026-09-29/
LOCATION:Freedom Fitness Center\, 757 E Stagecoach Way\, Suite 103\, Kuna\, ID\, 83634\, United States
CATEGORIES:Yoga
GEO:43.4833055;-116.4046421
X-APPLE-STRUCTURED-LOCATION;VALUE=URI;X-ADDRESS=Freedom Fitness Center 757 E Stagecoach Way Suite 103 Kuna ID 83634 United States;X-APPLE-RADIUS=500;X-TITLE=757 E Stagecoach Way\, Suite 103:geo:-116.4046421,43.4833055
END:VEVENT
BEGIN:VEVENT
DTSTART;TZID=America/Boise:20260930T051000
DTEND;TZID=America/Boise:20260930T060000
DTSTAMP:20260423T154010
CREATED:20260105T151912Z
LAST-MODIFIED:20260105T151914Z
UID:10036106-1790745000-1790748000@freedomfitnessidaho.com
SUMMARY:Pound/Pilates Fusion w/Jenna
DESCRIPTION:
URL:https://freedomfitnessidaho.com/event/poundpilates-fusion-w-jenna-3-2/2026-09-30/
LOCATION:Freedom Fitness Center\, 757 E Stagecoach Way\, Suite 103\, Kuna\, ID\, 83634\, United States
CATEGORIES:Balance,Body weight,Cardio,Drum sticks,Focus,Functional Movement,Low Impact,Pilates,Stetching
GEO:43.4833055;-116.4046421
X-APPLE-STRUCTURED-LOCATION;VALUE=URI;X-ADDRESS=Freedom Fitness Center 757 E Stagecoach Way Suite 103 Kuna ID 83634 United States;X-APPLE-RADIUS=500;X-TITLE=757 E Stagecoach Way\, Suite 103:geo:-116.4046421,43.4833055
END:VEVENT
BEGIN:VEVENT
DTSTART;TZID=America/Boise:20260930T081500
DTEND;TZID=America/Boise:20260930T090000
DTSTAMP:20260423T154010
CREATED:20250204T185900Z
LAST-MODIFIED:20250204T185900Z
UID:10032618-1790756100-1790758800@freedomfitnessidaho.com
SUMMARY:Bootcamp w/Laci
DESCRIPTION:
URL:https://freedomfitnessidaho.com/event/bootcamp-w-laci/2026-09-30/
LOCATION:Freedom Fitness Center\, 757 E Stagecoach Way\, Suite 103\, Kuna\, ID\, 83634\, United States
CATEGORIES:Body weight,Cardio,Core,Low Impact,Plyometrics,Strength Training,Weights
GEO:43.4833055;-116.4046421
X-APPLE-STRUCTURED-LOCATION;VALUE=URI;X-ADDRESS=Freedom Fitness Center 757 E Stagecoach Way Suite 103 Kuna ID 83634 United States;X-APPLE-RADIUS=500;X-TITLE=757 E Stagecoach Way\, Suite 103:geo:-116.4046421,43.4833055
END:VEVENT
BEGIN:VEVENT
DTSTART;TZID=America/Boise:20260930T091500
DTEND;TZID=America/Boise:20260930T100000
DTSTAMP:20260423T154010
CREATED:20250602T222223Z
LAST-MODIFIED:20250602T222224Z
UID:10034708-1790759700-1790762400@freedomfitnessidaho.com
SUMMARY:Cardio Fuse w/Kelsey
DESCRIPTION:
URL:https://freedomfitnessidaho.com/event/cardio-fuse-w-kelsey-2-2/2026-09-30/
LOCATION:Freedom Fitness Center\, 757 E Stagecoach Way\, Suite 103\, Kuna\, ID\, 83634\, United States
CATEGORIES:Cardio,Loop band,Strength Training
GEO:43.4833055;-116.4046421
X-APPLE-STRUCTURED-LOCATION;VALUE=URI;X-ADDRESS=Freedom Fitness Center 757 E Stagecoach Way Suite 103 Kuna ID 83634 United States;X-APPLE-RADIUS=500;X-TITLE=757 E Stagecoach Way\, Suite 103:geo:-116.4046421,43.4833055
END:VEVENT
BEGIN:VEVENT
DTSTART;TZID=America/Boise:20260930T101500
DTEND;TZID=America/Boise:20260930T110000
DTSTAMP:20260423T154010
CREATED:20260105T152302Z
LAST-MODIFIED:20260105T152304Z
UID:10036662-1790763300-1790766000@freedomfitnessidaho.com
SUMMARY:Silver Sneakers w/Rachael
DESCRIPTION:
URL:https://freedomfitnessidaho.com/event/silver-sneakers-w-rachael-2-2/2026-09-30/
LOCATION:Freedom Fitness Center\, 757 E Stagecoach Way\, Suite 103\, Kuna\, ID\, 83634\, United States
CATEGORIES:Balance,Ball,Body weight,Cardio,Chair,Focus,Low Impact,Resistance bands,Weights
GEO:43.4833055;-116.4046421
X-APPLE-STRUCTURED-LOCATION;VALUE=URI;X-ADDRESS=Freedom Fitness Center 757 E Stagecoach Way Suite 103 Kuna ID 83634 United States;X-APPLE-RADIUS=500;X-TITLE=757 E Stagecoach Way\, Suite 103:geo:-116.4046421,43.4833055
END:VEVENT
BEGIN:VEVENT
DTSTART;TZID=America/Boise:20261001T080000
DTEND;TZID=America/Boise:20261001T090000
DTSTAMP:20260423T154010
CREATED:20240125T211642Z
LAST-MODIFIED:20240430T231136Z
UID:10025433-1790841600-1790845200@freedomfitnessidaho.com
SUMMARY:Yoga w/Shawna
DESCRIPTION:
URL:https://freedomfitnessidaho.com/event/yoga-w-shawna-2-2/2026-10-01/
LOCATION:Freedom Fitness Center\, 757 E Stagecoach Way\, Suite 103\, Kuna\, ID\, 83634\, United States
CATEGORIES:Balance,Body weight,Core,Focus,Low Impact,Stetching,Yoga
GEO:43.4833055;-116.4046421
X-APPLE-STRUCTURED-LOCATION;VALUE=URI;X-ADDRESS=Freedom Fitness Center 757 E Stagecoach Way Suite 103 Kuna ID 83634 United States;X-APPLE-RADIUS=500;X-TITLE=757 E Stagecoach Way\, Suite 103:geo:-116.4046421,43.4833055
END:VEVENT
BEGIN:VEVENT
DTSTART;TZID=America/Boise:20261001T091500
DTEND;TZID=America/Boise:20261001T100000
DTSTAMP:20260423T154010
CREATED:20250603T181305Z
LAST-MODIFIED:20250603T181308Z
UID:10035020-1790846100-1790848800@freedomfitnessidaho.com
SUMMARY:Pound w/Jenna
DESCRIPTION:
URL:https://freedomfitnessidaho.com/event/pound-w-jenna-3/2026-10-01/
LOCATION:Freedom Fitness Center\, 757 E Stagecoach Way\, Suite 103\, Kuna\, ID\, 83634\, United States
CATEGORIES:Cardio,Core,Dance,Drum sticks,Focus,Low Impact
GEO:43.4833055;-116.4046421
X-APPLE-STRUCTURED-LOCATION;VALUE=URI;X-ADDRESS=Freedom Fitness Center 757 E Stagecoach Way Suite 103 Kuna ID 83634 United States;X-APPLE-RADIUS=500;X-TITLE=757 E Stagecoach Way\, Suite 103:geo:-116.4046421,43.4833055
END:VEVENT
BEGIN:VEVENT
DTSTART;TZID=America/Boise:20261001T101500
DTEND;TZID=America/Boise:20261001T110000
DTSTAMP:20260423T154010
CREATED:20240715T230849Z
LAST-MODIFIED:20240715T230850Z
UID:10027544-1790849700-1790852400@freedomfitnessidaho.com
SUMMARY:Barre w/Grace
DESCRIPTION:
URL:https://freedomfitnessidaho.com/event/barre-w-grace-2-2/2026-10-01/
LOCATION:Freedom Fitness Center\, 757 E Stagecoach Way\, Suite 103\, Kuna\, ID\, 83634\, United States
CATEGORIES:Balance,Ball,Body weight,Chair,Weights
GEO:43.4833055;-116.4046421
X-APPLE-STRUCTURED-LOCATION;VALUE=URI;X-ADDRESS=Freedom Fitness Center 757 E Stagecoach Way Suite 103 Kuna ID 83634 United States;X-APPLE-RADIUS=500;X-TITLE=757 E Stagecoach Way\, Suite 103:geo:-116.4046421,43.4833055
END:VEVENT
BEGIN:VEVENT
DTSTART;TZID=America/Boise:20261001T181500
DTEND;TZID=America/Boise:20261001T190000
DTSTAMP:20260423T154010
CREATED:20250603T185738Z
LAST-MODIFIED:20250603T185738Z
UID:10035307-1790878500-1790881200@freedomfitnessidaho.com
SUMMARY:Pumped Up Strength w/Natalie
DESCRIPTION:
URL:https://freedomfitnessidaho.com/event/pumped-up-strength-w-natalie-6/2026-10-01/
LOCATION:Freedom Fitness Center\, 757 E Stagecoach Way\, Suite 103\, Kuna\, ID\, 83634\, United States
CATEGORIES:Body weight,Weights
GEO:43.4833055;-116.4046421
X-APPLE-STRUCTURED-LOCATION;VALUE=URI;X-ADDRESS=Freedom Fitness Center 757 E Stagecoach Way Suite 103 Kuna ID 83634 United States;X-APPLE-RADIUS=500;X-TITLE=757 E Stagecoach Way\, Suite 103:geo:-116.4046421,43.4833055
END:VEVENT
BEGIN:VEVENT
DTSTART;TZID=America/Boise:20261002T051000
DTEND;TZID=America/Boise:20261002T060000
DTSTAMP:20260423T154010
CREATED:20260105T164706Z
LAST-MODIFIED:20260105T164708Z
UID:10035588-1790917800-1790920800@freedomfitnessidaho.com
SUMMARY:AMPD Strength w/Rachael
DESCRIPTION:
URL:https://freedomfitnessidaho.com/event/ampd-strength-w-rachael/2026-10-02/
LOCATION:Freedom Fitness Center\, 757 E Stagecoach Way\, Suite 103\, Kuna\, ID\, 83634\, United States
CATEGORIES:Body bar,Body weight,Cardio,Low Impact,Weights
GEO:43.4833055;-116.4046421
X-APPLE-STRUCTURED-LOCATION;VALUE=URI;X-ADDRESS=Freedom Fitness Center 757 E Stagecoach Way Suite 103 Kuna ID 83634 United States;X-APPLE-RADIUS=500;X-TITLE=757 E Stagecoach Way\, Suite 103:geo:-116.4046421,43.4833055
END:VEVENT
BEGIN:VEVENT
DTSTART;TZID=America/Boise:20261002T081500
DTEND;TZID=America/Boise:20261002T090000
DTSTAMP:20260423T154010
CREATED:20250829T220615Z
LAST-MODIFIED:20250829T220617Z
UID:10020883-1790928900-1790931600@freedomfitnessidaho.com
SUMMARY:Surge Strength w/Aley
DESCRIPTION:
URL:https://freedomfitnessidaho.com/event/surge-strength-w-aley-2/2026-10-02/
LOCATION:Freedom Fitness Center\, 757 E Stagecoach Way\, Suite 103\, Kuna\, ID\, 83634\, United States
CATEGORIES:Weights
GEO:43.4833055;-116.4046421
X-APPLE-STRUCTURED-LOCATION;VALUE=URI;X-ADDRESS=Freedom Fitness Center 757 E Stagecoach Way Suite 103 Kuna ID 83634 United States;X-APPLE-RADIUS=500;X-TITLE=757 E Stagecoach Way\, Suite 103:geo:-116.4046421,43.4833055
END:VEVENT
BEGIN:VEVENT
DTSTART;TZID=America/Boise:20261002T091500
DTEND;TZID=America/Boise:20261002T100000
DTSTAMP:20260423T154010
CREATED:20240903T213554Z
LAST-MODIFIED:20240903T213556Z
UID:10021094-1790932500-1790935200@freedomfitnessidaho.com
SUMMARY:Zumba Sentao w/Carrie
DESCRIPTION:
URL:https://freedomfitnessidaho.com/event/zumba-sentao-w-carrie/2026-10-02/
LOCATION:Freedom Fitness Center\, 757 E Stagecoach Way\, Suite 103\, Kuna\, ID\, 83634\, United States
CATEGORIES:Body weight,Cardio,Chair,Core,Resistance bands,Seniors,Strength Training,Weights
GEO:43.4833055;-116.4046421
X-APPLE-STRUCTURED-LOCATION;VALUE=URI;X-ADDRESS=Freedom Fitness Center 757 E Stagecoach Way Suite 103 Kuna ID 83634 United States;X-APPLE-RADIUS=500;X-TITLE=757 E Stagecoach Way\, Suite 103:geo:-116.4046421,43.4833055
END:VEVENT
BEGIN:VEVENT
DTSTART;TZID=America/Boise:20261002T101500
DTEND;TZID=America/Boise:20261002T110000
DTSTAMP:20260423T154010
CREATED:20250331T145557Z
LAST-MODIFIED:20250331T145559Z
UID:10027019-1790936100-1790938800@freedomfitnessidaho.com
SUMMARY:Pumped Up Strength W/Natalie
DESCRIPTION:
URL:https://freedomfitnessidaho.com/event/pumped-up-strength-w-natalie-5/2026-10-02/
LOCATION:Freedom Fitness Center\, 757 E Stagecoach Way\, Suite 103\, Kuna\, ID\, 83634\, United States
CATEGORIES:Strength Training,Weights
GEO:43.4833055;-116.4046421
X-APPLE-STRUCTURED-LOCATION;VALUE=URI;X-ADDRESS=Freedom Fitness Center 757 E Stagecoach Way Suite 103 Kuna ID 83634 United States;X-APPLE-RADIUS=500;X-TITLE=757 E Stagecoach Way\, Suite 103:geo:-116.4046421,43.4833055
END:VEVENT
BEGIN:VEVENT
DTSTART;TZID=America/Boise:20261003T091500
DTEND;TZID=America/Boise:20261003T100000
DTSTAMP:20260423T154010
CREATED:20250506T002139Z
LAST-MODIFIED:20250506T002140Z
UID:10033669-1791018900-1791021600@freedomfitnessidaho.com
SUMMARY:Cardio Fuse or Surge Strength w/Rotating Instructors
DESCRIPTION:
URL:https://freedomfitnessidaho.com/event/cardio-fuse-or-surge-strength-w-rotating-instructors-2-2/2026-10-03/
LOCATION:Freedom Fitness Center\, 757 E Stagecoach Way\, Suite 103\, Kuna\, ID\, 83634\, United States
GEO:43.4833055;-116.4046421
X-APPLE-STRUCTURED-LOCATION;VALUE=URI;X-ADDRESS=Freedom Fitness Center 757 E Stagecoach Way Suite 103 Kuna ID 83634 United States;X-APPLE-RADIUS=500;X-TITLE=757 E Stagecoach Way\, Suite 103:geo:-116.4046421,43.4833055
END:VEVENT
BEGIN:VEVENT
DTSTART;TZID=America/Boise:20261005T051000
DTEND;TZID=America/Boise:20261005T060000
DTSTAMP:20260423T154010
CREATED:20260105T140411Z
LAST-MODIFIED:20260105T140414Z
UID:10035847-1791177000-1791180000@freedomfitnessidaho.com
SUMMARY:StepIt Strength w/Rachael
DESCRIPTION:
URL:https://freedomfitnessidaho.com/event/stepit-strength-w-rachael/2026-10-05/
LOCATION:Freedom Fitness Center\, 757 E Stagecoach Way\, Suite 103\, Kuna\, ID\, 83634\, United States
CATEGORIES:Functional Movement,Steps,Strength Training,Weights
GEO:43.4833055;-116.4046421
X-APPLE-STRUCTURED-LOCATION;VALUE=URI;X-ADDRESS=Freedom Fitness Center 757 E Stagecoach Way Suite 103 Kuna ID 83634 United States;X-APPLE-RADIUS=500;X-TITLE=757 E Stagecoach Way\, Suite 103:geo:-116.4046421,43.4833055
END:VEVENT
BEGIN:VEVENT
DTSTART;TZID=America/Boise:20261005T081500
DTEND;TZID=America/Boise:20261005T090000
DTSTAMP:20260423T154010
CREATED:20231231T025337Z
LAST-MODIFIED:20231231T025337Z
UID:10019629-1791188100-1791190800@freedomfitnessidaho.com
SUMMARY:Cardio & Weights w/Laci
DESCRIPTION:
URL:https://freedomfitnessidaho.com/event/cardio-weights-w-laci/2026-10-05/
LOCATION:Freedom Fitness Center\, 757 E Stagecoach Way\, Suite 103\, Kuna\, ID\, 83634\, United States
CATEGORIES:Body weight,Cardio,Strength Training,Weights
GEO:43.4833055;-116.4046421
X-APPLE-STRUCTURED-LOCATION;VALUE=URI;X-ADDRESS=Freedom Fitness Center 757 E Stagecoach Way Suite 103 Kuna ID 83634 United States;X-APPLE-RADIUS=500;X-TITLE=757 E Stagecoach Way\, Suite 103:geo:-116.4046421,43.4833055
END:VEVENT
BEGIN:VEVENT
DTSTART;TZID=America/Boise:20261005T091500
DTEND;TZID=America/Boise:20261005T100000
DTSTAMP:20260423T154010
CREATED:20250204T185335Z
LAST-MODIFIED:20250204T185335Z
UID:10032096-1791191700-1791194400@freedomfitnessidaho.com
SUMMARY:Silver Sneakers w/Angela
DESCRIPTION:
URL:https://freedomfitnessidaho.com/event/silver-sneakers-w-angela/2026-10-05/
LOCATION:Freedom Fitness Center\, 757 E Stagecoach Way\, Suite 103\, Kuna\, ID\, 83634\, United States
CATEGORIES:Balance,Ball,Cardio,Chair,Low Impact,Seniors,Weights
GEO:43.4833055;-116.4046421
X-APPLE-STRUCTURED-LOCATION;VALUE=URI;X-ADDRESS=Freedom Fitness Center 757 E Stagecoach Way Suite 103 Kuna ID 83634 United States;X-APPLE-RADIUS=500;X-TITLE=757 E Stagecoach Way\, Suite 103:geo:-116.4046421,43.4833055
END:VEVENT
BEGIN:VEVENT
DTSTART;TZID=America/Boise:20261005T101500
DTEND;TZID=America/Boise:20261005T110000
DTSTAMP:20260423T154010
CREATED:20250602T225923Z
LAST-MODIFIED:20250602T225925Z
UID:10026238-1791195300-1791198000@freedomfitnessidaho.com
SUMMARY:Pilates w/Jenna
DESCRIPTION:
URL:https://freedomfitnessidaho.com/event/pilates-w-jenna-4/2026-10-05/
LOCATION:Freedom Fitness Center\, 757 E Stagecoach Way\, Suite 103\, Kuna\, ID\, 83634\, United States
CATEGORIES:Balance,Body weight,Stetching,Strength Training
GEO:43.4833055;-116.4046421
X-APPLE-STRUCTURED-LOCATION;VALUE=URI;X-ADDRESS=Freedom Fitness Center 757 E Stagecoach Way Suite 103 Kuna ID 83634 United States;X-APPLE-RADIUS=500;X-TITLE=757 E Stagecoach Way\, Suite 103:geo:-116.4046421,43.4833055
END:VEVENT
END:VCALENDAR