BEGIN:VCALENDAR
VERSION:2.0
PRODID:-//Freedom Fitness - ECPv6.2.9//NONSGML v1.0//EN
CALSCALE:GREGORIAN
METHOD:PUBLISH
X-WR-CALNAME:Freedom Fitness
X-ORIGINAL-URL:https://freedomfitnessidaho.com
X-WR-CALDESC:Events for Freedom Fitness
REFRESH-INTERVAL;VALUE=DURATION:PT1H
X-Robots-Tag:noindex
X-PUBLISHED-TTL:PT1H
BEGIN:VTIMEZONE
TZID:America/Boise
BEGIN:DAYLIGHT
TZOFFSETFROM:-0700
TZOFFSETTO:-0600
TZNAME:MDT
DTSTART:20240310T090000
END:DAYLIGHT
BEGIN:STANDARD
TZOFFSETFROM:-0600
TZOFFSETTO:-0700
TZNAME:MST
DTSTART:20241103T080000
END:STANDARD
END:VTIMEZONE
BEGIN:VEVENT
DTSTART;TZID=America/Boise:20241022T080000
DTEND;TZID=America/Boise:20241022T090000
DTSTAMP:20260425T073610
CREATED:20240903T212029Z
LAST-MODIFIED:20240903T212031Z
UID:10028536-1729584000-1729587600@freedomfitnessidaho.com
SUMMARY:StepIt Fitness w/Rachael
DESCRIPTION:
URL:https://freedomfitnessidaho.com/event/stepit-fitness-w-rachael-2/2024-10-22/
LOCATION:Freedom Fitness Center\, 757 E Stagecoach Way\, Suite 103\, Kuna\, ID\, 83634\, United States
CATEGORIES:Balance,Body weight,Cardio,Steps,Weights
GEO:43.4833055;-116.4046421
X-APPLE-STRUCTURED-LOCATION;VALUE=URI;X-ADDRESS=Freedom Fitness Center 757 E Stagecoach Way Suite 103 Kuna ID 83634 United States;X-APPLE-RADIUS=500;X-TITLE=757 E Stagecoach Way\, Suite 103:geo:-116.4046421,43.4833055
END:VEVENT
BEGIN:VEVENT
DTSTART;TZID=America/Boise:20241022T091500
DTEND;TZID=America/Boise:20241022T100000
DTSTAMP:20260425T073610
CREATED:20231215T220117Z
LAST-MODIFIED:20231215T220129Z
UID:10012937-1729588500-1729591200@freedomfitnessidaho.com
SUMMARY:Barre w/Grace
DESCRIPTION:Combines fundamental classical ballet movements with traditional fitness exercises. Built from Pilates and dance principles\, a strong emphasis is placed on form-focused movement and proper technique. It is an effective total body workout focused on low-impact\, high-intensity movements that lift and tone muscles\, and improve strength\, agility and flexibility.
URL:https://freedomfitnessidaho.com/event/barre-w-grace-2022-06-07/2024-10-22/
LOCATION:Freedom Fitness Center\, 757 E Stagecoach Way\, Suite 103\, Kuna\, ID\, 83634\, United States
CATEGORIES:Balance,Body weight,Core,Loop band
GEO:43.4833055;-116.4046421
X-APPLE-STRUCTURED-LOCATION;VALUE=URI;X-ADDRESS=Freedom Fitness Center 757 E Stagecoach Way Suite 103 Kuna ID 83634 United States;X-APPLE-RADIUS=500;X-TITLE=757 E Stagecoach Way\, Suite 103:geo:-116.4046421,43.4833055
END:VEVENT
BEGIN:VEVENT
DTSTART;TZID=America/Boise:20241022T101500
DTEND;TZID=America/Boise:20241022T110000
DTSTAMP:20260425T073610
CREATED:20240125T211934Z
LAST-MODIFIED:20240128T000314Z
UID:10012991-1729592100-1729594800@freedomfitnessidaho.com
SUMMARY:Yoga w/Shawna
DESCRIPTION:
URL:https://freedomfitnessidaho.com/event/yoga-w-shawna-3/2024-10-22/
LOCATION:Freedom Fitness Center\, 757 E Stagecoach Way\, Suite 103\, Kuna\, ID\, 83634\, United States
CATEGORIES:Yoga
GEO:43.4833055;-116.4046421
X-APPLE-STRUCTURED-LOCATION;VALUE=URI;X-ADDRESS=Freedom Fitness Center 757 E Stagecoach Way Suite 103 Kuna ID 83634 United States;X-APPLE-RADIUS=500;X-TITLE=757 E Stagecoach Way\, Suite 103:geo:-116.4046421,43.4833055
END:VEVENT
BEGIN:VEVENT
DTSTART;TZID=America/Boise:20241022T190000
DTEND;TZID=America/Boise:20241022T194500
DTSTAMP:20260425T073610
CREATED:20240729T195536Z
LAST-MODIFIED:20240729T195537Z
UID:10028273-1729623600-1729626300@freedomfitnessidaho.com
SUMMARY:Zumba w/Janine
DESCRIPTION:
URL:https://freedomfitnessidaho.com/event/zumba-w-janine-2-2/2024-10-22/
LOCATION:Freedom Fitness Center\, 757 E Stagecoach Way\, Suite 103\, Kuna\, ID\, 83634\, United States
CATEGORIES:Cardio,Dance
GEO:43.4833055;-116.4046421
X-APPLE-STRUCTURED-LOCATION;VALUE=URI;X-ADDRESS=Freedom Fitness Center 757 E Stagecoach Way Suite 103 Kuna ID 83634 United States;X-APPLE-RADIUS=500;X-TITLE=757 E Stagecoach Way\, Suite 103:geo:-116.4046421,43.4833055
END:VEVENT
BEGIN:VEVENT
DTSTART;TZID=America/Boise:20241023T081500
DTEND;TZID=America/Boise:20241023T090000
DTSTAMP:20260425T073610
CREATED:20231215T220528Z
LAST-MODIFIED:20231215T220540Z
UID:10013097-1729671300-1729674000@freedomfitnessidaho.com
SUMMARY:Bootcamp w/Laci
DESCRIPTION:
URL:https://freedomfitnessidaho.com/event/bootcamp-w-laci-3-2/2024-10-23/
LOCATION:Freedom Fitness Center\, 757 E Stagecoach Way\, Suite 103\, Kuna\, ID\, 83634\, United States
CATEGORIES:Body weight,Cardio,Core,Strength Training,Weights
GEO:43.4833055;-116.4046421
X-APPLE-STRUCTURED-LOCATION;VALUE=URI;X-ADDRESS=Freedom Fitness Center 757 E Stagecoach Way Suite 103 Kuna ID 83634 United States;X-APPLE-RADIUS=500;X-TITLE=757 E Stagecoach Way\, Suite 103:geo:-116.4046421,43.4833055
END:VEVENT
BEGIN:VEVENT
DTSTART;TZID=America/Boise:20241023T091500
DTEND;TZID=America/Boise:20241023T100500
DTSTAMP:20260425T073610
CREATED:20240903T214052Z
LAST-MODIFIED:20240903T214315Z
UID:10029334-1729674900-1729677900@freedomfitnessidaho.com
SUMMARY:Pound w/Jenna
DESCRIPTION:
URL:https://freedomfitnessidaho.com/event/pound-w-jenna/2024-10-23/
LOCATION:Freedom Fitness Center\, 757 E Stagecoach Way\, Suite 103\, Kuna\, ID\, 83634\, United States
CATEGORIES:Cardio,Core,Dance,Drum sticks,Focus,Low Impact
GEO:43.4833055;-116.4046421
X-APPLE-STRUCTURED-LOCATION;VALUE=URI;X-ADDRESS=Freedom Fitness Center 757 E Stagecoach Way Suite 103 Kuna ID 83634 United States;X-APPLE-RADIUS=500;X-TITLE=757 E Stagecoach Way\, Suite 103:geo:-116.4046421,43.4833055
END:VEVENT
BEGIN:VEVENT
DTSTART;TZID=America/Boise:20241023T102000
DTEND;TZID=America/Boise:20241023T110500
DTSTAMP:20260425T073610
CREATED:20231231T025810Z
LAST-MODIFIED:20231231T025811Z
UID:10020309-1729678800-1729681500@freedomfitnessidaho.com
SUMMARY:Silver Sneakers w/Rachael
DESCRIPTION:
URL:https://freedomfitnessidaho.com/event/silver-sneakers-w-rachael-2/2024-10-23/
LOCATION:Freedom Fitness Center\, 757 E Stagecoach Way\, Suite 103\, Kuna\, ID\, 83634\, United States
CATEGORIES:Balance,Ball,Body weight,Cardio,Chair,Focus,Low Impact,Resistance bands,Weights
GEO:43.4833055;-116.4046421
X-APPLE-STRUCTURED-LOCATION;VALUE=URI;X-ADDRESS=Freedom Fitness Center 757 E Stagecoach Way Suite 103 Kuna ID 83634 United States;X-APPLE-RADIUS=500;X-TITLE=757 E Stagecoach Way\, Suite 103:geo:-116.4046421,43.4833055
END:VEVENT
BEGIN:VEVENT
DTSTART;TZID=America/Boise:20241023T181500
DTEND;TZID=America/Boise:20241023T190000
DTSTAMP:20260425T073610
CREATED:20241009T194954Z
LAST-MODIFIED:20241009T194954Z
UID:10029593-1729707300-1729710000@freedomfitnessidaho.com
SUMMARY:Pumped Up Strength w/Natalie
DESCRIPTION:
URL:https://freedomfitnessidaho.com/event/pumped-up-strength-w-natalie-2/
LOCATION:Freedom Fitness Center\, 757 E Stagecoach Way\, Suite 103\, Kuna\, ID\, 83634\, United States
CATEGORIES:Weights
GEO:43.4833055;-116.4046421
X-APPLE-STRUCTURED-LOCATION;VALUE=URI;X-ADDRESS=Freedom Fitness Center 757 E Stagecoach Way Suite 103 Kuna ID 83634 United States;X-APPLE-RADIUS=500;X-TITLE=757 E Stagecoach Way\, Suite 103:geo:-116.4046421,43.4833055
END:VEVENT
BEGIN:VEVENT
DTSTART;TZID=America/Boise:20241024T080000
DTEND;TZID=America/Boise:20241024T090000
DTSTAMP:20260425T073610
CREATED:20240125T211642Z
LAST-MODIFIED:20240430T231136Z
UID:10025332-1729756800-1729760400@freedomfitnessidaho.com
SUMMARY:Yoga w/Shawna
DESCRIPTION:
URL:https://freedomfitnessidaho.com/event/yoga-w-shawna-2-2/2024-10-24/
LOCATION:Freedom Fitness Center\, 757 E Stagecoach Way\, Suite 103\, Kuna\, ID\, 83634\, United States
CATEGORIES:Balance,Body weight,Core,Focus,Low Impact,Stetching,Yoga
GEO:43.4833055;-116.4046421
X-APPLE-STRUCTURED-LOCATION;VALUE=URI;X-ADDRESS=Freedom Fitness Center 757 E Stagecoach Way Suite 103 Kuna ID 83634 United States;X-APPLE-RADIUS=500;X-TITLE=757 E Stagecoach Way\, Suite 103:geo:-116.4046421,43.4833055
END:VEVENT
BEGIN:VEVENT
DTSTART;TZID=America/Boise:20241024T101500
DTEND;TZID=America/Boise:20241024T110000
DTSTAMP:20260425T073610
CREATED:20240715T230849Z
LAST-MODIFIED:20240715T230850Z
UID:10027443-1729764900-1729767600@freedomfitnessidaho.com
SUMMARY:Barre w/Grace
DESCRIPTION:
URL:https://freedomfitnessidaho.com/event/barre-w-grace-2-2/2024-10-24/
LOCATION:Freedom Fitness Center\, 757 E Stagecoach Way\, Suite 103\, Kuna\, ID\, 83634\, United States
CATEGORIES:Balance,Ball,Body weight,Chair,Weights
GEO:43.4833055;-116.4046421
X-APPLE-STRUCTURED-LOCATION;VALUE=URI;X-ADDRESS=Freedom Fitness Center 757 E Stagecoach Way Suite 103 Kuna ID 83634 United States;X-APPLE-RADIUS=500;X-TITLE=757 E Stagecoach Way\, Suite 103:geo:-116.4046421,43.4833055
END:VEVENT
BEGIN:VEVENT
DTSTART;TZID=America/Boise:20241025T051000
DTEND;TZID=America/Boise:20241025T060000
DTSTAMP:20260425T073610
CREATED:20240903T212628Z
LAST-MODIFIED:20240903T212629Z
UID:10028013-1729833000-1729836000@freedomfitnessidaho.com
SUMMARY:Pumped Up Strength w/Allison
DESCRIPTION:
URL:https://freedomfitnessidaho.com/event/pumped-up-strength-w-allison-3/2024-10-25/
LOCATION:Freedom Fitness Center\, 757 E Stagecoach Way\, Suite 103\, Kuna\, ID\, 83634\, United States
CATEGORIES:Strength Training,Weights
GEO:43.4833055;-116.4046421
X-APPLE-STRUCTURED-LOCATION;VALUE=URI;X-ADDRESS=Freedom Fitness Center 757 E Stagecoach Way Suite 103 Kuna ID 83634 United States;X-APPLE-RADIUS=500;X-TITLE=757 E Stagecoach Way\, Suite 103:geo:-116.4046421,43.4833055
END:VEVENT
BEGIN:VEVENT
DTSTART;TZID=America/Boise:20241025T081500
DTEND;TZID=America/Boise:20241025T090000
DTSTAMP:20260425T073610
CREATED:20240903T212201Z
LAST-MODIFIED:20240903T212203Z
UID:10013424-1729844100-1729846800@freedomfitnessidaho.com
SUMMARY:AMPD Strength w/Rachael
DESCRIPTION:
URL:https://freedomfitnessidaho.com/event/kickboxing-w-rachael-2021-10-08-2022-08-01-2022-08-29-3-2/2024-10-25/
LOCATION:Freedom Fitness Center\, 757 E Stagecoach Way\, Suite 103\, Kuna\, ID\, 83634\, United States
CATEGORIES:Strength Training,Weights
GEO:43.4833055;-116.4046421
X-APPLE-STRUCTURED-LOCATION;VALUE=URI;X-ADDRESS=Freedom Fitness Center 757 E Stagecoach Way Suite 103 Kuna ID 83634 United States;X-APPLE-RADIUS=500;X-TITLE=757 E Stagecoach Way\, Suite 103:geo:-116.4046421,43.4833055
END:VEVENT
BEGIN:VEVENT
DTSTART;TZID=America/Boise:20241025T091500
DTEND;TZID=America/Boise:20241025T100000
DTSTAMP:20260425T073610
CREATED:20240903T213554Z
LAST-MODIFIED:20240903T213556Z
UID:10013479-1729847700-1729850400@freedomfitnessidaho.com
SUMMARY:Zumba Sentao w/Carrie
DESCRIPTION:
URL:https://freedomfitnessidaho.com/event/zumba-sentao-w-carrie/2024-10-25/
LOCATION:Freedom Fitness Center\, 757 E Stagecoach Way\, Suite 103\, Kuna\, ID\, 83634\, United States
CATEGORIES:Body weight,Cardio,Chair,Core,Resistance bands,Seniors,Strength Training,Weights
GEO:43.4833055;-116.4046421
X-APPLE-STRUCTURED-LOCATION;VALUE=URI;X-ADDRESS=Freedom Fitness Center 757 E Stagecoach Way Suite 103 Kuna ID 83634 United States;X-APPLE-RADIUS=500;X-TITLE=757 E Stagecoach Way\, Suite 103:geo:-116.4046421,43.4833055
END:VEVENT
BEGIN:VEVENT
DTSTART;TZID=America/Boise:20241025T101500
DTEND;TZID=America/Boise:20241025T110000
DTSTAMP:20260425T073610
CREATED:20240715T231947Z
LAST-MODIFIED:20241009T195225Z
UID:10013534-1729851300-1729854000@freedomfitnessidaho.com
SUMMARY:Surge Strength w/Aley
DESCRIPTION:
URL:https://freedomfitnessidaho.com/event/surge-strength-w-aley/2024-10-25/
LOCATION:Freedom Fitness Center\, 757 E Stagecoach Way\, Suite 103\, Kuna\, ID\, 83634\, United States
CATEGORIES:Strength Training,Weights
GEO:43.4833055;-116.4046421
X-APPLE-STRUCTURED-LOCATION;VALUE=URI;X-ADDRESS=Freedom Fitness Center 757 E Stagecoach Way Suite 103 Kuna ID 83634 United States;X-APPLE-RADIUS=500;X-TITLE=757 E Stagecoach Way\, Suite 103:geo:-116.4046421,43.4833055
END:VEVENT
BEGIN:VEVENT
DTSTART;TZID=America/Boise:20241026T081500
DTEND;TZID=America/Boise:20241026T090000
DTSTAMP:20260425T073610
CREATED:20240606T033422Z
LAST-MODIFIED:20250224T002257Z
UID:10032813-1729930500-1729933200@freedomfitnessidaho.com
SUMMARY:Cardio Fuse or Surge Strength w/Rotating Instructors
DESCRIPTION:
URL:https://freedomfitnessidaho.com/event/cardio-fuse-or-surge-strength-w-rotating-instructors-2/2024-10-26/
LOCATION:Freedom Fitness Center\, 757 E Stagecoach Way\, Suite 103\, Kuna\, ID\, 83634\, United States
GEO:43.4833055;-116.4046421
X-APPLE-STRUCTURED-LOCATION;VALUE=URI;X-ADDRESS=Freedom Fitness Center 757 E Stagecoach Way Suite 103 Kuna ID 83634 United States;X-APPLE-RADIUS=500;X-TITLE=757 E Stagecoach Way\, Suite 103:geo:-116.4046421,43.4833055
END:VEVENT
BEGIN:VEVENT
DTSTART;TZID=America/Boise:20241028T081500
DTEND;TZID=America/Boise:20241028T090000
DTSTAMP:20260425T073610
CREATED:20231231T025337Z
LAST-MODIFIED:20231231T025337Z
UID:10019528-1730103300-1730106000@freedomfitnessidaho.com
SUMMARY:Cardio & Weights w/Laci
DESCRIPTION:
URL:https://freedomfitnessidaho.com/event/cardio-weights-w-laci/2024-10-28/
LOCATION:Freedom Fitness Center\, 757 E Stagecoach Way\, Suite 103\, Kuna\, ID\, 83634\, United States
CATEGORIES:Body weight,Cardio,Strength Training,Weights
GEO:43.4833055;-116.4046421
X-APPLE-STRUCTURED-LOCATION;VALUE=URI;X-ADDRESS=Freedom Fitness Center 757 E Stagecoach Way Suite 103 Kuna ID 83634 United States;X-APPLE-RADIUS=500;X-TITLE=757 E Stagecoach Way\, Suite 103:geo:-116.4046421,43.4833055
END:VEVENT
BEGIN:VEVENT
DTSTART;TZID=America/Boise:20241028T091500
DTEND;TZID=America/Boise:20241028T100000
DTSTAMP:20260425T073610
CREATED:20231215T215511Z
LAST-MODIFIED:20231215T215533Z
UID:10012781-1730106900-1730109600@freedomfitnessidaho.com
SUMMARY:Silver Sneakers w/Angela
DESCRIPTION:
URL:https://freedomfitnessidaho.com/event/silver-sneakers-w-angela-2-2/2024-10-28/
LOCATION:Freedom Fitness Center\, 757 E Stagecoach Way\, Suite 103\, Kuna\, ID\, 83634\, United States
CATEGORIES:Balance,Body weight,Cardio,Core,Low Impact,Seniors
GEO:43.4833055;-116.4046421
X-APPLE-STRUCTURED-LOCATION;VALUE=URI;X-ADDRESS=Freedom Fitness Center 757 E Stagecoach Way Suite 103 Kuna ID 83634 United States;X-APPLE-RADIUS=500;X-TITLE=757 E Stagecoach Way\, Suite 103:geo:-116.4046421,43.4833055
END:VEVENT
BEGIN:VEVENT
DTSTART;TZID=America/Boise:20241028T101500
DTEND;TZID=America/Boise:20241028T110000
DTSTAMP:20260425T073610
CREATED:20240715T230503Z
LAST-MODIFIED:20240715T230506Z
UID:10012673-1730110500-1730113200@freedomfitnessidaho.com
SUMMARY:Pilates w/Jenna
DESCRIPTION:
URL:https://freedomfitnessidaho.com/event/pilates-w-njenna/2024-10-28/
LOCATION:Freedom Fitness Center\, 757 E Stagecoach Way\, Suite 103\, Kuna\, ID\, 83634\, United States
CATEGORIES:Balance,Body weight,Stetching,Strength Training
GEO:43.4833055;-116.4046421
X-APPLE-STRUCTURED-LOCATION;VALUE=URI;X-ADDRESS=Freedom Fitness Center 757 E Stagecoach Way Suite 103 Kuna ID 83634 United States;X-APPLE-RADIUS=500;X-TITLE=757 E Stagecoach Way\, Suite 103:geo:-116.4046421,43.4833055
END:VEVENT
BEGIN:VEVENT
DTSTART;TZID=America/Boise:20241028T181500
DTEND;TZID=America/Boise:20241028T190000
DTSTAMP:20260425T073610
CREATED:20231215T215353Z
LAST-MODIFIED:20231215T215353Z
UID:10012727-1730139300-1730142000@freedomfitnessidaho.com
SUMMARY:Cardio Fuse w/Kelsey
DESCRIPTION:
URL:https://freedomfitnessidaho.com/event/cardio-fuse-w-kelsey/2024-10-28/
LOCATION:Freedom Fitness Center\, 757 E Stagecoach Way\, Suite 103\, Kuna\, ID\, 83634\, United States
CATEGORIES:Cardio,Dance,Loop band
GEO:43.4833055;-116.4046421
X-APPLE-STRUCTURED-LOCATION;VALUE=URI;X-ADDRESS=Freedom Fitness Center 757 E Stagecoach Way Suite 103 Kuna ID 83634 United States;X-APPLE-RADIUS=500;X-TITLE=757 E Stagecoach Way\, Suite 103:geo:-116.4046421,43.4833055
END:VEVENT
BEGIN:VEVENT
DTSTART;TZID=America/Boise:20241029T051000
DTEND;TZID=America/Boise:20241029T060000
DTSTAMP:20260425T073610
CREATED:20231215T215816Z
LAST-MODIFIED:20231215T215841Z
UID:10012832-1730178600-1730181600@freedomfitnessidaho.com
SUMMARY:Surge Strength w/Aley
DESCRIPTION:
URL:https://freedomfitnessidaho.com/event/surgestrength-w-aley/2024-10-29/
LOCATION:Freedom Fitness Center\, 757 E Stagecoach Way\, Suite 103\, Kuna\, ID\, 83634\, United States
CATEGORIES:Balance,Low Impact,Strength Training,Weights
GEO:43.4833055;-116.4046421
X-APPLE-STRUCTURED-LOCATION;VALUE=URI;X-ADDRESS=Freedom Fitness Center 757 E Stagecoach Way Suite 103 Kuna ID 83634 United States;X-APPLE-RADIUS=500;X-TITLE=757 E Stagecoach Way\, Suite 103:geo:-116.4046421,43.4833055
END:VEVENT
BEGIN:VEVENT
DTSTART;TZID=America/Boise:20241029T080000
DTEND;TZID=America/Boise:20241029T090000
DTSTAMP:20260425T073610
CREATED:20240903T212029Z
LAST-MODIFIED:20240903T212031Z
UID:10028537-1730188800-1730192400@freedomfitnessidaho.com
SUMMARY:StepIt Fitness w/Rachael
DESCRIPTION:
URL:https://freedomfitnessidaho.com/event/stepit-fitness-w-rachael-2/2024-10-29/
LOCATION:Freedom Fitness Center\, 757 E Stagecoach Way\, Suite 103\, Kuna\, ID\, 83634\, United States
CATEGORIES:Balance,Body weight,Cardio,Steps,Weights
GEO:43.4833055;-116.4046421
X-APPLE-STRUCTURED-LOCATION;VALUE=URI;X-ADDRESS=Freedom Fitness Center 757 E Stagecoach Way Suite 103 Kuna ID 83634 United States;X-APPLE-RADIUS=500;X-TITLE=757 E Stagecoach Way\, Suite 103:geo:-116.4046421,43.4833055
END:VEVENT
BEGIN:VEVENT
DTSTART;TZID=America/Boise:20241029T091500
DTEND;TZID=America/Boise:20241029T100000
DTSTAMP:20260425T073610
CREATED:20231215T220117Z
LAST-MODIFIED:20231215T220129Z
UID:10012938-1730193300-1730196000@freedomfitnessidaho.com
SUMMARY:Barre w/Grace
DESCRIPTION:Combines fundamental classical ballet movements with traditional fitness exercises. Built from Pilates and dance principles\, a strong emphasis is placed on form-focused movement and proper technique. It is an effective total body workout focused on low-impact\, high-intensity movements that lift and tone muscles\, and improve strength\, agility and flexibility.
URL:https://freedomfitnessidaho.com/event/barre-w-grace-2022-06-07/2024-10-29/
LOCATION:Freedom Fitness Center\, 757 E Stagecoach Way\, Suite 103\, Kuna\, ID\, 83634\, United States
CATEGORIES:Balance,Body weight,Core,Loop band
GEO:43.4833055;-116.4046421
X-APPLE-STRUCTURED-LOCATION;VALUE=URI;X-ADDRESS=Freedom Fitness Center 757 E Stagecoach Way Suite 103 Kuna ID 83634 United States;X-APPLE-RADIUS=500;X-TITLE=757 E Stagecoach Way\, Suite 103:geo:-116.4046421,43.4833055
END:VEVENT
BEGIN:VEVENT
DTSTART;TZID=America/Boise:20241029T101500
DTEND;TZID=America/Boise:20241029T110000
DTSTAMP:20260425T073610
CREATED:20240125T211934Z
LAST-MODIFIED:20240128T000314Z
UID:10012992-1730196900-1730199600@freedomfitnessidaho.com
SUMMARY:Yoga w/Shawna
DESCRIPTION:
URL:https://freedomfitnessidaho.com/event/yoga-w-shawna-3/2024-10-29/
LOCATION:Freedom Fitness Center\, 757 E Stagecoach Way\, Suite 103\, Kuna\, ID\, 83634\, United States
CATEGORIES:Yoga
GEO:43.4833055;-116.4046421
X-APPLE-STRUCTURED-LOCATION;VALUE=URI;X-ADDRESS=Freedom Fitness Center 757 E Stagecoach Way Suite 103 Kuna ID 83634 United States;X-APPLE-RADIUS=500;X-TITLE=757 E Stagecoach Way\, Suite 103:geo:-116.4046421,43.4833055
END:VEVENT
BEGIN:VEVENT
DTSTART;TZID=America/Boise:20241029T190000
DTEND;TZID=America/Boise:20241029T194500
DTSTAMP:20260425T073610
CREATED:20240729T195536Z
LAST-MODIFIED:20240729T195537Z
UID:10028274-1730228400-1730231100@freedomfitnessidaho.com
SUMMARY:Zumba w/Janine
DESCRIPTION:
URL:https://freedomfitnessidaho.com/event/zumba-w-janine-2-2/2024-10-29/
LOCATION:Freedom Fitness Center\, 757 E Stagecoach Way\, Suite 103\, Kuna\, ID\, 83634\, United States
CATEGORIES:Cardio,Dance
GEO:43.4833055;-116.4046421
X-APPLE-STRUCTURED-LOCATION;VALUE=URI;X-ADDRESS=Freedom Fitness Center 757 E Stagecoach Way Suite 103 Kuna ID 83634 United States;X-APPLE-RADIUS=500;X-TITLE=757 E Stagecoach Way\, Suite 103:geo:-116.4046421,43.4833055
END:VEVENT
BEGIN:VEVENT
DTSTART;TZID=America/Boise:20241030T081500
DTEND;TZID=America/Boise:20241030T090000
DTSTAMP:20260425T073610
CREATED:20231215T220528Z
LAST-MODIFIED:20231215T220540Z
UID:10013098-1730276100-1730278800@freedomfitnessidaho.com
SUMMARY:Bootcamp w/Laci
DESCRIPTION:
URL:https://freedomfitnessidaho.com/event/bootcamp-w-laci-3-2/2024-10-30/
LOCATION:Freedom Fitness Center\, 757 E Stagecoach Way\, Suite 103\, Kuna\, ID\, 83634\, United States
CATEGORIES:Body weight,Cardio,Core,Strength Training,Weights
GEO:43.4833055;-116.4046421
X-APPLE-STRUCTURED-LOCATION;VALUE=URI;X-ADDRESS=Freedom Fitness Center 757 E Stagecoach Way Suite 103 Kuna ID 83634 United States;X-APPLE-RADIUS=500;X-TITLE=757 E Stagecoach Way\, Suite 103:geo:-116.4046421,43.4833055
END:VEVENT
BEGIN:VEVENT
DTSTART;TZID=America/Boise:20241030T091500
DTEND;TZID=America/Boise:20241030T100500
DTSTAMP:20260425T073610
CREATED:20240903T214052Z
LAST-MODIFIED:20240903T214315Z
UID:10029335-1730279700-1730282700@freedomfitnessidaho.com
SUMMARY:Pound w/Jenna
DESCRIPTION:
URL:https://freedomfitnessidaho.com/event/pound-w-jenna/2024-10-30/
LOCATION:Freedom Fitness Center\, 757 E Stagecoach Way\, Suite 103\, Kuna\, ID\, 83634\, United States
CATEGORIES:Cardio,Core,Dance,Drum sticks,Focus,Low Impact
GEO:43.4833055;-116.4046421
X-APPLE-STRUCTURED-LOCATION;VALUE=URI;X-ADDRESS=Freedom Fitness Center 757 E Stagecoach Way Suite 103 Kuna ID 83634 United States;X-APPLE-RADIUS=500;X-TITLE=757 E Stagecoach Way\, Suite 103:geo:-116.4046421,43.4833055
END:VEVENT
BEGIN:VEVENT
DTSTART;TZID=America/Boise:20241030T102000
DTEND;TZID=America/Boise:20241030T110500
DTSTAMP:20260425T073610
CREATED:20231231T025810Z
LAST-MODIFIED:20231231T025811Z
UID:10020310-1730283600-1730286300@freedomfitnessidaho.com
SUMMARY:Silver Sneakers w/Rachael
DESCRIPTION:
URL:https://freedomfitnessidaho.com/event/silver-sneakers-w-rachael-2/2024-10-30/
LOCATION:Freedom Fitness Center\, 757 E Stagecoach Way\, Suite 103\, Kuna\, ID\, 83634\, United States
CATEGORIES:Balance,Ball,Body weight,Cardio,Chair,Focus,Low Impact,Resistance bands,Weights
GEO:43.4833055;-116.4046421
X-APPLE-STRUCTURED-LOCATION;VALUE=URI;X-ADDRESS=Freedom Fitness Center 757 E Stagecoach Way Suite 103 Kuna ID 83634 United States;X-APPLE-RADIUS=500;X-TITLE=757 E Stagecoach Way\, Suite 103:geo:-116.4046421,43.4833055
END:VEVENT
BEGIN:VEVENT
DTSTART;TZID=America/Boise:20241030T181500
DTEND;TZID=America/Boise:20241030T190000
DTSTAMP:20260425T073610
CREATED:20241009T195042Z
LAST-MODIFIED:20241009T195042Z
UID:10029594-1730312100-1730314800@freedomfitnessidaho.com
SUMMARY:High Fitness w/Kelsey
DESCRIPTION:
URL:https://freedomfitnessidaho.com/event/high-fitness-w-kelsey/
LOCATION:Freedom Fitness Center\, 757 E Stagecoach Way\, Suite 103\, Kuna\, ID\, 83634\, United States
CATEGORIES:Cardio,Dance
GEO:43.4833055;-116.4046421
X-APPLE-STRUCTURED-LOCATION;VALUE=URI;X-ADDRESS=Freedom Fitness Center 757 E Stagecoach Way Suite 103 Kuna ID 83634 United States;X-APPLE-RADIUS=500;X-TITLE=757 E Stagecoach Way\, Suite 103:geo:-116.4046421,43.4833055
END:VEVENT
BEGIN:VEVENT
DTSTART;TZID=America/Boise:20241031T080000
DTEND;TZID=America/Boise:20241031T090000
DTSTAMP:20260425T073610
CREATED:20240125T211642Z
LAST-MODIFIED:20240430T231136Z
UID:10025333-1730361600-1730365200@freedomfitnessidaho.com
SUMMARY:Yoga w/Shawna
DESCRIPTION:
URL:https://freedomfitnessidaho.com/event/yoga-w-shawna-2-2/2024-10-31/
LOCATION:Freedom Fitness Center\, 757 E Stagecoach Way\, Suite 103\, Kuna\, ID\, 83634\, United States
CATEGORIES:Balance,Body weight,Core,Focus,Low Impact,Stetching,Yoga
GEO:43.4833055;-116.4046421
X-APPLE-STRUCTURED-LOCATION;VALUE=URI;X-ADDRESS=Freedom Fitness Center 757 E Stagecoach Way Suite 103 Kuna ID 83634 United States;X-APPLE-RADIUS=500;X-TITLE=757 E Stagecoach Way\, Suite 103:geo:-116.4046421,43.4833055
END:VEVENT
BEGIN:VEVENT
DTSTART;TZID=America/Boise:20241031T101500
DTEND;TZID=America/Boise:20241031T110000
DTSTAMP:20260425T073610
CREATED:20240715T230849Z
LAST-MODIFIED:20240715T230850Z
UID:10027444-1730369700-1730372400@freedomfitnessidaho.com
SUMMARY:Barre w/Grace
DESCRIPTION:
URL:https://freedomfitnessidaho.com/event/barre-w-grace-2-2/2024-10-31/
LOCATION:Freedom Fitness Center\, 757 E Stagecoach Way\, Suite 103\, Kuna\, ID\, 83634\, United States
CATEGORIES:Balance,Ball,Body weight,Chair,Weights
GEO:43.4833055;-116.4046421
X-APPLE-STRUCTURED-LOCATION;VALUE=URI;X-ADDRESS=Freedom Fitness Center 757 E Stagecoach Way Suite 103 Kuna ID 83634 United States;X-APPLE-RADIUS=500;X-TITLE=757 E Stagecoach Way\, Suite 103:geo:-116.4046421,43.4833055
END:VEVENT
END:VCALENDAR