BEGIN:VCALENDAR
VERSION:2.0
PRODID:-//Freedom Fitness - ECPv6.2.9//NONSGML v1.0//EN
CALSCALE:GREGORIAN
METHOD:PUBLISH
X-ORIGINAL-URL:https://freedomfitnessidaho.com
X-WR-CALDESC:Events for Freedom Fitness
REFRESH-INTERVAL;VALUE=DURATION:PT1H
X-Robots-Tag:noindex
X-PUBLISHED-TTL:PT1H
BEGIN:VTIMEZONE
TZID:America/Boise
BEGIN:DAYLIGHT
TZOFFSETFROM:-0700
TZOFFSETTO:-0600
TZNAME:MDT
DTSTART:20260308T090000
END:DAYLIGHT
BEGIN:STANDARD
TZOFFSETFROM:-0600
TZOFFSETTO:-0700
TZNAME:MST
DTSTART:20261101T080000
END:STANDARD
END:VTIMEZONE
BEGIN:VEVENT
DTSTART;TZID=America/Boise:20260409T080000
DTEND;TZID=America/Boise:20260409T090000
DTSTAMP:20260421T092037
CREATED:20240125T211642Z
LAST-MODIFIED:20240430T231136Z
UID:10025408-1775721600-1775725200@freedomfitnessidaho.com
SUMMARY:Yoga w/Shawna
DESCRIPTION:
URL:https://freedomfitnessidaho.com/event/yoga-w-shawna-2-2/2026-04-09/
LOCATION:Freedom Fitness Center\, 757 E Stagecoach Way\, Suite 103\, Kuna\, ID\, 83634\, United States
CATEGORIES:Balance,Body weight,Core,Focus,Low Impact,Stetching,Yoga
GEO:43.4833055;-116.4046421
X-APPLE-STRUCTURED-LOCATION;VALUE=URI;X-ADDRESS=Freedom Fitness Center 757 E Stagecoach Way Suite 103 Kuna ID 83634 United States;X-APPLE-RADIUS=500;X-TITLE=757 E Stagecoach Way\, Suite 103:geo:-116.4046421,43.4833055
END:VEVENT
BEGIN:VEVENT
DTSTART;TZID=America/Boise:20260413T101500
DTEND;TZID=America/Boise:20260413T110000
DTSTAMP:20260421T092037
CREATED:20250602T225923Z
LAST-MODIFIED:20250602T225925Z
UID:10026213-1776075300-1776078000@freedomfitnessidaho.com
SUMMARY:Pilates w/Jenna
DESCRIPTION:
URL:https://freedomfitnessidaho.com/event/pilates-w-jenna-4/2026-04-13/
LOCATION:Freedom Fitness Center\, 757 E Stagecoach Way\, Suite 103\, Kuna\, ID\, 83634\, United States
CATEGORIES:Balance,Body weight,Stetching,Strength Training
GEO:43.4833055;-116.4046421
X-APPLE-STRUCTURED-LOCATION;VALUE=URI;X-ADDRESS=Freedom Fitness Center 757 E Stagecoach Way Suite 103 Kuna ID 83634 United States;X-APPLE-RADIUS=500;X-TITLE=757 E Stagecoach Way\, Suite 103:geo:-116.4046421,43.4833055
END:VEVENT
BEGIN:VEVENT
DTSTART;TZID=America/Boise:20260415T051000
DTEND;TZID=America/Boise:20260415T060000
DTSTAMP:20260421T092037
CREATED:20260105T151912Z
LAST-MODIFIED:20260105T151914Z
UID:10036082-1776229800-1776232800@freedomfitnessidaho.com
SUMMARY:Pound/Pilates Fusion w/Jenna
DESCRIPTION:
URL:https://freedomfitnessidaho.com/event/poundpilates-fusion-w-jenna-3-2/2026-04-15/
LOCATION:Freedom Fitness Center\, 757 E Stagecoach Way\, Suite 103\, Kuna\, ID\, 83634\, United States
CATEGORIES:Balance,Body weight,Cardio,Drum sticks,Focus,Functional Movement,Low Impact,Pilates,Stetching
GEO:43.4833055;-116.4046421
X-APPLE-STRUCTURED-LOCATION;VALUE=URI;X-ADDRESS=Freedom Fitness Center 757 E Stagecoach Way Suite 103 Kuna ID 83634 United States;X-APPLE-RADIUS=500;X-TITLE=757 E Stagecoach Way\, Suite 103:geo:-116.4046421,43.4833055
END:VEVENT
BEGIN:VEVENT
DTSTART;TZID=America/Boise:20260416T080000
DTEND;TZID=America/Boise:20260416T090000
DTSTAMP:20260421T092037
CREATED:20240125T211642Z
LAST-MODIFIED:20240430T231136Z
UID:10025409-1776326400-1776330000@freedomfitnessidaho.com
SUMMARY:Yoga w/Shawna
DESCRIPTION:
URL:https://freedomfitnessidaho.com/event/yoga-w-shawna-2-2/2026-04-16/
LOCATION:Freedom Fitness Center\, 757 E Stagecoach Way\, Suite 103\, Kuna\, ID\, 83634\, United States
CATEGORIES:Balance,Body weight,Core,Focus,Low Impact,Stetching,Yoga
GEO:43.4833055;-116.4046421
X-APPLE-STRUCTURED-LOCATION;VALUE=URI;X-ADDRESS=Freedom Fitness Center 757 E Stagecoach Way Suite 103 Kuna ID 83634 United States;X-APPLE-RADIUS=500;X-TITLE=757 E Stagecoach Way\, Suite 103:geo:-116.4046421,43.4833055
END:VEVENT
BEGIN:VEVENT
DTSTART;TZID=America/Boise:20260420T101500
DTEND;TZID=America/Boise:20260420T110000
DTSTAMP:20260421T092037
CREATED:20250602T225923Z
LAST-MODIFIED:20250602T225925Z
UID:10026214-1776680100-1776682800@freedomfitnessidaho.com
SUMMARY:Pilates w/Jenna
DESCRIPTION:
URL:https://freedomfitnessidaho.com/event/pilates-w-jenna-4/2026-04-20/
LOCATION:Freedom Fitness Center\, 757 E Stagecoach Way\, Suite 103\, Kuna\, ID\, 83634\, United States
CATEGORIES:Balance,Body weight,Stetching,Strength Training
GEO:43.4833055;-116.4046421
X-APPLE-STRUCTURED-LOCATION;VALUE=URI;X-ADDRESS=Freedom Fitness Center 757 E Stagecoach Way Suite 103 Kuna ID 83634 United States;X-APPLE-RADIUS=500;X-TITLE=757 E Stagecoach Way\, Suite 103:geo:-116.4046421,43.4833055
END:VEVENT
BEGIN:VEVENT
DTSTART;TZID=America/Boise:20260422T051000
DTEND;TZID=America/Boise:20260422T060000
DTSTAMP:20260421T092037
CREATED:20260105T151912Z
LAST-MODIFIED:20260105T151914Z
UID:10036083-1776834600-1776837600@freedomfitnessidaho.com
SUMMARY:Pound/Pilates Fusion w/Jenna
DESCRIPTION:
URL:https://freedomfitnessidaho.com/event/poundpilates-fusion-w-jenna-3-2/2026-04-22/
LOCATION:Freedom Fitness Center\, 757 E Stagecoach Way\, Suite 103\, Kuna\, ID\, 83634\, United States
CATEGORIES:Balance,Body weight,Cardio,Drum sticks,Focus,Functional Movement,Low Impact,Pilates,Stetching
GEO:43.4833055;-116.4046421
X-APPLE-STRUCTURED-LOCATION;VALUE=URI;X-ADDRESS=Freedom Fitness Center 757 E Stagecoach Way Suite 103 Kuna ID 83634 United States;X-APPLE-RADIUS=500;X-TITLE=757 E Stagecoach Way\, Suite 103:geo:-116.4046421,43.4833055
END:VEVENT
BEGIN:VEVENT
DTSTART;TZID=America/Boise:20260423T080000
DTEND;TZID=America/Boise:20260423T090000
DTSTAMP:20260421T092037
CREATED:20240125T211642Z
LAST-MODIFIED:20240430T231136Z
UID:10025410-1776931200-1776934800@freedomfitnessidaho.com
SUMMARY:Yoga w/Shawna
DESCRIPTION:
URL:https://freedomfitnessidaho.com/event/yoga-w-shawna-2-2/2026-04-23/
LOCATION:Freedom Fitness Center\, 757 E Stagecoach Way\, Suite 103\, Kuna\, ID\, 83634\, United States
CATEGORIES:Balance,Body weight,Core,Focus,Low Impact,Stetching,Yoga
GEO:43.4833055;-116.4046421
X-APPLE-STRUCTURED-LOCATION;VALUE=URI;X-ADDRESS=Freedom Fitness Center 757 E Stagecoach Way Suite 103 Kuna ID 83634 United States;X-APPLE-RADIUS=500;X-TITLE=757 E Stagecoach Way\, Suite 103:geo:-116.4046421,43.4833055
END:VEVENT
BEGIN:VEVENT
DTSTART;TZID=America/Boise:20260427T101500
DTEND;TZID=America/Boise:20260427T110000
DTSTAMP:20260421T092037
CREATED:20250602T225923Z
LAST-MODIFIED:20250602T225925Z
UID:10026215-1777284900-1777287600@freedomfitnessidaho.com
SUMMARY:Pilates w/Jenna
DESCRIPTION:
URL:https://freedomfitnessidaho.com/event/pilates-w-jenna-4/2026-04-27/
LOCATION:Freedom Fitness Center\, 757 E Stagecoach Way\, Suite 103\, Kuna\, ID\, 83634\, United States
CATEGORIES:Balance,Body weight,Stetching,Strength Training
GEO:43.4833055;-116.4046421
X-APPLE-STRUCTURED-LOCATION;VALUE=URI;X-ADDRESS=Freedom Fitness Center 757 E Stagecoach Way Suite 103 Kuna ID 83634 United States;X-APPLE-RADIUS=500;X-TITLE=757 E Stagecoach Way\, Suite 103:geo:-116.4046421,43.4833055
END:VEVENT
BEGIN:VEVENT
DTSTART;TZID=America/Boise:20260429T051000
DTEND;TZID=America/Boise:20260429T060000
DTSTAMP:20260421T092037
CREATED:20260105T151912Z
LAST-MODIFIED:20260105T151914Z
UID:10036084-1777439400-1777442400@freedomfitnessidaho.com
SUMMARY:Pound/Pilates Fusion w/Jenna
DESCRIPTION:
URL:https://freedomfitnessidaho.com/event/poundpilates-fusion-w-jenna-3-2/2026-04-29/
LOCATION:Freedom Fitness Center\, 757 E Stagecoach Way\, Suite 103\, Kuna\, ID\, 83634\, United States
CATEGORIES:Balance,Body weight,Cardio,Drum sticks,Focus,Functional Movement,Low Impact,Pilates,Stetching
GEO:43.4833055;-116.4046421
X-APPLE-STRUCTURED-LOCATION;VALUE=URI;X-ADDRESS=Freedom Fitness Center 757 E Stagecoach Way Suite 103 Kuna ID 83634 United States;X-APPLE-RADIUS=500;X-TITLE=757 E Stagecoach Way\, Suite 103:geo:-116.4046421,43.4833055
END:VEVENT
BEGIN:VEVENT
DTSTART;TZID=America/Boise:20260430T080000
DTEND;TZID=America/Boise:20260430T090000
DTSTAMP:20260421T092037
CREATED:20240125T211642Z
LAST-MODIFIED:20240430T231136Z
UID:10025411-1777536000-1777539600@freedomfitnessidaho.com
SUMMARY:Yoga w/Shawna
DESCRIPTION:
URL:https://freedomfitnessidaho.com/event/yoga-w-shawna-2-2/2026-04-30/
LOCATION:Freedom Fitness Center\, 757 E Stagecoach Way\, Suite 103\, Kuna\, ID\, 83634\, United States
CATEGORIES:Balance,Body weight,Core,Focus,Low Impact,Stetching,Yoga
GEO:43.4833055;-116.4046421
X-APPLE-STRUCTURED-LOCATION;VALUE=URI;X-ADDRESS=Freedom Fitness Center 757 E Stagecoach Way Suite 103 Kuna ID 83634 United States;X-APPLE-RADIUS=500;X-TITLE=757 E Stagecoach Way\, Suite 103:geo:-116.4046421,43.4833055
END:VEVENT
BEGIN:VEVENT
DTSTART;TZID=America/Boise:20260504T101500
DTEND;TZID=America/Boise:20260504T110000
DTSTAMP:20260421T092037
CREATED:20250602T225923Z
LAST-MODIFIED:20250602T225925Z
UID:10026216-1777889700-1777892400@freedomfitnessidaho.com
SUMMARY:Pilates w/Jenna
DESCRIPTION:
URL:https://freedomfitnessidaho.com/event/pilates-w-jenna-4/2026-05-04/
LOCATION:Freedom Fitness Center\, 757 E Stagecoach Way\, Suite 103\, Kuna\, ID\, 83634\, United States
CATEGORIES:Balance,Body weight,Stetching,Strength Training
GEO:43.4833055;-116.4046421
X-APPLE-STRUCTURED-LOCATION;VALUE=URI;X-ADDRESS=Freedom Fitness Center 757 E Stagecoach Way Suite 103 Kuna ID 83634 United States;X-APPLE-RADIUS=500;X-TITLE=757 E Stagecoach Way\, Suite 103:geo:-116.4046421,43.4833055
END:VEVENT
BEGIN:VEVENT
DTSTART;TZID=America/Boise:20260506T051000
DTEND;TZID=America/Boise:20260506T060000
DTSTAMP:20260421T092037
CREATED:20260105T151912Z
LAST-MODIFIED:20260105T151914Z
UID:10036085-1778044200-1778047200@freedomfitnessidaho.com
SUMMARY:Pound/Pilates Fusion w/Jenna
DESCRIPTION:
URL:https://freedomfitnessidaho.com/event/poundpilates-fusion-w-jenna-3-2/2026-05-06/
LOCATION:Freedom Fitness Center\, 757 E Stagecoach Way\, Suite 103\, Kuna\, ID\, 83634\, United States
CATEGORIES:Balance,Body weight,Cardio,Drum sticks,Focus,Functional Movement,Low Impact,Pilates,Stetching
GEO:43.4833055;-116.4046421
X-APPLE-STRUCTURED-LOCATION;VALUE=URI;X-ADDRESS=Freedom Fitness Center 757 E Stagecoach Way Suite 103 Kuna ID 83634 United States;X-APPLE-RADIUS=500;X-TITLE=757 E Stagecoach Way\, Suite 103:geo:-116.4046421,43.4833055
END:VEVENT
BEGIN:VEVENT
DTSTART;TZID=America/Boise:20260507T080000
DTEND;TZID=America/Boise:20260507T090000
DTSTAMP:20260421T092037
CREATED:20240125T211642Z
LAST-MODIFIED:20240430T231136Z
UID:10025412-1778140800-1778144400@freedomfitnessidaho.com
SUMMARY:Yoga w/Shawna
DESCRIPTION:
URL:https://freedomfitnessidaho.com/event/yoga-w-shawna-2-2/2026-05-07/
LOCATION:Freedom Fitness Center\, 757 E Stagecoach Way\, Suite 103\, Kuna\, ID\, 83634\, United States
CATEGORIES:Balance,Body weight,Core,Focus,Low Impact,Stetching,Yoga
GEO:43.4833055;-116.4046421
X-APPLE-STRUCTURED-LOCATION;VALUE=URI;X-ADDRESS=Freedom Fitness Center 757 E Stagecoach Way Suite 103 Kuna ID 83634 United States;X-APPLE-RADIUS=500;X-TITLE=757 E Stagecoach Way\, Suite 103:geo:-116.4046421,43.4833055
END:VEVENT
BEGIN:VEVENT
DTSTART;TZID=America/Boise:20260511T101500
DTEND;TZID=America/Boise:20260511T110000
DTSTAMP:20260421T092037
CREATED:20250602T225923Z
LAST-MODIFIED:20250602T225925Z
UID:10026217-1778494500-1778497200@freedomfitnessidaho.com
SUMMARY:Pilates w/Jenna
DESCRIPTION:
URL:https://freedomfitnessidaho.com/event/pilates-w-jenna-4/2026-05-11/
LOCATION:Freedom Fitness Center\, 757 E Stagecoach Way\, Suite 103\, Kuna\, ID\, 83634\, United States
CATEGORIES:Balance,Body weight,Stetching,Strength Training
GEO:43.4833055;-116.4046421
X-APPLE-STRUCTURED-LOCATION;VALUE=URI;X-ADDRESS=Freedom Fitness Center 757 E Stagecoach Way Suite 103 Kuna ID 83634 United States;X-APPLE-RADIUS=500;X-TITLE=757 E Stagecoach Way\, Suite 103:geo:-116.4046421,43.4833055
END:VEVENT
BEGIN:VEVENT
DTSTART;TZID=America/Boise:20260513T051000
DTEND;TZID=America/Boise:20260513T060000
DTSTAMP:20260421T092037
CREATED:20260105T151912Z
LAST-MODIFIED:20260105T151914Z
UID:10036086-1778649000-1778652000@freedomfitnessidaho.com
SUMMARY:Pound/Pilates Fusion w/Jenna
DESCRIPTION:
URL:https://freedomfitnessidaho.com/event/poundpilates-fusion-w-jenna-3-2/2026-05-13/
LOCATION:Freedom Fitness Center\, 757 E Stagecoach Way\, Suite 103\, Kuna\, ID\, 83634\, United States
CATEGORIES:Balance,Body weight,Cardio,Drum sticks,Focus,Functional Movement,Low Impact,Pilates,Stetching
GEO:43.4833055;-116.4046421
X-APPLE-STRUCTURED-LOCATION;VALUE=URI;X-ADDRESS=Freedom Fitness Center 757 E Stagecoach Way Suite 103 Kuna ID 83634 United States;X-APPLE-RADIUS=500;X-TITLE=757 E Stagecoach Way\, Suite 103:geo:-116.4046421,43.4833055
END:VEVENT
BEGIN:VEVENT
DTSTART;TZID=America/Boise:20260514T080000
DTEND;TZID=America/Boise:20260514T090000
DTSTAMP:20260421T092037
CREATED:20240125T211642Z
LAST-MODIFIED:20240430T231136Z
UID:10025413-1778745600-1778749200@freedomfitnessidaho.com
SUMMARY:Yoga w/Shawna
DESCRIPTION:
URL:https://freedomfitnessidaho.com/event/yoga-w-shawna-2-2/2026-05-14/
LOCATION:Freedom Fitness Center\, 757 E Stagecoach Way\, Suite 103\, Kuna\, ID\, 83634\, United States
CATEGORIES:Balance,Body weight,Core,Focus,Low Impact,Stetching,Yoga
GEO:43.4833055;-116.4046421
X-APPLE-STRUCTURED-LOCATION;VALUE=URI;X-ADDRESS=Freedom Fitness Center 757 E Stagecoach Way Suite 103 Kuna ID 83634 United States;X-APPLE-RADIUS=500;X-TITLE=757 E Stagecoach Way\, Suite 103:geo:-116.4046421,43.4833055
END:VEVENT
BEGIN:VEVENT
DTSTART;TZID=America/Boise:20260518T101500
DTEND;TZID=America/Boise:20260518T110000
DTSTAMP:20260421T092037
CREATED:20250602T225923Z
LAST-MODIFIED:20250602T225925Z
UID:10026218-1779099300-1779102000@freedomfitnessidaho.com
SUMMARY:Pilates w/Jenna
DESCRIPTION:
URL:https://freedomfitnessidaho.com/event/pilates-w-jenna-4/2026-05-18/
LOCATION:Freedom Fitness Center\, 757 E Stagecoach Way\, Suite 103\, Kuna\, ID\, 83634\, United States
CATEGORIES:Balance,Body weight,Stetching,Strength Training
GEO:43.4833055;-116.4046421
X-APPLE-STRUCTURED-LOCATION;VALUE=URI;X-ADDRESS=Freedom Fitness Center 757 E Stagecoach Way Suite 103 Kuna ID 83634 United States;X-APPLE-RADIUS=500;X-TITLE=757 E Stagecoach Way\, Suite 103:geo:-116.4046421,43.4833055
END:VEVENT
BEGIN:VEVENT
DTSTART;TZID=America/Boise:20260520T051000
DTEND;TZID=America/Boise:20260520T060000
DTSTAMP:20260421T092037
CREATED:20260105T151912Z
LAST-MODIFIED:20260105T151914Z
UID:10036087-1779253800-1779256800@freedomfitnessidaho.com
SUMMARY:Pound/Pilates Fusion w/Jenna
DESCRIPTION:
URL:https://freedomfitnessidaho.com/event/poundpilates-fusion-w-jenna-3-2/2026-05-20/
LOCATION:Freedom Fitness Center\, 757 E Stagecoach Way\, Suite 103\, Kuna\, ID\, 83634\, United States
CATEGORIES:Balance,Body weight,Cardio,Drum sticks,Focus,Functional Movement,Low Impact,Pilates,Stetching
GEO:43.4833055;-116.4046421
X-APPLE-STRUCTURED-LOCATION;VALUE=URI;X-ADDRESS=Freedom Fitness Center 757 E Stagecoach Way Suite 103 Kuna ID 83634 United States;X-APPLE-RADIUS=500;X-TITLE=757 E Stagecoach Way\, Suite 103:geo:-116.4046421,43.4833055
END:VEVENT
BEGIN:VEVENT
DTSTART;TZID=America/Boise:20260521T080000
DTEND;TZID=America/Boise:20260521T090000
DTSTAMP:20260421T092037
CREATED:20240125T211642Z
LAST-MODIFIED:20240430T231136Z
UID:10025414-1779350400-1779354000@freedomfitnessidaho.com
SUMMARY:Yoga w/Shawna
DESCRIPTION:
URL:https://freedomfitnessidaho.com/event/yoga-w-shawna-2-2/2026-05-21/
LOCATION:Freedom Fitness Center\, 757 E Stagecoach Way\, Suite 103\, Kuna\, ID\, 83634\, United States
CATEGORIES:Balance,Body weight,Core,Focus,Low Impact,Stetching,Yoga
GEO:43.4833055;-116.4046421
X-APPLE-STRUCTURED-LOCATION;VALUE=URI;X-ADDRESS=Freedom Fitness Center 757 E Stagecoach Way Suite 103 Kuna ID 83634 United States;X-APPLE-RADIUS=500;X-TITLE=757 E Stagecoach Way\, Suite 103:geo:-116.4046421,43.4833055
END:VEVENT
BEGIN:VEVENT
DTSTART;TZID=America/Boise:20260525T101500
DTEND;TZID=America/Boise:20260525T110000
DTSTAMP:20260421T092037
CREATED:20250602T225923Z
LAST-MODIFIED:20250602T225925Z
UID:10026219-1779704100-1779706800@freedomfitnessidaho.com
SUMMARY:Pilates w/Jenna
DESCRIPTION:
URL:https://freedomfitnessidaho.com/event/pilates-w-jenna-4/2026-05-25/
LOCATION:Freedom Fitness Center\, 757 E Stagecoach Way\, Suite 103\, Kuna\, ID\, 83634\, United States
CATEGORIES:Balance,Body weight,Stetching,Strength Training
GEO:43.4833055;-116.4046421
X-APPLE-STRUCTURED-LOCATION;VALUE=URI;X-ADDRESS=Freedom Fitness Center 757 E Stagecoach Way Suite 103 Kuna ID 83634 United States;X-APPLE-RADIUS=500;X-TITLE=757 E Stagecoach Way\, Suite 103:geo:-116.4046421,43.4833055
END:VEVENT
BEGIN:VEVENT
DTSTART;TZID=America/Boise:20260527T051000
DTEND;TZID=America/Boise:20260527T060000
DTSTAMP:20260421T092037
CREATED:20260105T151912Z
LAST-MODIFIED:20260105T151914Z
UID:10036088-1779858600-1779861600@freedomfitnessidaho.com
SUMMARY:Pound/Pilates Fusion w/Jenna
DESCRIPTION:
URL:https://freedomfitnessidaho.com/event/poundpilates-fusion-w-jenna-3-2/2026-05-27/
LOCATION:Freedom Fitness Center\, 757 E Stagecoach Way\, Suite 103\, Kuna\, ID\, 83634\, United States
CATEGORIES:Balance,Body weight,Cardio,Drum sticks,Focus,Functional Movement,Low Impact,Pilates,Stetching
GEO:43.4833055;-116.4046421
X-APPLE-STRUCTURED-LOCATION;VALUE=URI;X-ADDRESS=Freedom Fitness Center 757 E Stagecoach Way Suite 103 Kuna ID 83634 United States;X-APPLE-RADIUS=500;X-TITLE=757 E Stagecoach Way\, Suite 103:geo:-116.4046421,43.4833055
END:VEVENT
BEGIN:VEVENT
DTSTART;TZID=America/Boise:20260528T080000
DTEND;TZID=America/Boise:20260528T090000
DTSTAMP:20260421T092037
CREATED:20240125T211642Z
LAST-MODIFIED:20240430T231136Z
UID:10025415-1779955200-1779958800@freedomfitnessidaho.com
SUMMARY:Yoga w/Shawna
DESCRIPTION:
URL:https://freedomfitnessidaho.com/event/yoga-w-shawna-2-2/2026-05-28/
LOCATION:Freedom Fitness Center\, 757 E Stagecoach Way\, Suite 103\, Kuna\, ID\, 83634\, United States
CATEGORIES:Balance,Body weight,Core,Focus,Low Impact,Stetching,Yoga
GEO:43.4833055;-116.4046421
X-APPLE-STRUCTURED-LOCATION;VALUE=URI;X-ADDRESS=Freedom Fitness Center 757 E Stagecoach Way Suite 103 Kuna ID 83634 United States;X-APPLE-RADIUS=500;X-TITLE=757 E Stagecoach Way\, Suite 103:geo:-116.4046421,43.4833055
END:VEVENT
BEGIN:VEVENT
DTSTART;TZID=America/Boise:20260601T101500
DTEND;TZID=America/Boise:20260601T110000
DTSTAMP:20260421T092037
CREATED:20250602T225923Z
LAST-MODIFIED:20250602T225925Z
UID:10026220-1780308900-1780311600@freedomfitnessidaho.com
SUMMARY:Pilates w/Jenna
DESCRIPTION:
URL:https://freedomfitnessidaho.com/event/pilates-w-jenna-4/2026-06-01/
LOCATION:Freedom Fitness Center\, 757 E Stagecoach Way\, Suite 103\, Kuna\, ID\, 83634\, United States
CATEGORIES:Balance,Body weight,Stetching,Strength Training
GEO:43.4833055;-116.4046421
X-APPLE-STRUCTURED-LOCATION;VALUE=URI;X-ADDRESS=Freedom Fitness Center 757 E Stagecoach Way Suite 103 Kuna ID 83634 United States;X-APPLE-RADIUS=500;X-TITLE=757 E Stagecoach Way\, Suite 103:geo:-116.4046421,43.4833055
END:VEVENT
BEGIN:VEVENT
DTSTART;TZID=America/Boise:20260603T051000
DTEND;TZID=America/Boise:20260603T060000
DTSTAMP:20260421T092037
CREATED:20260105T151912Z
LAST-MODIFIED:20260105T151914Z
UID:10036089-1780463400-1780466400@freedomfitnessidaho.com
SUMMARY:Pound/Pilates Fusion w/Jenna
DESCRIPTION:
URL:https://freedomfitnessidaho.com/event/poundpilates-fusion-w-jenna-3-2/2026-06-03/
LOCATION:Freedom Fitness Center\, 757 E Stagecoach Way\, Suite 103\, Kuna\, ID\, 83634\, United States
CATEGORIES:Balance,Body weight,Cardio,Drum sticks,Focus,Functional Movement,Low Impact,Pilates,Stetching
GEO:43.4833055;-116.4046421
X-APPLE-STRUCTURED-LOCATION;VALUE=URI;X-ADDRESS=Freedom Fitness Center 757 E Stagecoach Way Suite 103 Kuna ID 83634 United States;X-APPLE-RADIUS=500;X-TITLE=757 E Stagecoach Way\, Suite 103:geo:-116.4046421,43.4833055
END:VEVENT
BEGIN:VEVENT
DTSTART;TZID=America/Boise:20260604T080000
DTEND;TZID=America/Boise:20260604T090000
DTSTAMP:20260421T092037
CREATED:20240125T211642Z
LAST-MODIFIED:20240430T231136Z
UID:10025416-1780560000-1780563600@freedomfitnessidaho.com
SUMMARY:Yoga w/Shawna
DESCRIPTION:
URL:https://freedomfitnessidaho.com/event/yoga-w-shawna-2-2/2026-06-04/
LOCATION:Freedom Fitness Center\, 757 E Stagecoach Way\, Suite 103\, Kuna\, ID\, 83634\, United States
CATEGORIES:Balance,Body weight,Core,Focus,Low Impact,Stetching,Yoga
GEO:43.4833055;-116.4046421
X-APPLE-STRUCTURED-LOCATION;VALUE=URI;X-ADDRESS=Freedom Fitness Center 757 E Stagecoach Way Suite 103 Kuna ID 83634 United States;X-APPLE-RADIUS=500;X-TITLE=757 E Stagecoach Way\, Suite 103:geo:-116.4046421,43.4833055
END:VEVENT
BEGIN:VEVENT
DTSTART;TZID=America/Boise:20260608T101500
DTEND;TZID=America/Boise:20260608T110000
DTSTAMP:20260421T092037
CREATED:20250602T225923Z
LAST-MODIFIED:20250602T225925Z
UID:10026221-1780913700-1780916400@freedomfitnessidaho.com
SUMMARY:Pilates w/Jenna
DESCRIPTION:
URL:https://freedomfitnessidaho.com/event/pilates-w-jenna-4/2026-06-08/
LOCATION:Freedom Fitness Center\, 757 E Stagecoach Way\, Suite 103\, Kuna\, ID\, 83634\, United States
CATEGORIES:Balance,Body weight,Stetching,Strength Training
GEO:43.4833055;-116.4046421
X-APPLE-STRUCTURED-LOCATION;VALUE=URI;X-ADDRESS=Freedom Fitness Center 757 E Stagecoach Way Suite 103 Kuna ID 83634 United States;X-APPLE-RADIUS=500;X-TITLE=757 E Stagecoach Way\, Suite 103:geo:-116.4046421,43.4833055
END:VEVENT
BEGIN:VEVENT
DTSTART;TZID=America/Boise:20260610T051000
DTEND;TZID=America/Boise:20260610T060000
DTSTAMP:20260421T092037
CREATED:20260105T151912Z
LAST-MODIFIED:20260105T151914Z
UID:10036090-1781068200-1781071200@freedomfitnessidaho.com
SUMMARY:Pound/Pilates Fusion w/Jenna
DESCRIPTION:
URL:https://freedomfitnessidaho.com/event/poundpilates-fusion-w-jenna-3-2/2026-06-10/
LOCATION:Freedom Fitness Center\, 757 E Stagecoach Way\, Suite 103\, Kuna\, ID\, 83634\, United States
CATEGORIES:Balance,Body weight,Cardio,Drum sticks,Focus,Functional Movement,Low Impact,Pilates,Stetching
GEO:43.4833055;-116.4046421
X-APPLE-STRUCTURED-LOCATION;VALUE=URI;X-ADDRESS=Freedom Fitness Center 757 E Stagecoach Way Suite 103 Kuna ID 83634 United States;X-APPLE-RADIUS=500;X-TITLE=757 E Stagecoach Way\, Suite 103:geo:-116.4046421,43.4833055
END:VEVENT
BEGIN:VEVENT
DTSTART;TZID=America/Boise:20260611T080000
DTEND;TZID=America/Boise:20260611T090000
DTSTAMP:20260421T092037
CREATED:20240125T211642Z
LAST-MODIFIED:20240430T231136Z
UID:10025417-1781164800-1781168400@freedomfitnessidaho.com
SUMMARY:Yoga w/Shawna
DESCRIPTION:
URL:https://freedomfitnessidaho.com/event/yoga-w-shawna-2-2/2026-06-11/
LOCATION:Freedom Fitness Center\, 757 E Stagecoach Way\, Suite 103\, Kuna\, ID\, 83634\, United States
CATEGORIES:Balance,Body weight,Core,Focus,Low Impact,Stetching,Yoga
GEO:43.4833055;-116.4046421
X-APPLE-STRUCTURED-LOCATION;VALUE=URI;X-ADDRESS=Freedom Fitness Center 757 E Stagecoach Way Suite 103 Kuna ID 83634 United States;X-APPLE-RADIUS=500;X-TITLE=757 E Stagecoach Way\, Suite 103:geo:-116.4046421,43.4833055
END:VEVENT
BEGIN:VEVENT
DTSTART;TZID=America/Boise:20260615T101500
DTEND;TZID=America/Boise:20260615T110000
DTSTAMP:20260421T092037
CREATED:20250602T225923Z
LAST-MODIFIED:20250602T225925Z
UID:10026222-1781518500-1781521200@freedomfitnessidaho.com
SUMMARY:Pilates w/Jenna
DESCRIPTION:
URL:https://freedomfitnessidaho.com/event/pilates-w-jenna-4/2026-06-15/
LOCATION:Freedom Fitness Center\, 757 E Stagecoach Way\, Suite 103\, Kuna\, ID\, 83634\, United States
CATEGORIES:Balance,Body weight,Stetching,Strength Training
GEO:43.4833055;-116.4046421
X-APPLE-STRUCTURED-LOCATION;VALUE=URI;X-ADDRESS=Freedom Fitness Center 757 E Stagecoach Way Suite 103 Kuna ID 83634 United States;X-APPLE-RADIUS=500;X-TITLE=757 E Stagecoach Way\, Suite 103:geo:-116.4046421,43.4833055
END:VEVENT
BEGIN:VEVENT
DTSTART;TZID=America/Boise:20260617T051000
DTEND;TZID=America/Boise:20260617T060000
DTSTAMP:20260421T092037
CREATED:20260105T151912Z
LAST-MODIFIED:20260105T151914Z
UID:10036091-1781673000-1781676000@freedomfitnessidaho.com
SUMMARY:Pound/Pilates Fusion w/Jenna
DESCRIPTION:
URL:https://freedomfitnessidaho.com/event/poundpilates-fusion-w-jenna-3-2/2026-06-17/
LOCATION:Freedom Fitness Center\, 757 E Stagecoach Way\, Suite 103\, Kuna\, ID\, 83634\, United States
CATEGORIES:Balance,Body weight,Cardio,Drum sticks,Focus,Functional Movement,Low Impact,Pilates,Stetching
GEO:43.4833055;-116.4046421
X-APPLE-STRUCTURED-LOCATION;VALUE=URI;X-ADDRESS=Freedom Fitness Center 757 E Stagecoach Way Suite 103 Kuna ID 83634 United States;X-APPLE-RADIUS=500;X-TITLE=757 E Stagecoach Way\, Suite 103:geo:-116.4046421,43.4833055
END:VEVENT
END:VCALENDAR