BEGIN:VCALENDAR
VERSION:2.0
PRODID:-//Freedom Fitness - ECPv6.2.9//NONSGML v1.0//EN
CALSCALE:GREGORIAN
METHOD:PUBLISH
X-ORIGINAL-URL:https://freedomfitnessidaho.com
X-WR-CALDESC:Events for Freedom Fitness
REFRESH-INTERVAL;VALUE=DURATION:PT1H
X-Robots-Tag:noindex
X-PUBLISHED-TTL:PT1H
BEGIN:VTIMEZONE
TZID:America/Boise
BEGIN:DAYLIGHT
TZOFFSETFROM:-0700
TZOFFSETTO:-0600
TZNAME:MDT
DTSTART:20290311T090000
END:DAYLIGHT
BEGIN:STANDARD
TZOFFSETFROM:-0600
TZOFFSETTO:-0700
TZNAME:MST
DTSTART:20291104T080000
END:STANDARD
BEGIN:DAYLIGHT
TZOFFSETFROM:-0700
TZOFFSETTO:-0600
TZNAME:MDT
DTSTART:20300310T090000
END:DAYLIGHT
BEGIN:STANDARD
TZOFFSETFROM:-0600
TZOFFSETTO:-0700
TZNAME:MST
DTSTART:20301103T080000
END:STANDARD
END:VTIMEZONE
BEGIN:VEVENT
DTSTART;TZID=America/Boise:20290822T081500
DTEND;TZID=America/Boise:20290822T090000
DTSTAMP:20260422T190309
CREATED:20250204T185900Z
LAST-MODIFIED:20250204T185900Z
UID:10032769-1882080900-1882083600@freedomfitnessidaho.com
SUMMARY:Bootcamp w/Laci
DESCRIPTION:
URL:https://freedomfitnessidaho.com/event/bootcamp-w-laci/2029-08-22/
LOCATION:Freedom Fitness Center\, 757 E Stagecoach Way\, Suite 103\, Kuna\, ID\, 83634\, United States
CATEGORIES:Body weight,Cardio,Core,Low Impact,Plyometrics,Strength Training,Weights
GEO:43.4833055;-116.4046421
X-APPLE-STRUCTURED-LOCATION;VALUE=URI;X-ADDRESS=Freedom Fitness Center 757 E Stagecoach Way Suite 103 Kuna ID 83634 United States;X-APPLE-RADIUS=500;X-TITLE=757 E Stagecoach Way\, Suite 103:geo:-116.4046421,43.4833055
END:VEVENT
BEGIN:VEVENT
DTSTART;TZID=America/Boise:20290829T081500
DTEND;TZID=America/Boise:20290829T090000
DTSTAMP:20260422T190309
CREATED:20250204T185900Z
LAST-MODIFIED:20250204T185900Z
UID:10032770-1882685700-1882688400@freedomfitnessidaho.com
SUMMARY:Bootcamp w/Laci
DESCRIPTION:
URL:https://freedomfitnessidaho.com/event/bootcamp-w-laci/2029-08-29/
LOCATION:Freedom Fitness Center\, 757 E Stagecoach Way\, Suite 103\, Kuna\, ID\, 83634\, United States
CATEGORIES:Body weight,Cardio,Core,Low Impact,Plyometrics,Strength Training,Weights
GEO:43.4833055;-116.4046421
X-APPLE-STRUCTURED-LOCATION;VALUE=URI;X-ADDRESS=Freedom Fitness Center 757 E Stagecoach Way Suite 103 Kuna ID 83634 United States;X-APPLE-RADIUS=500;X-TITLE=757 E Stagecoach Way\, Suite 103:geo:-116.4046421,43.4833055
END:VEVENT
BEGIN:VEVENT
DTSTART;TZID=America/Boise:20290905T081500
DTEND;TZID=America/Boise:20290905T090000
DTSTAMP:20260422T190309
CREATED:20250204T185900Z
LAST-MODIFIED:20250204T185900Z
UID:10032771-1883290500-1883293200@freedomfitnessidaho.com
SUMMARY:Bootcamp w/Laci
DESCRIPTION:
URL:https://freedomfitnessidaho.com/event/bootcamp-w-laci/2029-09-05/
LOCATION:Freedom Fitness Center\, 757 E Stagecoach Way\, Suite 103\, Kuna\, ID\, 83634\, United States
CATEGORIES:Body weight,Cardio,Core,Low Impact,Plyometrics,Strength Training,Weights
GEO:43.4833055;-116.4046421
X-APPLE-STRUCTURED-LOCATION;VALUE=URI;X-ADDRESS=Freedom Fitness Center 757 E Stagecoach Way Suite 103 Kuna ID 83634 United States;X-APPLE-RADIUS=500;X-TITLE=757 E Stagecoach Way\, Suite 103:geo:-116.4046421,43.4833055
END:VEVENT
BEGIN:VEVENT
DTSTART;TZID=America/Boise:20290912T081500
DTEND;TZID=America/Boise:20290912T090000
DTSTAMP:20260422T190309
CREATED:20250204T185900Z
LAST-MODIFIED:20250204T185900Z
UID:10032772-1883895300-1883898000@freedomfitnessidaho.com
SUMMARY:Bootcamp w/Laci
DESCRIPTION:
URL:https://freedomfitnessidaho.com/event/bootcamp-w-laci/2029-09-12/
LOCATION:Freedom Fitness Center\, 757 E Stagecoach Way\, Suite 103\, Kuna\, ID\, 83634\, United States
CATEGORIES:Body weight,Cardio,Core,Low Impact,Plyometrics,Strength Training,Weights
GEO:43.4833055;-116.4046421
X-APPLE-STRUCTURED-LOCATION;VALUE=URI;X-ADDRESS=Freedom Fitness Center 757 E Stagecoach Way Suite 103 Kuna ID 83634 United States;X-APPLE-RADIUS=500;X-TITLE=757 E Stagecoach Way\, Suite 103:geo:-116.4046421,43.4833055
END:VEVENT
BEGIN:VEVENT
DTSTART;TZID=America/Boise:20290919T081500
DTEND;TZID=America/Boise:20290919T090000
DTSTAMP:20260422T190309
CREATED:20250204T185900Z
LAST-MODIFIED:20250204T185900Z
UID:10032773-1884500100-1884502800@freedomfitnessidaho.com
SUMMARY:Bootcamp w/Laci
DESCRIPTION:
URL:https://freedomfitnessidaho.com/event/bootcamp-w-laci/2029-09-19/
LOCATION:Freedom Fitness Center\, 757 E Stagecoach Way\, Suite 103\, Kuna\, ID\, 83634\, United States
CATEGORIES:Body weight,Cardio,Core,Low Impact,Plyometrics,Strength Training,Weights
GEO:43.4833055;-116.4046421
X-APPLE-STRUCTURED-LOCATION;VALUE=URI;X-ADDRESS=Freedom Fitness Center 757 E Stagecoach Way Suite 103 Kuna ID 83634 United States;X-APPLE-RADIUS=500;X-TITLE=757 E Stagecoach Way\, Suite 103:geo:-116.4046421,43.4833055
END:VEVENT
BEGIN:VEVENT
DTSTART;TZID=America/Boise:20290926T081500
DTEND;TZID=America/Boise:20290926T090000
DTSTAMP:20260422T190309
CREATED:20250204T185900Z
LAST-MODIFIED:20250204T185900Z
UID:10032774-1885104900-1885107600@freedomfitnessidaho.com
SUMMARY:Bootcamp w/Laci
DESCRIPTION:
URL:https://freedomfitnessidaho.com/event/bootcamp-w-laci/2029-09-26/
LOCATION:Freedom Fitness Center\, 757 E Stagecoach Way\, Suite 103\, Kuna\, ID\, 83634\, United States
CATEGORIES:Body weight,Cardio,Core,Low Impact,Plyometrics,Strength Training,Weights
GEO:43.4833055;-116.4046421
X-APPLE-STRUCTURED-LOCATION;VALUE=URI;X-ADDRESS=Freedom Fitness Center 757 E Stagecoach Way Suite 103 Kuna ID 83634 United States;X-APPLE-RADIUS=500;X-TITLE=757 E Stagecoach Way\, Suite 103:geo:-116.4046421,43.4833055
END:VEVENT
BEGIN:VEVENT
DTSTART;TZID=America/Boise:20291003T081500
DTEND;TZID=America/Boise:20291003T090000
DTSTAMP:20260422T190309
CREATED:20250204T185900Z
LAST-MODIFIED:20250204T185900Z
UID:10032775-1885709700-1885712400@freedomfitnessidaho.com
SUMMARY:Bootcamp w/Laci
DESCRIPTION:
URL:https://freedomfitnessidaho.com/event/bootcamp-w-laci/2029-10-03/
LOCATION:Freedom Fitness Center\, 757 E Stagecoach Way\, Suite 103\, Kuna\, ID\, 83634\, United States
CATEGORIES:Body weight,Cardio,Core,Low Impact,Plyometrics,Strength Training,Weights
GEO:43.4833055;-116.4046421
X-APPLE-STRUCTURED-LOCATION;VALUE=URI;X-ADDRESS=Freedom Fitness Center 757 E Stagecoach Way Suite 103 Kuna ID 83634 United States;X-APPLE-RADIUS=500;X-TITLE=757 E Stagecoach Way\, Suite 103:geo:-116.4046421,43.4833055
END:VEVENT
BEGIN:VEVENT
DTSTART;TZID=America/Boise:20291010T081500
DTEND;TZID=America/Boise:20291010T090000
DTSTAMP:20260422T190309
CREATED:20250204T185900Z
LAST-MODIFIED:20250204T185900Z
UID:10032776-1886314500-1886317200@freedomfitnessidaho.com
SUMMARY:Bootcamp w/Laci
DESCRIPTION:
URL:https://freedomfitnessidaho.com/event/bootcamp-w-laci/2029-10-10/
LOCATION:Freedom Fitness Center\, 757 E Stagecoach Way\, Suite 103\, Kuna\, ID\, 83634\, United States
CATEGORIES:Body weight,Cardio,Core,Low Impact,Plyometrics,Strength Training,Weights
GEO:43.4833055;-116.4046421
X-APPLE-STRUCTURED-LOCATION;VALUE=URI;X-ADDRESS=Freedom Fitness Center 757 E Stagecoach Way Suite 103 Kuna ID 83634 United States;X-APPLE-RADIUS=500;X-TITLE=757 E Stagecoach Way\, Suite 103:geo:-116.4046421,43.4833055
END:VEVENT
BEGIN:VEVENT
DTSTART;TZID=America/Boise:20291017T081500
DTEND;TZID=America/Boise:20291017T090000
DTSTAMP:20260422T190309
CREATED:20250204T185900Z
LAST-MODIFIED:20250204T185900Z
UID:10032777-1886919300-1886922000@freedomfitnessidaho.com
SUMMARY:Bootcamp w/Laci
DESCRIPTION:
URL:https://freedomfitnessidaho.com/event/bootcamp-w-laci/2029-10-17/
LOCATION:Freedom Fitness Center\, 757 E Stagecoach Way\, Suite 103\, Kuna\, ID\, 83634\, United States
CATEGORIES:Body weight,Cardio,Core,Low Impact,Plyometrics,Strength Training,Weights
GEO:43.4833055;-116.4046421
X-APPLE-STRUCTURED-LOCATION;VALUE=URI;X-ADDRESS=Freedom Fitness Center 757 E Stagecoach Way Suite 103 Kuna ID 83634 United States;X-APPLE-RADIUS=500;X-TITLE=757 E Stagecoach Way\, Suite 103:geo:-116.4046421,43.4833055
END:VEVENT
BEGIN:VEVENT
DTSTART;TZID=America/Boise:20291024T081500
DTEND;TZID=America/Boise:20291024T090000
DTSTAMP:20260422T190309
CREATED:20250204T185900Z
LAST-MODIFIED:20250204T185900Z
UID:10032778-1887524100-1887526800@freedomfitnessidaho.com
SUMMARY:Bootcamp w/Laci
DESCRIPTION:
URL:https://freedomfitnessidaho.com/event/bootcamp-w-laci/2029-10-24/
LOCATION:Freedom Fitness Center\, 757 E Stagecoach Way\, Suite 103\, Kuna\, ID\, 83634\, United States
CATEGORIES:Body weight,Cardio,Core,Low Impact,Plyometrics,Strength Training,Weights
GEO:43.4833055;-116.4046421
X-APPLE-STRUCTURED-LOCATION;VALUE=URI;X-ADDRESS=Freedom Fitness Center 757 E Stagecoach Way Suite 103 Kuna ID 83634 United States;X-APPLE-RADIUS=500;X-TITLE=757 E Stagecoach Way\, Suite 103:geo:-116.4046421,43.4833055
END:VEVENT
BEGIN:VEVENT
DTSTART;TZID=America/Boise:20291031T081500
DTEND;TZID=America/Boise:20291031T090000
DTSTAMP:20260422T190309
CREATED:20250204T185900Z
LAST-MODIFIED:20250204T185900Z
UID:10032779-1888128900-1888131600@freedomfitnessidaho.com
SUMMARY:Bootcamp w/Laci
DESCRIPTION:
URL:https://freedomfitnessidaho.com/event/bootcamp-w-laci/2029-10-31/
LOCATION:Freedom Fitness Center\, 757 E Stagecoach Way\, Suite 103\, Kuna\, ID\, 83634\, United States
CATEGORIES:Body weight,Cardio,Core,Low Impact,Plyometrics,Strength Training,Weights
GEO:43.4833055;-116.4046421
X-APPLE-STRUCTURED-LOCATION;VALUE=URI;X-ADDRESS=Freedom Fitness Center 757 E Stagecoach Way Suite 103 Kuna ID 83634 United States;X-APPLE-RADIUS=500;X-TITLE=757 E Stagecoach Way\, Suite 103:geo:-116.4046421,43.4833055
END:VEVENT
BEGIN:VEVENT
DTSTART;TZID=America/Boise:20291107T081500
DTEND;TZID=America/Boise:20291107T090000
DTSTAMP:20260422T190309
CREATED:20250204T185900Z
LAST-MODIFIED:20250204T185900Z
UID:10032780-1888733700-1888736400@freedomfitnessidaho.com
SUMMARY:Bootcamp w/Laci
DESCRIPTION:
URL:https://freedomfitnessidaho.com/event/bootcamp-w-laci/2029-11-07/
LOCATION:Freedom Fitness Center\, 757 E Stagecoach Way\, Suite 103\, Kuna\, ID\, 83634\, United States
CATEGORIES:Body weight,Cardio,Core,Low Impact,Plyometrics,Strength Training,Weights
GEO:43.4833055;-116.4046421
X-APPLE-STRUCTURED-LOCATION;VALUE=URI;X-ADDRESS=Freedom Fitness Center 757 E Stagecoach Way Suite 103 Kuna ID 83634 United States;X-APPLE-RADIUS=500;X-TITLE=757 E Stagecoach Way\, Suite 103:geo:-116.4046421,43.4833055
END:VEVENT
BEGIN:VEVENT
DTSTART;TZID=America/Boise:20291114T081500
DTEND;TZID=America/Boise:20291114T090000
DTSTAMP:20260422T190309
CREATED:20250204T185900Z
LAST-MODIFIED:20250204T185900Z
UID:10032781-1889338500-1889341200@freedomfitnessidaho.com
SUMMARY:Bootcamp w/Laci
DESCRIPTION:
URL:https://freedomfitnessidaho.com/event/bootcamp-w-laci/2029-11-14/
LOCATION:Freedom Fitness Center\, 757 E Stagecoach Way\, Suite 103\, Kuna\, ID\, 83634\, United States
CATEGORIES:Body weight,Cardio,Core,Low Impact,Plyometrics,Strength Training,Weights
GEO:43.4833055;-116.4046421
X-APPLE-STRUCTURED-LOCATION;VALUE=URI;X-ADDRESS=Freedom Fitness Center 757 E Stagecoach Way Suite 103 Kuna ID 83634 United States;X-APPLE-RADIUS=500;X-TITLE=757 E Stagecoach Way\, Suite 103:geo:-116.4046421,43.4833055
END:VEVENT
BEGIN:VEVENT
DTSTART;TZID=America/Boise:20291121T081500
DTEND;TZID=America/Boise:20291121T090000
DTSTAMP:20260422T190309
CREATED:20250204T185900Z
LAST-MODIFIED:20250204T185900Z
UID:10032782-1889943300-1889946000@freedomfitnessidaho.com
SUMMARY:Bootcamp w/Laci
DESCRIPTION:
URL:https://freedomfitnessidaho.com/event/bootcamp-w-laci/2029-11-21/
LOCATION:Freedom Fitness Center\, 757 E Stagecoach Way\, Suite 103\, Kuna\, ID\, 83634\, United States
CATEGORIES:Body weight,Cardio,Core,Low Impact,Plyometrics,Strength Training,Weights
GEO:43.4833055;-116.4046421
X-APPLE-STRUCTURED-LOCATION;VALUE=URI;X-ADDRESS=Freedom Fitness Center 757 E Stagecoach Way Suite 103 Kuna ID 83634 United States;X-APPLE-RADIUS=500;X-TITLE=757 E Stagecoach Way\, Suite 103:geo:-116.4046421,43.4833055
END:VEVENT
BEGIN:VEVENT
DTSTART;TZID=America/Boise:20291128T081500
DTEND;TZID=America/Boise:20291128T090000
DTSTAMP:20260422T190309
CREATED:20250204T185900Z
LAST-MODIFIED:20250204T185900Z
UID:10032783-1890548100-1890550800@freedomfitnessidaho.com
SUMMARY:Bootcamp w/Laci
DESCRIPTION:
URL:https://freedomfitnessidaho.com/event/bootcamp-w-laci/2029-11-28/
LOCATION:Freedom Fitness Center\, 757 E Stagecoach Way\, Suite 103\, Kuna\, ID\, 83634\, United States
CATEGORIES:Body weight,Cardio,Core,Low Impact,Plyometrics,Strength Training,Weights
GEO:43.4833055;-116.4046421
X-APPLE-STRUCTURED-LOCATION;VALUE=URI;X-ADDRESS=Freedom Fitness Center 757 E Stagecoach Way Suite 103 Kuna ID 83634 United States;X-APPLE-RADIUS=500;X-TITLE=757 E Stagecoach Way\, Suite 103:geo:-116.4046421,43.4833055
END:VEVENT
BEGIN:VEVENT
DTSTART;TZID=America/Boise:20291205T081500
DTEND;TZID=America/Boise:20291205T090000
DTSTAMP:20260422T190309
CREATED:20250204T185900Z
LAST-MODIFIED:20250204T185900Z
UID:10032784-1891152900-1891155600@freedomfitnessidaho.com
SUMMARY:Bootcamp w/Laci
DESCRIPTION:
URL:https://freedomfitnessidaho.com/event/bootcamp-w-laci/2029-12-05/
LOCATION:Freedom Fitness Center\, 757 E Stagecoach Way\, Suite 103\, Kuna\, ID\, 83634\, United States
CATEGORIES:Body weight,Cardio,Core,Low Impact,Plyometrics,Strength Training,Weights
GEO:43.4833055;-116.4046421
X-APPLE-STRUCTURED-LOCATION;VALUE=URI;X-ADDRESS=Freedom Fitness Center 757 E Stagecoach Way Suite 103 Kuna ID 83634 United States;X-APPLE-RADIUS=500;X-TITLE=757 E Stagecoach Way\, Suite 103:geo:-116.4046421,43.4833055
END:VEVENT
BEGIN:VEVENT
DTSTART;TZID=America/Boise:20291212T081500
DTEND;TZID=America/Boise:20291212T090000
DTSTAMP:20260422T190309
CREATED:20250204T185900Z
LAST-MODIFIED:20250204T185900Z
UID:10032785-1891757700-1891760400@freedomfitnessidaho.com
SUMMARY:Bootcamp w/Laci
DESCRIPTION:
URL:https://freedomfitnessidaho.com/event/bootcamp-w-laci/2029-12-12/
LOCATION:Freedom Fitness Center\, 757 E Stagecoach Way\, Suite 103\, Kuna\, ID\, 83634\, United States
CATEGORIES:Body weight,Cardio,Core,Low Impact,Plyometrics,Strength Training,Weights
GEO:43.4833055;-116.4046421
X-APPLE-STRUCTURED-LOCATION;VALUE=URI;X-ADDRESS=Freedom Fitness Center 757 E Stagecoach Way Suite 103 Kuna ID 83634 United States;X-APPLE-RADIUS=500;X-TITLE=757 E Stagecoach Way\, Suite 103:geo:-116.4046421,43.4833055
END:VEVENT
BEGIN:VEVENT
DTSTART;TZID=America/Boise:20291219T081500
DTEND;TZID=America/Boise:20291219T090000
DTSTAMP:20260422T190309
CREATED:20250204T185900Z
LAST-MODIFIED:20250204T185900Z
UID:10032786-1892362500-1892365200@freedomfitnessidaho.com
SUMMARY:Bootcamp w/Laci
DESCRIPTION:
URL:https://freedomfitnessidaho.com/event/bootcamp-w-laci/2029-12-19/
LOCATION:Freedom Fitness Center\, 757 E Stagecoach Way\, Suite 103\, Kuna\, ID\, 83634\, United States
CATEGORIES:Body weight,Cardio,Core,Low Impact,Plyometrics,Strength Training,Weights
GEO:43.4833055;-116.4046421
X-APPLE-STRUCTURED-LOCATION;VALUE=URI;X-ADDRESS=Freedom Fitness Center 757 E Stagecoach Way Suite 103 Kuna ID 83634 United States;X-APPLE-RADIUS=500;X-TITLE=757 E Stagecoach Way\, Suite 103:geo:-116.4046421,43.4833055
END:VEVENT
BEGIN:VEVENT
DTSTART;TZID=America/Boise:20291226T081500
DTEND;TZID=America/Boise:20291226T090000
DTSTAMP:20260422T190309
CREATED:20250204T185900Z
LAST-MODIFIED:20250204T185900Z
UID:10032787-1892967300-1892970000@freedomfitnessidaho.com
SUMMARY:Bootcamp w/Laci
DESCRIPTION:
URL:https://freedomfitnessidaho.com/event/bootcamp-w-laci/2029-12-26/
LOCATION:Freedom Fitness Center\, 757 E Stagecoach Way\, Suite 103\, Kuna\, ID\, 83634\, United States
CATEGORIES:Body weight,Cardio,Core,Low Impact,Plyometrics,Strength Training,Weights
GEO:43.4833055;-116.4046421
X-APPLE-STRUCTURED-LOCATION;VALUE=URI;X-ADDRESS=Freedom Fitness Center 757 E Stagecoach Way Suite 103 Kuna ID 83634 United States;X-APPLE-RADIUS=500;X-TITLE=757 E Stagecoach Way\, Suite 103:geo:-116.4046421,43.4833055
END:VEVENT
BEGIN:VEVENT
DTSTART;TZID=America/Boise:20300102T081500
DTEND;TZID=America/Boise:20300102T090000
DTSTAMP:20260422T190309
CREATED:20250204T185900Z
LAST-MODIFIED:20250204T185900Z
UID:10032788-1893572100-1893574800@freedomfitnessidaho.com
SUMMARY:Bootcamp w/Laci
DESCRIPTION:
URL:https://freedomfitnessidaho.com/event/bootcamp-w-laci/2030-01-02/
LOCATION:Freedom Fitness Center\, 757 E Stagecoach Way\, Suite 103\, Kuna\, ID\, 83634\, United States
CATEGORIES:Body weight,Cardio,Core,Low Impact,Plyometrics,Strength Training,Weights
GEO:43.4833055;-116.4046421
X-APPLE-STRUCTURED-LOCATION;VALUE=URI;X-ADDRESS=Freedom Fitness Center 757 E Stagecoach Way Suite 103 Kuna ID 83634 United States;X-APPLE-RADIUS=500;X-TITLE=757 E Stagecoach Way\, Suite 103:geo:-116.4046421,43.4833055
END:VEVENT
BEGIN:VEVENT
DTSTART;TZID=America/Boise:20300109T081500
DTEND;TZID=America/Boise:20300109T090000
DTSTAMP:20260422T190309
CREATED:20250204T185900Z
LAST-MODIFIED:20250204T185900Z
UID:10032789-1894176900-1894179600@freedomfitnessidaho.com
SUMMARY:Bootcamp w/Laci
DESCRIPTION:
URL:https://freedomfitnessidaho.com/event/bootcamp-w-laci/2030-01-09/
LOCATION:Freedom Fitness Center\, 757 E Stagecoach Way\, Suite 103\, Kuna\, ID\, 83634\, United States
CATEGORIES:Body weight,Cardio,Core,Low Impact,Plyometrics,Strength Training,Weights
GEO:43.4833055;-116.4046421
X-APPLE-STRUCTURED-LOCATION;VALUE=URI;X-ADDRESS=Freedom Fitness Center 757 E Stagecoach Way Suite 103 Kuna ID 83634 United States;X-APPLE-RADIUS=500;X-TITLE=757 E Stagecoach Way\, Suite 103:geo:-116.4046421,43.4833055
END:VEVENT
BEGIN:VEVENT
DTSTART;TZID=America/Boise:20300116T081500
DTEND;TZID=America/Boise:20300116T090000
DTSTAMP:20260422T190309
CREATED:20250204T185900Z
LAST-MODIFIED:20250204T185900Z
UID:10032790-1894781700-1894784400@freedomfitnessidaho.com
SUMMARY:Bootcamp w/Laci
DESCRIPTION:
URL:https://freedomfitnessidaho.com/event/bootcamp-w-laci/2030-01-16/
LOCATION:Freedom Fitness Center\, 757 E Stagecoach Way\, Suite 103\, Kuna\, ID\, 83634\, United States
CATEGORIES:Body weight,Cardio,Core,Low Impact,Plyometrics,Strength Training,Weights
GEO:43.4833055;-116.4046421
X-APPLE-STRUCTURED-LOCATION;VALUE=URI;X-ADDRESS=Freedom Fitness Center 757 E Stagecoach Way Suite 103 Kuna ID 83634 United States;X-APPLE-RADIUS=500;X-TITLE=757 E Stagecoach Way\, Suite 103:geo:-116.4046421,43.4833055
END:VEVENT
BEGIN:VEVENT
DTSTART;TZID=America/Boise:20300123T081500
DTEND;TZID=America/Boise:20300123T090000
DTSTAMP:20260422T190309
CREATED:20250204T185900Z
LAST-MODIFIED:20250204T185900Z
UID:10032791-1895386500-1895389200@freedomfitnessidaho.com
SUMMARY:Bootcamp w/Laci
DESCRIPTION:
URL:https://freedomfitnessidaho.com/event/bootcamp-w-laci/2030-01-23/
LOCATION:Freedom Fitness Center\, 757 E Stagecoach Way\, Suite 103\, Kuna\, ID\, 83634\, United States
CATEGORIES:Body weight,Cardio,Core,Low Impact,Plyometrics,Strength Training,Weights
GEO:43.4833055;-116.4046421
X-APPLE-STRUCTURED-LOCATION;VALUE=URI;X-ADDRESS=Freedom Fitness Center 757 E Stagecoach Way Suite 103 Kuna ID 83634 United States;X-APPLE-RADIUS=500;X-TITLE=757 E Stagecoach Way\, Suite 103:geo:-116.4046421,43.4833055
END:VEVENT
BEGIN:VEVENT
DTSTART;TZID=America/Boise:20300130T081500
DTEND;TZID=America/Boise:20300130T090000
DTSTAMP:20260422T190309
CREATED:20250204T185900Z
LAST-MODIFIED:20250204T185900Z
UID:10032792-1895991300-1895994000@freedomfitnessidaho.com
SUMMARY:Bootcamp w/Laci
DESCRIPTION:
URL:https://freedomfitnessidaho.com/event/bootcamp-w-laci/2030-01-30/
LOCATION:Freedom Fitness Center\, 757 E Stagecoach Way\, Suite 103\, Kuna\, ID\, 83634\, United States
CATEGORIES:Body weight,Cardio,Core,Low Impact,Plyometrics,Strength Training,Weights
GEO:43.4833055;-116.4046421
X-APPLE-STRUCTURED-LOCATION;VALUE=URI;X-ADDRESS=Freedom Fitness Center 757 E Stagecoach Way Suite 103 Kuna ID 83634 United States;X-APPLE-RADIUS=500;X-TITLE=757 E Stagecoach Way\, Suite 103:geo:-116.4046421,43.4833055
END:VEVENT
END:VCALENDAR