BEGIN:VCALENDAR
VERSION:2.0
PRODID:-//Freedom Fitness - ECPv6.2.9//NONSGML v1.0//EN
CALSCALE:GREGORIAN
METHOD:PUBLISH
X-ORIGINAL-URL:https://freedomfitnessidaho.com
X-WR-CALDESC:Events for Freedom Fitness
REFRESH-INTERVAL;VALUE=DURATION:PT1H
X-Robots-Tag:noindex
X-PUBLISHED-TTL:PT1H
BEGIN:VTIMEZONE
TZID:America/Boise
BEGIN:DAYLIGHT
TZOFFSETFROM:-0700
TZOFFSETTO:-0600
TZNAME:MDT
DTSTART:20270314T090000
END:DAYLIGHT
BEGIN:STANDARD
TZOFFSETFROM:-0600
TZOFFSETTO:-0700
TZNAME:MST
DTSTART:20271107T080000
END:STANDARD
END:VTIMEZONE
BEGIN:VEVENT
DTSTART;TZID=America/Boise:20270325T181500
DTEND;TZID=America/Boise:20270325T190000
DTSTAMP:20260424T145109
CREATED:20250603T185738Z
LAST-MODIFIED:20250603T185738Z
UID:10035332-1805998500-1806001200@freedomfitnessidaho.com
SUMMARY:Pumped Up Strength w/Natalie
DESCRIPTION:
URL:https://freedomfitnessidaho.com/event/pumped-up-strength-w-natalie-6/2027-03-25/
LOCATION:Freedom Fitness Center\, 757 E Stagecoach Way\, Suite 103\, Kuna\, ID\, 83634\, United States
CATEGORIES:Body weight,Weights
GEO:43.4833055;-116.4046421
X-APPLE-STRUCTURED-LOCATION;VALUE=URI;X-ADDRESS=Freedom Fitness Center 757 E Stagecoach Way Suite 103 Kuna ID 83634 United States;X-APPLE-RADIUS=500;X-TITLE=757 E Stagecoach Way\, Suite 103:geo:-116.4046421,43.4833055
END:VEVENT
BEGIN:VEVENT
DTSTART;TZID=America/Boise:20270326T051000
DTEND;TZID=America/Boise:20270326T060000
DTSTAMP:20260424T145109
CREATED:20260105T164706Z
LAST-MODIFIED:20260105T164708Z
UID:10035613-1806037800-1806040800@freedomfitnessidaho.com
SUMMARY:AMPD Strength w/Rachael
DESCRIPTION:
URL:https://freedomfitnessidaho.com/event/ampd-strength-w-rachael/2027-03-26/
LOCATION:Freedom Fitness Center\, 757 E Stagecoach Way\, Suite 103\, Kuna\, ID\, 83634\, United States
CATEGORIES:Body bar,Body weight,Cardio,Low Impact,Weights
GEO:43.4833055;-116.4046421
X-APPLE-STRUCTURED-LOCATION;VALUE=URI;X-ADDRESS=Freedom Fitness Center 757 E Stagecoach Way Suite 103 Kuna ID 83634 United States;X-APPLE-RADIUS=500;X-TITLE=757 E Stagecoach Way\, Suite 103:geo:-116.4046421,43.4833055
END:VEVENT
BEGIN:VEVENT
DTSTART;TZID=America/Boise:20270326T091500
DTEND;TZID=America/Boise:20270326T100000
DTSTAMP:20260424T145109
CREATED:20240903T213554Z
LAST-MODIFIED:20240903T213556Z
UID:10021119-1806052500-1806055200@freedomfitnessidaho.com
SUMMARY:Zumba Sentao w/Carrie
DESCRIPTION:
URL:https://freedomfitnessidaho.com/event/zumba-sentao-w-carrie/2027-03-26/
LOCATION:Freedom Fitness Center\, 757 E Stagecoach Way\, Suite 103\, Kuna\, ID\, 83634\, United States
CATEGORIES:Body weight,Cardio,Chair,Core,Resistance bands,Seniors,Strength Training,Weights
GEO:43.4833055;-116.4046421
X-APPLE-STRUCTURED-LOCATION;VALUE=URI;X-ADDRESS=Freedom Fitness Center 757 E Stagecoach Way Suite 103 Kuna ID 83634 United States;X-APPLE-RADIUS=500;X-TITLE=757 E Stagecoach Way\, Suite 103:geo:-116.4046421,43.4833055
END:VEVENT
BEGIN:VEVENT
DTSTART;TZID=America/Boise:20270329T081500
DTEND;TZID=America/Boise:20270329T090000
DTSTAMP:20260424T145109
CREATED:20231231T025337Z
LAST-MODIFIED:20231231T025337Z
UID:10019654-1806308100-1806310800@freedomfitnessidaho.com
SUMMARY:Cardio & Weights w/Laci
DESCRIPTION:
URL:https://freedomfitnessidaho.com/event/cardio-weights-w-laci/2027-03-29/
LOCATION:Freedom Fitness Center\, 757 E Stagecoach Way\, Suite 103\, Kuna\, ID\, 83634\, United States
CATEGORIES:Body weight,Cardio,Strength Training,Weights
GEO:43.4833055;-116.4046421
X-APPLE-STRUCTURED-LOCATION;VALUE=URI;X-ADDRESS=Freedom Fitness Center 757 E Stagecoach Way Suite 103 Kuna ID 83634 United States;X-APPLE-RADIUS=500;X-TITLE=757 E Stagecoach Way\, Suite 103:geo:-116.4046421,43.4833055
END:VEVENT
BEGIN:VEVENT
DTSTART;TZID=America/Boise:20270329T101500
DTEND;TZID=America/Boise:20270329T110000
DTSTAMP:20260424T145109
CREATED:20250602T225923Z
LAST-MODIFIED:20250602T225925Z
UID:10026263-1806315300-1806318000@freedomfitnessidaho.com
SUMMARY:Pilates w/Jenna
DESCRIPTION:
URL:https://freedomfitnessidaho.com/event/pilates-w-jenna-4/2027-03-29/
LOCATION:Freedom Fitness Center\, 757 E Stagecoach Way\, Suite 103\, Kuna\, ID\, 83634\, United States
CATEGORIES:Balance,Body weight,Stetching,Strength Training
GEO:43.4833055;-116.4046421
X-APPLE-STRUCTURED-LOCATION;VALUE=URI;X-ADDRESS=Freedom Fitness Center 757 E Stagecoach Way Suite 103 Kuna ID 83634 United States;X-APPLE-RADIUS=500;X-TITLE=757 E Stagecoach Way\, Suite 103:geo:-116.4046421,43.4833055
END:VEVENT
BEGIN:VEVENT
DTSTART;TZID=America/Boise:20270330T091500
DTEND;TZID=America/Boise:20270330T100000
DTSTAMP:20260424T145109
CREATED:20250204T185536Z
LAST-MODIFIED:20250204T185536Z
UID:10032383-1806398100-1806400800@freedomfitnessidaho.com
SUMMARY:Barre w/Grace
DESCRIPTION:
URL:https://freedomfitnessidaho.com/event/barre-w-grace-3/2027-03-30/
LOCATION:Freedom Fitness Center\, 757 E Stagecoach Way\, Suite 103\, Kuna\, ID\, 83634\, United States
CATEGORIES:Balance,Barre,Body weight,Chair
GEO:43.4833055;-116.4046421
X-APPLE-STRUCTURED-LOCATION;VALUE=URI;X-ADDRESS=Freedom Fitness Center 757 E Stagecoach Way Suite 103 Kuna ID 83634 United States;X-APPLE-RADIUS=500;X-TITLE=757 E Stagecoach Way\, Suite 103:geo:-116.4046421,43.4833055
END:VEVENT
BEGIN:VEVENT
DTSTART;TZID=America/Boise:20270331T051000
DTEND;TZID=America/Boise:20270331T060000
DTSTAMP:20260424T145109
CREATED:20260105T151912Z
LAST-MODIFIED:20260105T151914Z
UID:10036132-1806469800-1806472800@freedomfitnessidaho.com
SUMMARY:Pound/Pilates Fusion w/Jenna
DESCRIPTION:
URL:https://freedomfitnessidaho.com/event/poundpilates-fusion-w-jenna-3-2/2027-03-31/
LOCATION:Freedom Fitness Center\, 757 E Stagecoach Way\, Suite 103\, Kuna\, ID\, 83634\, United States
CATEGORIES:Balance,Body weight,Cardio,Drum sticks,Focus,Functional Movement,Low Impact,Pilates,Stetching
GEO:43.4833055;-116.4046421
X-APPLE-STRUCTURED-LOCATION;VALUE=URI;X-ADDRESS=Freedom Fitness Center 757 E Stagecoach Way Suite 103 Kuna ID 83634 United States;X-APPLE-RADIUS=500;X-TITLE=757 E Stagecoach Way\, Suite 103:geo:-116.4046421,43.4833055
END:VEVENT
BEGIN:VEVENT
DTSTART;TZID=America/Boise:20270331T081500
DTEND;TZID=America/Boise:20270331T090000
DTSTAMP:20260424T145109
CREATED:20250204T185900Z
LAST-MODIFIED:20250204T185900Z
UID:10032644-1806480900-1806483600@freedomfitnessidaho.com
SUMMARY:Bootcamp w/Laci
DESCRIPTION:
URL:https://freedomfitnessidaho.com/event/bootcamp-w-laci/2027-03-31/
LOCATION:Freedom Fitness Center\, 757 E Stagecoach Way\, Suite 103\, Kuna\, ID\, 83634\, United States
CATEGORIES:Body weight,Cardio,Core,Low Impact,Plyometrics,Strength Training,Weights
GEO:43.4833055;-116.4046421
X-APPLE-STRUCTURED-LOCATION;VALUE=URI;X-ADDRESS=Freedom Fitness Center 757 E Stagecoach Way Suite 103 Kuna ID 83634 United States;X-APPLE-RADIUS=500;X-TITLE=757 E Stagecoach Way\, Suite 103:geo:-116.4046421,43.4833055
END:VEVENT
BEGIN:VEVENT
DTSTART;TZID=America/Boise:20270331T101500
DTEND;TZID=America/Boise:20270331T110000
DTSTAMP:20260424T145109
CREATED:20260105T152302Z
LAST-MODIFIED:20260105T152304Z
UID:10036688-1806488100-1806490800@freedomfitnessidaho.com
SUMMARY:Silver Sneakers w/Rachael
DESCRIPTION:
URL:https://freedomfitnessidaho.com/event/silver-sneakers-w-rachael-2-2/2027-03-31/
LOCATION:Freedom Fitness Center\, 757 E Stagecoach Way\, Suite 103\, Kuna\, ID\, 83634\, United States
CATEGORIES:Balance,Ball,Body weight,Cardio,Chair,Focus,Low Impact,Resistance bands,Weights
GEO:43.4833055;-116.4046421
X-APPLE-STRUCTURED-LOCATION;VALUE=URI;X-ADDRESS=Freedom Fitness Center 757 E Stagecoach Way Suite 103 Kuna ID 83634 United States;X-APPLE-RADIUS=500;X-TITLE=757 E Stagecoach Way\, Suite 103:geo:-116.4046421,43.4833055
END:VEVENT
BEGIN:VEVENT
DTSTART;TZID=America/Boise:20270401T080000
DTEND;TZID=America/Boise:20270401T090000
DTSTAMP:20260424T145109
CREATED:20240125T211642Z
LAST-MODIFIED:20240430T231136Z
UID:10025459-1806566400-1806570000@freedomfitnessidaho.com
SUMMARY:Yoga w/Shawna
DESCRIPTION:
URL:https://freedomfitnessidaho.com/event/yoga-w-shawna-2-2/2027-04-01/
LOCATION:Freedom Fitness Center\, 757 E Stagecoach Way\, Suite 103\, Kuna\, ID\, 83634\, United States
CATEGORIES:Balance,Body weight,Core,Focus,Low Impact,Stetching,Yoga
GEO:43.4833055;-116.4046421
X-APPLE-STRUCTURED-LOCATION;VALUE=URI;X-ADDRESS=Freedom Fitness Center 757 E Stagecoach Way Suite 103 Kuna ID 83634 United States;X-APPLE-RADIUS=500;X-TITLE=757 E Stagecoach Way\, Suite 103:geo:-116.4046421,43.4833055
END:VEVENT
BEGIN:VEVENT
DTSTART;TZID=America/Boise:20270401T101500
DTEND;TZID=America/Boise:20270401T110000
DTSTAMP:20260424T145109
CREATED:20240715T230849Z
LAST-MODIFIED:20240715T230850Z
UID:10027570-1806574500-1806577200@freedomfitnessidaho.com
SUMMARY:Barre w/Grace
DESCRIPTION:
URL:https://freedomfitnessidaho.com/event/barre-w-grace-2-2/2027-04-01/
LOCATION:Freedom Fitness Center\, 757 E Stagecoach Way\, Suite 103\, Kuna\, ID\, 83634\, United States
CATEGORIES:Balance,Ball,Body weight,Chair,Weights
GEO:43.4833055;-116.4046421
X-APPLE-STRUCTURED-LOCATION;VALUE=URI;X-ADDRESS=Freedom Fitness Center 757 E Stagecoach Way Suite 103 Kuna ID 83634 United States;X-APPLE-RADIUS=500;X-TITLE=757 E Stagecoach Way\, Suite 103:geo:-116.4046421,43.4833055
END:VEVENT
BEGIN:VEVENT
DTSTART;TZID=America/Boise:20270401T181500
DTEND;TZID=America/Boise:20270401T190000
DTSTAMP:20260424T145109
CREATED:20250603T185738Z
LAST-MODIFIED:20250603T185738Z
UID:10035333-1806603300-1806606000@freedomfitnessidaho.com
SUMMARY:Pumped Up Strength w/Natalie
DESCRIPTION:
URL:https://freedomfitnessidaho.com/event/pumped-up-strength-w-natalie-6/2027-04-01/
LOCATION:Freedom Fitness Center\, 757 E Stagecoach Way\, Suite 103\, Kuna\, ID\, 83634\, United States
CATEGORIES:Body weight,Weights
GEO:43.4833055;-116.4046421
X-APPLE-STRUCTURED-LOCATION;VALUE=URI;X-ADDRESS=Freedom Fitness Center 757 E Stagecoach Way Suite 103 Kuna ID 83634 United States;X-APPLE-RADIUS=500;X-TITLE=757 E Stagecoach Way\, Suite 103:geo:-116.4046421,43.4833055
END:VEVENT
BEGIN:VEVENT
DTSTART;TZID=America/Boise:20270402T051000
DTEND;TZID=America/Boise:20270402T060000
DTSTAMP:20260424T145109
CREATED:20260105T164706Z
LAST-MODIFIED:20260105T164708Z
UID:10035614-1806642600-1806645600@freedomfitnessidaho.com
SUMMARY:AMPD Strength w/Rachael
DESCRIPTION:
URL:https://freedomfitnessidaho.com/event/ampd-strength-w-rachael/2027-04-02/
LOCATION:Freedom Fitness Center\, 757 E Stagecoach Way\, Suite 103\, Kuna\, ID\, 83634\, United States
CATEGORIES:Body bar,Body weight,Cardio,Low Impact,Weights
GEO:43.4833055;-116.4046421
X-APPLE-STRUCTURED-LOCATION;VALUE=URI;X-ADDRESS=Freedom Fitness Center 757 E Stagecoach Way Suite 103 Kuna ID 83634 United States;X-APPLE-RADIUS=500;X-TITLE=757 E Stagecoach Way\, Suite 103:geo:-116.4046421,43.4833055
END:VEVENT
BEGIN:VEVENT
DTSTART;TZID=America/Boise:20270402T091500
DTEND;TZID=America/Boise:20270402T100000
DTSTAMP:20260424T145109
CREATED:20240903T213554Z
LAST-MODIFIED:20240903T213556Z
UID:10021120-1806657300-1806660000@freedomfitnessidaho.com
SUMMARY:Zumba Sentao w/Carrie
DESCRIPTION:
URL:https://freedomfitnessidaho.com/event/zumba-sentao-w-carrie/2027-04-02/
LOCATION:Freedom Fitness Center\, 757 E Stagecoach Way\, Suite 103\, Kuna\, ID\, 83634\, United States
CATEGORIES:Body weight,Cardio,Chair,Core,Resistance bands,Seniors,Strength Training,Weights
GEO:43.4833055;-116.4046421
X-APPLE-STRUCTURED-LOCATION;VALUE=URI;X-ADDRESS=Freedom Fitness Center 757 E Stagecoach Way Suite 103 Kuna ID 83634 United States;X-APPLE-RADIUS=500;X-TITLE=757 E Stagecoach Way\, Suite 103:geo:-116.4046421,43.4833055
END:VEVENT
BEGIN:VEVENT
DTSTART;TZID=America/Boise:20270405T081500
DTEND;TZID=America/Boise:20270405T090000
DTSTAMP:20260424T145109
CREATED:20231231T025337Z
LAST-MODIFIED:20231231T025337Z
UID:10019655-1806912900-1806915600@freedomfitnessidaho.com
SUMMARY:Cardio & Weights w/Laci
DESCRIPTION:
URL:https://freedomfitnessidaho.com/event/cardio-weights-w-laci/2027-04-05/
LOCATION:Freedom Fitness Center\, 757 E Stagecoach Way\, Suite 103\, Kuna\, ID\, 83634\, United States
CATEGORIES:Body weight,Cardio,Strength Training,Weights
GEO:43.4833055;-116.4046421
X-APPLE-STRUCTURED-LOCATION;VALUE=URI;X-ADDRESS=Freedom Fitness Center 757 E Stagecoach Way Suite 103 Kuna ID 83634 United States;X-APPLE-RADIUS=500;X-TITLE=757 E Stagecoach Way\, Suite 103:geo:-116.4046421,43.4833055
END:VEVENT
BEGIN:VEVENT
DTSTART;TZID=America/Boise:20270405T101500
DTEND;TZID=America/Boise:20270405T110000
DTSTAMP:20260424T145109
CREATED:20250602T225923Z
LAST-MODIFIED:20250602T225925Z
UID:10026264-1806920100-1806922800@freedomfitnessidaho.com
SUMMARY:Pilates w/Jenna
DESCRIPTION:
URL:https://freedomfitnessidaho.com/event/pilates-w-jenna-4/2027-04-05/
LOCATION:Freedom Fitness Center\, 757 E Stagecoach Way\, Suite 103\, Kuna\, ID\, 83634\, United States
CATEGORIES:Balance,Body weight,Stetching,Strength Training
GEO:43.4833055;-116.4046421
X-APPLE-STRUCTURED-LOCATION;VALUE=URI;X-ADDRESS=Freedom Fitness Center 757 E Stagecoach Way Suite 103 Kuna ID 83634 United States;X-APPLE-RADIUS=500;X-TITLE=757 E Stagecoach Way\, Suite 103:geo:-116.4046421,43.4833055
END:VEVENT
BEGIN:VEVENT
DTSTART;TZID=America/Boise:20270406T091500
DTEND;TZID=America/Boise:20270406T100000
DTSTAMP:20260424T145109
CREATED:20250204T185536Z
LAST-MODIFIED:20250204T185536Z
UID:10032384-1807002900-1807005600@freedomfitnessidaho.com
SUMMARY:Barre w/Grace
DESCRIPTION:
URL:https://freedomfitnessidaho.com/event/barre-w-grace-3/2027-04-06/
LOCATION:Freedom Fitness Center\, 757 E Stagecoach Way\, Suite 103\, Kuna\, ID\, 83634\, United States
CATEGORIES:Balance,Barre,Body weight,Chair
GEO:43.4833055;-116.4046421
X-APPLE-STRUCTURED-LOCATION;VALUE=URI;X-ADDRESS=Freedom Fitness Center 757 E Stagecoach Way Suite 103 Kuna ID 83634 United States;X-APPLE-RADIUS=500;X-TITLE=757 E Stagecoach Way\, Suite 103:geo:-116.4046421,43.4833055
END:VEVENT
BEGIN:VEVENT
DTSTART;TZID=America/Boise:20270407T051000
DTEND;TZID=America/Boise:20270407T060000
DTSTAMP:20260424T145109
CREATED:20260105T151912Z
LAST-MODIFIED:20260105T151914Z
UID:10036133-1807074600-1807077600@freedomfitnessidaho.com
SUMMARY:Pound/Pilates Fusion w/Jenna
DESCRIPTION:
URL:https://freedomfitnessidaho.com/event/poundpilates-fusion-w-jenna-3-2/2027-04-07/
LOCATION:Freedom Fitness Center\, 757 E Stagecoach Way\, Suite 103\, Kuna\, ID\, 83634\, United States
CATEGORIES:Balance,Body weight,Cardio,Drum sticks,Focus,Functional Movement,Low Impact,Pilates,Stetching
GEO:43.4833055;-116.4046421
X-APPLE-STRUCTURED-LOCATION;VALUE=URI;X-ADDRESS=Freedom Fitness Center 757 E Stagecoach Way Suite 103 Kuna ID 83634 United States;X-APPLE-RADIUS=500;X-TITLE=757 E Stagecoach Way\, Suite 103:geo:-116.4046421,43.4833055
END:VEVENT
BEGIN:VEVENT
DTSTART;TZID=America/Boise:20270407T081500
DTEND;TZID=America/Boise:20270407T090000
DTSTAMP:20260424T145109
CREATED:20250204T185900Z
LAST-MODIFIED:20250204T185900Z
UID:10032645-1807085700-1807088400@freedomfitnessidaho.com
SUMMARY:Bootcamp w/Laci
DESCRIPTION:
URL:https://freedomfitnessidaho.com/event/bootcamp-w-laci/2027-04-07/
LOCATION:Freedom Fitness Center\, 757 E Stagecoach Way\, Suite 103\, Kuna\, ID\, 83634\, United States
CATEGORIES:Body weight,Cardio,Core,Low Impact,Plyometrics,Strength Training,Weights
GEO:43.4833055;-116.4046421
X-APPLE-STRUCTURED-LOCATION;VALUE=URI;X-ADDRESS=Freedom Fitness Center 757 E Stagecoach Way Suite 103 Kuna ID 83634 United States;X-APPLE-RADIUS=500;X-TITLE=757 E Stagecoach Way\, Suite 103:geo:-116.4046421,43.4833055
END:VEVENT
BEGIN:VEVENT
DTSTART;TZID=America/Boise:20270407T101500
DTEND;TZID=America/Boise:20270407T110000
DTSTAMP:20260424T145109
CREATED:20260105T152302Z
LAST-MODIFIED:20260105T152304Z
UID:10036689-1807092900-1807095600@freedomfitnessidaho.com
SUMMARY:Silver Sneakers w/Rachael
DESCRIPTION:
URL:https://freedomfitnessidaho.com/event/silver-sneakers-w-rachael-2-2/2027-04-07/
LOCATION:Freedom Fitness Center\, 757 E Stagecoach Way\, Suite 103\, Kuna\, ID\, 83634\, United States
CATEGORIES:Balance,Ball,Body weight,Cardio,Chair,Focus,Low Impact,Resistance bands,Weights
GEO:43.4833055;-116.4046421
X-APPLE-STRUCTURED-LOCATION;VALUE=URI;X-ADDRESS=Freedom Fitness Center 757 E Stagecoach Way Suite 103 Kuna ID 83634 United States;X-APPLE-RADIUS=500;X-TITLE=757 E Stagecoach Way\, Suite 103:geo:-116.4046421,43.4833055
END:VEVENT
BEGIN:VEVENT
DTSTART;TZID=America/Boise:20270408T080000
DTEND;TZID=America/Boise:20270408T090000
DTSTAMP:20260424T145109
CREATED:20240125T211642Z
LAST-MODIFIED:20240430T231136Z
UID:10025460-1807171200-1807174800@freedomfitnessidaho.com
SUMMARY:Yoga w/Shawna
DESCRIPTION:
URL:https://freedomfitnessidaho.com/event/yoga-w-shawna-2-2/2027-04-08/
LOCATION:Freedom Fitness Center\, 757 E Stagecoach Way\, Suite 103\, Kuna\, ID\, 83634\, United States
CATEGORIES:Balance,Body weight,Core,Focus,Low Impact,Stetching,Yoga
GEO:43.4833055;-116.4046421
X-APPLE-STRUCTURED-LOCATION;VALUE=URI;X-ADDRESS=Freedom Fitness Center 757 E Stagecoach Way Suite 103 Kuna ID 83634 United States;X-APPLE-RADIUS=500;X-TITLE=757 E Stagecoach Way\, Suite 103:geo:-116.4046421,43.4833055
END:VEVENT
BEGIN:VEVENT
DTSTART;TZID=America/Boise:20270408T101500
DTEND;TZID=America/Boise:20270408T110000
DTSTAMP:20260424T145109
CREATED:20240715T230849Z
LAST-MODIFIED:20240715T230850Z
UID:10027571-1807179300-1807182000@freedomfitnessidaho.com
SUMMARY:Barre w/Grace
DESCRIPTION:
URL:https://freedomfitnessidaho.com/event/barre-w-grace-2-2/2027-04-08/
LOCATION:Freedom Fitness Center\, 757 E Stagecoach Way\, Suite 103\, Kuna\, ID\, 83634\, United States
CATEGORIES:Balance,Ball,Body weight,Chair,Weights
GEO:43.4833055;-116.4046421
X-APPLE-STRUCTURED-LOCATION;VALUE=URI;X-ADDRESS=Freedom Fitness Center 757 E Stagecoach Way Suite 103 Kuna ID 83634 United States;X-APPLE-RADIUS=500;X-TITLE=757 E Stagecoach Way\, Suite 103:geo:-116.4046421,43.4833055
END:VEVENT
BEGIN:VEVENT
DTSTART;TZID=America/Boise:20270408T181500
DTEND;TZID=America/Boise:20270408T190000
DTSTAMP:20260424T145109
CREATED:20250603T185738Z
LAST-MODIFIED:20250603T185738Z
UID:10035334-1807208100-1807210800@freedomfitnessidaho.com
SUMMARY:Pumped Up Strength w/Natalie
DESCRIPTION:
URL:https://freedomfitnessidaho.com/event/pumped-up-strength-w-natalie-6/2027-04-08/
LOCATION:Freedom Fitness Center\, 757 E Stagecoach Way\, Suite 103\, Kuna\, ID\, 83634\, United States
CATEGORIES:Body weight,Weights
GEO:43.4833055;-116.4046421
X-APPLE-STRUCTURED-LOCATION;VALUE=URI;X-ADDRESS=Freedom Fitness Center 757 E Stagecoach Way Suite 103 Kuna ID 83634 United States;X-APPLE-RADIUS=500;X-TITLE=757 E Stagecoach Way\, Suite 103:geo:-116.4046421,43.4833055
END:VEVENT
BEGIN:VEVENT
DTSTART;TZID=America/Boise:20270409T051000
DTEND;TZID=America/Boise:20270409T060000
DTSTAMP:20260424T145109
CREATED:20260105T164706Z
LAST-MODIFIED:20260105T164708Z
UID:10035615-1807247400-1807250400@freedomfitnessidaho.com
SUMMARY:AMPD Strength w/Rachael
DESCRIPTION:
URL:https://freedomfitnessidaho.com/event/ampd-strength-w-rachael/2027-04-09/
LOCATION:Freedom Fitness Center\, 757 E Stagecoach Way\, Suite 103\, Kuna\, ID\, 83634\, United States
CATEGORIES:Body bar,Body weight,Cardio,Low Impact,Weights
GEO:43.4833055;-116.4046421
X-APPLE-STRUCTURED-LOCATION;VALUE=URI;X-ADDRESS=Freedom Fitness Center 757 E Stagecoach Way Suite 103 Kuna ID 83634 United States;X-APPLE-RADIUS=500;X-TITLE=757 E Stagecoach Way\, Suite 103:geo:-116.4046421,43.4833055
END:VEVENT
BEGIN:VEVENT
DTSTART;TZID=America/Boise:20270409T091500
DTEND;TZID=America/Boise:20270409T100000
DTSTAMP:20260424T145109
CREATED:20240903T213554Z
LAST-MODIFIED:20240903T213556Z
UID:10021121-1807262100-1807264800@freedomfitnessidaho.com
SUMMARY:Zumba Sentao w/Carrie
DESCRIPTION:
URL:https://freedomfitnessidaho.com/event/zumba-sentao-w-carrie/2027-04-09/
LOCATION:Freedom Fitness Center\, 757 E Stagecoach Way\, Suite 103\, Kuna\, ID\, 83634\, United States
CATEGORIES:Body weight,Cardio,Chair,Core,Resistance bands,Seniors,Strength Training,Weights
GEO:43.4833055;-116.4046421
X-APPLE-STRUCTURED-LOCATION;VALUE=URI;X-ADDRESS=Freedom Fitness Center 757 E Stagecoach Way Suite 103 Kuna ID 83634 United States;X-APPLE-RADIUS=500;X-TITLE=757 E Stagecoach Way\, Suite 103:geo:-116.4046421,43.4833055
END:VEVENT
BEGIN:VEVENT
DTSTART;TZID=America/Boise:20270412T081500
DTEND;TZID=America/Boise:20270412T090000
DTSTAMP:20260424T145109
CREATED:20231231T025337Z
LAST-MODIFIED:20231231T025337Z
UID:10019656-1807517700-1807520400@freedomfitnessidaho.com
SUMMARY:Cardio & Weights w/Laci
DESCRIPTION:
URL:https://freedomfitnessidaho.com/event/cardio-weights-w-laci/2027-04-12/
LOCATION:Freedom Fitness Center\, 757 E Stagecoach Way\, Suite 103\, Kuna\, ID\, 83634\, United States
CATEGORIES:Body weight,Cardio,Strength Training,Weights
GEO:43.4833055;-116.4046421
X-APPLE-STRUCTURED-LOCATION;VALUE=URI;X-ADDRESS=Freedom Fitness Center 757 E Stagecoach Way Suite 103 Kuna ID 83634 United States;X-APPLE-RADIUS=500;X-TITLE=757 E Stagecoach Way\, Suite 103:geo:-116.4046421,43.4833055
END:VEVENT
BEGIN:VEVENT
DTSTART;TZID=America/Boise:20270412T101500
DTEND;TZID=America/Boise:20270412T110000
DTSTAMP:20260424T145109
CREATED:20250602T225923Z
LAST-MODIFIED:20250602T225925Z
UID:10026265-1807524900-1807527600@freedomfitnessidaho.com
SUMMARY:Pilates w/Jenna
DESCRIPTION:
URL:https://freedomfitnessidaho.com/event/pilates-w-jenna-4/2027-04-12/
LOCATION:Freedom Fitness Center\, 757 E Stagecoach Way\, Suite 103\, Kuna\, ID\, 83634\, United States
CATEGORIES:Balance,Body weight,Stetching,Strength Training
GEO:43.4833055;-116.4046421
X-APPLE-STRUCTURED-LOCATION;VALUE=URI;X-ADDRESS=Freedom Fitness Center 757 E Stagecoach Way Suite 103 Kuna ID 83634 United States;X-APPLE-RADIUS=500;X-TITLE=757 E Stagecoach Way\, Suite 103:geo:-116.4046421,43.4833055
END:VEVENT
BEGIN:VEVENT
DTSTART;TZID=America/Boise:20270413T091500
DTEND;TZID=America/Boise:20270413T100000
DTSTAMP:20260424T145109
CREATED:20250204T185536Z
LAST-MODIFIED:20250204T185536Z
UID:10032385-1807607700-1807610400@freedomfitnessidaho.com
SUMMARY:Barre w/Grace
DESCRIPTION:
URL:https://freedomfitnessidaho.com/event/barre-w-grace-3/2027-04-13/
LOCATION:Freedom Fitness Center\, 757 E Stagecoach Way\, Suite 103\, Kuna\, ID\, 83634\, United States
CATEGORIES:Balance,Barre,Body weight,Chair
GEO:43.4833055;-116.4046421
X-APPLE-STRUCTURED-LOCATION;VALUE=URI;X-ADDRESS=Freedom Fitness Center 757 E Stagecoach Way Suite 103 Kuna ID 83634 United States;X-APPLE-RADIUS=500;X-TITLE=757 E Stagecoach Way\, Suite 103:geo:-116.4046421,43.4833055
END:VEVENT
BEGIN:VEVENT
DTSTART;TZID=America/Boise:20270414T051000
DTEND;TZID=America/Boise:20270414T060000
DTSTAMP:20260424T145109
CREATED:20260105T151912Z
LAST-MODIFIED:20260105T151914Z
UID:10036134-1807679400-1807682400@freedomfitnessidaho.com
SUMMARY:Pound/Pilates Fusion w/Jenna
DESCRIPTION:
URL:https://freedomfitnessidaho.com/event/poundpilates-fusion-w-jenna-3-2/2027-04-14/
LOCATION:Freedom Fitness Center\, 757 E Stagecoach Way\, Suite 103\, Kuna\, ID\, 83634\, United States
CATEGORIES:Balance,Body weight,Cardio,Drum sticks,Focus,Functional Movement,Low Impact,Pilates,Stetching
GEO:43.4833055;-116.4046421
X-APPLE-STRUCTURED-LOCATION;VALUE=URI;X-ADDRESS=Freedom Fitness Center 757 E Stagecoach Way Suite 103 Kuna ID 83634 United States;X-APPLE-RADIUS=500;X-TITLE=757 E Stagecoach Way\, Suite 103:geo:-116.4046421,43.4833055
END:VEVENT
BEGIN:VEVENT
DTSTART;TZID=America/Boise:20270414T081500
DTEND;TZID=America/Boise:20270414T090000
DTSTAMP:20260424T145109
CREATED:20250204T185900Z
LAST-MODIFIED:20250204T185900Z
UID:10032646-1807690500-1807693200@freedomfitnessidaho.com
SUMMARY:Bootcamp w/Laci
DESCRIPTION:
URL:https://freedomfitnessidaho.com/event/bootcamp-w-laci/2027-04-14/
LOCATION:Freedom Fitness Center\, 757 E Stagecoach Way\, Suite 103\, Kuna\, ID\, 83634\, United States
CATEGORIES:Body weight,Cardio,Core,Low Impact,Plyometrics,Strength Training,Weights
GEO:43.4833055;-116.4046421
X-APPLE-STRUCTURED-LOCATION;VALUE=URI;X-ADDRESS=Freedom Fitness Center 757 E Stagecoach Way Suite 103 Kuna ID 83634 United States;X-APPLE-RADIUS=500;X-TITLE=757 E Stagecoach Way\, Suite 103:geo:-116.4046421,43.4833055
END:VEVENT
END:VCALENDAR