BEGIN:VCALENDAR
VERSION:2.0
PRODID:-//Freedom Fitness - ECPv6.2.9//NONSGML v1.0//EN
CALSCALE:GREGORIAN
METHOD:PUBLISH
X-ORIGINAL-URL:https://freedomfitnessidaho.com
X-WR-CALDESC:Events for Freedom Fitness
REFRESH-INTERVAL;VALUE=DURATION:PT1H
X-Robots-Tag:noindex
X-PUBLISHED-TTL:PT1H
BEGIN:VTIMEZONE
TZID:America/Boise
BEGIN:DAYLIGHT
TZOFFSETFROM:-0700
TZOFFSETTO:-0600
TZNAME:MDT
DTSTART:20270314T090000
END:DAYLIGHT
BEGIN:STANDARD
TZOFFSETFROM:-0600
TZOFFSETTO:-0700
TZNAME:MST
DTSTART:20271107T080000
END:STANDARD
END:VTIMEZONE
BEGIN:VEVENT
DTSTART;TZID=America/Boise:20270112T091500
DTEND;TZID=America/Boise:20270112T100000
DTSTAMP:20260424T090243
CREATED:20250204T185536Z
LAST-MODIFIED:20250204T185536Z
UID:10032372-1799745300-1799748000@freedomfitnessidaho.com
SUMMARY:Barre w/Grace
DESCRIPTION:
URL:https://freedomfitnessidaho.com/event/barre-w-grace-3/2027-01-12/
LOCATION:Freedom Fitness Center\, 757 E Stagecoach Way\, Suite 103\, Kuna\, ID\, 83634\, United States
CATEGORIES:Balance,Barre,Body weight,Chair
GEO:43.4833055;-116.4046421
X-APPLE-STRUCTURED-LOCATION;VALUE=URI;X-ADDRESS=Freedom Fitness Center 757 E Stagecoach Way Suite 103 Kuna ID 83634 United States;X-APPLE-RADIUS=500;X-TITLE=757 E Stagecoach Way\, Suite 103:geo:-116.4046421,43.4833055
END:VEVENT
BEGIN:VEVENT
DTSTART;TZID=America/Boise:20270113T051000
DTEND;TZID=America/Boise:20270113T060000
DTSTAMP:20260424T090244
CREATED:20260105T151912Z
LAST-MODIFIED:20260105T151914Z
UID:10036121-1799817000-1799820000@freedomfitnessidaho.com
SUMMARY:Pound/Pilates Fusion w/Jenna
DESCRIPTION:
URL:https://freedomfitnessidaho.com/event/poundpilates-fusion-w-jenna-3-2/2027-01-13/
LOCATION:Freedom Fitness Center\, 757 E Stagecoach Way\, Suite 103\, Kuna\, ID\, 83634\, United States
CATEGORIES:Balance,Body weight,Cardio,Drum sticks,Focus,Functional Movement,Low Impact,Pilates,Stetching
GEO:43.4833055;-116.4046421
X-APPLE-STRUCTURED-LOCATION;VALUE=URI;X-ADDRESS=Freedom Fitness Center 757 E Stagecoach Way Suite 103 Kuna ID 83634 United States;X-APPLE-RADIUS=500;X-TITLE=757 E Stagecoach Way\, Suite 103:geo:-116.4046421,43.4833055
END:VEVENT
BEGIN:VEVENT
DTSTART;TZID=America/Boise:20270113T081500
DTEND;TZID=America/Boise:20270113T090000
DTSTAMP:20260424T090244
CREATED:20250204T185900Z
LAST-MODIFIED:20250204T185900Z
UID:10032633-1799828100-1799830800@freedomfitnessidaho.com
SUMMARY:Bootcamp w/Laci
DESCRIPTION:
URL:https://freedomfitnessidaho.com/event/bootcamp-w-laci/2027-01-13/
LOCATION:Freedom Fitness Center\, 757 E Stagecoach Way\, Suite 103\, Kuna\, ID\, 83634\, United States
CATEGORIES:Body weight,Cardio,Core,Low Impact,Plyometrics,Strength Training,Weights
GEO:43.4833055;-116.4046421
X-APPLE-STRUCTURED-LOCATION;VALUE=URI;X-ADDRESS=Freedom Fitness Center 757 E Stagecoach Way Suite 103 Kuna ID 83634 United States;X-APPLE-RADIUS=500;X-TITLE=757 E Stagecoach Way\, Suite 103:geo:-116.4046421,43.4833055
END:VEVENT
BEGIN:VEVENT
DTSTART;TZID=America/Boise:20270113T101500
DTEND;TZID=America/Boise:20270113T110000
DTSTAMP:20260424T090244
CREATED:20260105T152302Z
LAST-MODIFIED:20260105T152304Z
UID:10036677-1799835300-1799838000@freedomfitnessidaho.com
SUMMARY:Silver Sneakers w/Rachael
DESCRIPTION:
URL:https://freedomfitnessidaho.com/event/silver-sneakers-w-rachael-2-2/2027-01-13/
LOCATION:Freedom Fitness Center\, 757 E Stagecoach Way\, Suite 103\, Kuna\, ID\, 83634\, United States
CATEGORIES:Balance,Ball,Body weight,Cardio,Chair,Focus,Low Impact,Resistance bands,Weights
GEO:43.4833055;-116.4046421
X-APPLE-STRUCTURED-LOCATION;VALUE=URI;X-ADDRESS=Freedom Fitness Center 757 E Stagecoach Way Suite 103 Kuna ID 83634 United States;X-APPLE-RADIUS=500;X-TITLE=757 E Stagecoach Way\, Suite 103:geo:-116.4046421,43.4833055
END:VEVENT
BEGIN:VEVENT
DTSTART;TZID=America/Boise:20270114T080000
DTEND;TZID=America/Boise:20270114T090000
DTSTAMP:20260424T090244
CREATED:20240125T211642Z
LAST-MODIFIED:20240430T231136Z
UID:10025448-1799913600-1799917200@freedomfitnessidaho.com
SUMMARY:Yoga w/Shawna
DESCRIPTION:
URL:https://freedomfitnessidaho.com/event/yoga-w-shawna-2-2/2027-01-14/
LOCATION:Freedom Fitness Center\, 757 E Stagecoach Way\, Suite 103\, Kuna\, ID\, 83634\, United States
CATEGORIES:Balance,Body weight,Core,Focus,Low Impact,Stetching,Yoga
GEO:43.4833055;-116.4046421
X-APPLE-STRUCTURED-LOCATION;VALUE=URI;X-ADDRESS=Freedom Fitness Center 757 E Stagecoach Way Suite 103 Kuna ID 83634 United States;X-APPLE-RADIUS=500;X-TITLE=757 E Stagecoach Way\, Suite 103:geo:-116.4046421,43.4833055
END:VEVENT
BEGIN:VEVENT
DTSTART;TZID=America/Boise:20270114T101500
DTEND;TZID=America/Boise:20270114T110000
DTSTAMP:20260424T090244
CREATED:20240715T230849Z
LAST-MODIFIED:20240715T230850Z
UID:10027559-1799921700-1799924400@freedomfitnessidaho.com
SUMMARY:Barre w/Grace
DESCRIPTION:
URL:https://freedomfitnessidaho.com/event/barre-w-grace-2-2/2027-01-14/
LOCATION:Freedom Fitness Center\, 757 E Stagecoach Way\, Suite 103\, Kuna\, ID\, 83634\, United States
CATEGORIES:Balance,Ball,Body weight,Chair,Weights
GEO:43.4833055;-116.4046421
X-APPLE-STRUCTURED-LOCATION;VALUE=URI;X-ADDRESS=Freedom Fitness Center 757 E Stagecoach Way Suite 103 Kuna ID 83634 United States;X-APPLE-RADIUS=500;X-TITLE=757 E Stagecoach Way\, Suite 103:geo:-116.4046421,43.4833055
END:VEVENT
BEGIN:VEVENT
DTSTART;TZID=America/Boise:20270114T181500
DTEND;TZID=America/Boise:20270114T190000
DTSTAMP:20260424T090244
CREATED:20250603T185738Z
LAST-MODIFIED:20250603T185738Z
UID:10035322-1799950500-1799953200@freedomfitnessidaho.com
SUMMARY:Pumped Up Strength w/Natalie
DESCRIPTION:
URL:https://freedomfitnessidaho.com/event/pumped-up-strength-w-natalie-6/2027-01-14/
LOCATION:Freedom Fitness Center\, 757 E Stagecoach Way\, Suite 103\, Kuna\, ID\, 83634\, United States
CATEGORIES:Body weight,Weights
GEO:43.4833055;-116.4046421
X-APPLE-STRUCTURED-LOCATION;VALUE=URI;X-ADDRESS=Freedom Fitness Center 757 E Stagecoach Way Suite 103 Kuna ID 83634 United States;X-APPLE-RADIUS=500;X-TITLE=757 E Stagecoach Way\, Suite 103:geo:-116.4046421,43.4833055
END:VEVENT
BEGIN:VEVENT
DTSTART;TZID=America/Boise:20270115T051000
DTEND;TZID=America/Boise:20270115T060000
DTSTAMP:20260424T090244
CREATED:20260105T164706Z
LAST-MODIFIED:20260105T164708Z
UID:10035603-1799989800-1799992800@freedomfitnessidaho.com
SUMMARY:AMPD Strength w/Rachael
DESCRIPTION:
URL:https://freedomfitnessidaho.com/event/ampd-strength-w-rachael/2027-01-15/
LOCATION:Freedom Fitness Center\, 757 E Stagecoach Way\, Suite 103\, Kuna\, ID\, 83634\, United States
CATEGORIES:Body bar,Body weight,Cardio,Low Impact,Weights
GEO:43.4833055;-116.4046421
X-APPLE-STRUCTURED-LOCATION;VALUE=URI;X-ADDRESS=Freedom Fitness Center 757 E Stagecoach Way Suite 103 Kuna ID 83634 United States;X-APPLE-RADIUS=500;X-TITLE=757 E Stagecoach Way\, Suite 103:geo:-116.4046421,43.4833055
END:VEVENT
BEGIN:VEVENT
DTSTART;TZID=America/Boise:20270115T091500
DTEND;TZID=America/Boise:20270115T100000
DTSTAMP:20260424T090244
CREATED:20240903T213554Z
LAST-MODIFIED:20240903T213556Z
UID:10021109-1800004500-1800007200@freedomfitnessidaho.com
SUMMARY:Zumba Sentao w/Carrie
DESCRIPTION:
URL:https://freedomfitnessidaho.com/event/zumba-sentao-w-carrie/2027-01-15/
LOCATION:Freedom Fitness Center\, 757 E Stagecoach Way\, Suite 103\, Kuna\, ID\, 83634\, United States
CATEGORIES:Body weight,Cardio,Chair,Core,Resistance bands,Seniors,Strength Training,Weights
GEO:43.4833055;-116.4046421
X-APPLE-STRUCTURED-LOCATION;VALUE=URI;X-ADDRESS=Freedom Fitness Center 757 E Stagecoach Way Suite 103 Kuna ID 83634 United States;X-APPLE-RADIUS=500;X-TITLE=757 E Stagecoach Way\, Suite 103:geo:-116.4046421,43.4833055
END:VEVENT
BEGIN:VEVENT
DTSTART;TZID=America/Boise:20270118T081500
DTEND;TZID=America/Boise:20270118T090000
DTSTAMP:20260424T090244
CREATED:20231231T025337Z
LAST-MODIFIED:20231231T025337Z
UID:10019644-1800260100-1800262800@freedomfitnessidaho.com
SUMMARY:Cardio & Weights w/Laci
DESCRIPTION:
URL:https://freedomfitnessidaho.com/event/cardio-weights-w-laci/2027-01-18/
LOCATION:Freedom Fitness Center\, 757 E Stagecoach Way\, Suite 103\, Kuna\, ID\, 83634\, United States
CATEGORIES:Body weight,Cardio,Strength Training,Weights
GEO:43.4833055;-116.4046421
X-APPLE-STRUCTURED-LOCATION;VALUE=URI;X-ADDRESS=Freedom Fitness Center 757 E Stagecoach Way Suite 103 Kuna ID 83634 United States;X-APPLE-RADIUS=500;X-TITLE=757 E Stagecoach Way\, Suite 103:geo:-116.4046421,43.4833055
END:VEVENT
BEGIN:VEVENT
DTSTART;TZID=America/Boise:20270118T101500
DTEND;TZID=America/Boise:20270118T110000
DTSTAMP:20260424T090244
CREATED:20250602T225923Z
LAST-MODIFIED:20250602T225925Z
UID:10026253-1800267300-1800270000@freedomfitnessidaho.com
SUMMARY:Pilates w/Jenna
DESCRIPTION:
URL:https://freedomfitnessidaho.com/event/pilates-w-jenna-4/2027-01-18/
LOCATION:Freedom Fitness Center\, 757 E Stagecoach Way\, Suite 103\, Kuna\, ID\, 83634\, United States
CATEGORIES:Balance,Body weight,Stetching,Strength Training
GEO:43.4833055;-116.4046421
X-APPLE-STRUCTURED-LOCATION;VALUE=URI;X-ADDRESS=Freedom Fitness Center 757 E Stagecoach Way Suite 103 Kuna ID 83634 United States;X-APPLE-RADIUS=500;X-TITLE=757 E Stagecoach Way\, Suite 103:geo:-116.4046421,43.4833055
END:VEVENT
BEGIN:VEVENT
DTSTART;TZID=America/Boise:20270119T091500
DTEND;TZID=America/Boise:20270119T100000
DTSTAMP:20260424T090244
CREATED:20250204T185536Z
LAST-MODIFIED:20250204T185536Z
UID:10032373-1800350100-1800352800@freedomfitnessidaho.com
SUMMARY:Barre w/Grace
DESCRIPTION:
URL:https://freedomfitnessidaho.com/event/barre-w-grace-3/2027-01-19/
LOCATION:Freedom Fitness Center\, 757 E Stagecoach Way\, Suite 103\, Kuna\, ID\, 83634\, United States
CATEGORIES:Balance,Barre,Body weight,Chair
GEO:43.4833055;-116.4046421
X-APPLE-STRUCTURED-LOCATION;VALUE=URI;X-ADDRESS=Freedom Fitness Center 757 E Stagecoach Way Suite 103 Kuna ID 83634 United States;X-APPLE-RADIUS=500;X-TITLE=757 E Stagecoach Way\, Suite 103:geo:-116.4046421,43.4833055
END:VEVENT
BEGIN:VEVENT
DTSTART;TZID=America/Boise:20270120T051000
DTEND;TZID=America/Boise:20270120T060000
DTSTAMP:20260424T090244
CREATED:20260105T151912Z
LAST-MODIFIED:20260105T151914Z
UID:10036122-1800421800-1800424800@freedomfitnessidaho.com
SUMMARY:Pound/Pilates Fusion w/Jenna
DESCRIPTION:
URL:https://freedomfitnessidaho.com/event/poundpilates-fusion-w-jenna-3-2/2027-01-20/
LOCATION:Freedom Fitness Center\, 757 E Stagecoach Way\, Suite 103\, Kuna\, ID\, 83634\, United States
CATEGORIES:Balance,Body weight,Cardio,Drum sticks,Focus,Functional Movement,Low Impact,Pilates,Stetching
GEO:43.4833055;-116.4046421
X-APPLE-STRUCTURED-LOCATION;VALUE=URI;X-ADDRESS=Freedom Fitness Center 757 E Stagecoach Way Suite 103 Kuna ID 83634 United States;X-APPLE-RADIUS=500;X-TITLE=757 E Stagecoach Way\, Suite 103:geo:-116.4046421,43.4833055
END:VEVENT
BEGIN:VEVENT
DTSTART;TZID=America/Boise:20270120T081500
DTEND;TZID=America/Boise:20270120T090000
DTSTAMP:20260424T090244
CREATED:20250204T185900Z
LAST-MODIFIED:20250204T185900Z
UID:10032634-1800432900-1800435600@freedomfitnessidaho.com
SUMMARY:Bootcamp w/Laci
DESCRIPTION:
URL:https://freedomfitnessidaho.com/event/bootcamp-w-laci/2027-01-20/
LOCATION:Freedom Fitness Center\, 757 E Stagecoach Way\, Suite 103\, Kuna\, ID\, 83634\, United States
CATEGORIES:Body weight,Cardio,Core,Low Impact,Plyometrics,Strength Training,Weights
GEO:43.4833055;-116.4046421
X-APPLE-STRUCTURED-LOCATION;VALUE=URI;X-ADDRESS=Freedom Fitness Center 757 E Stagecoach Way Suite 103 Kuna ID 83634 United States;X-APPLE-RADIUS=500;X-TITLE=757 E Stagecoach Way\, Suite 103:geo:-116.4046421,43.4833055
END:VEVENT
BEGIN:VEVENT
DTSTART;TZID=America/Boise:20270120T101500
DTEND;TZID=America/Boise:20270120T110000
DTSTAMP:20260424T090244
CREATED:20260105T152302Z
LAST-MODIFIED:20260105T152304Z
UID:10036678-1800440100-1800442800@freedomfitnessidaho.com
SUMMARY:Silver Sneakers w/Rachael
DESCRIPTION:
URL:https://freedomfitnessidaho.com/event/silver-sneakers-w-rachael-2-2/2027-01-20/
LOCATION:Freedom Fitness Center\, 757 E Stagecoach Way\, Suite 103\, Kuna\, ID\, 83634\, United States
CATEGORIES:Balance,Ball,Body weight,Cardio,Chair,Focus,Low Impact,Resistance bands,Weights
GEO:43.4833055;-116.4046421
X-APPLE-STRUCTURED-LOCATION;VALUE=URI;X-ADDRESS=Freedom Fitness Center 757 E Stagecoach Way Suite 103 Kuna ID 83634 United States;X-APPLE-RADIUS=500;X-TITLE=757 E Stagecoach Way\, Suite 103:geo:-116.4046421,43.4833055
END:VEVENT
BEGIN:VEVENT
DTSTART;TZID=America/Boise:20270121T080000
DTEND;TZID=America/Boise:20270121T090000
DTSTAMP:20260424T090244
CREATED:20240125T211642Z
LAST-MODIFIED:20240430T231136Z
UID:10025449-1800518400-1800522000@freedomfitnessidaho.com
SUMMARY:Yoga w/Shawna
DESCRIPTION:
URL:https://freedomfitnessidaho.com/event/yoga-w-shawna-2-2/2027-01-21/
LOCATION:Freedom Fitness Center\, 757 E Stagecoach Way\, Suite 103\, Kuna\, ID\, 83634\, United States
CATEGORIES:Balance,Body weight,Core,Focus,Low Impact,Stetching,Yoga
GEO:43.4833055;-116.4046421
X-APPLE-STRUCTURED-LOCATION;VALUE=URI;X-ADDRESS=Freedom Fitness Center 757 E Stagecoach Way Suite 103 Kuna ID 83634 United States;X-APPLE-RADIUS=500;X-TITLE=757 E Stagecoach Way\, Suite 103:geo:-116.4046421,43.4833055
END:VEVENT
BEGIN:VEVENT
DTSTART;TZID=America/Boise:20270121T101500
DTEND;TZID=America/Boise:20270121T110000
DTSTAMP:20260424T090244
CREATED:20240715T230849Z
LAST-MODIFIED:20240715T230850Z
UID:10027560-1800526500-1800529200@freedomfitnessidaho.com
SUMMARY:Barre w/Grace
DESCRIPTION:
URL:https://freedomfitnessidaho.com/event/barre-w-grace-2-2/2027-01-21/
LOCATION:Freedom Fitness Center\, 757 E Stagecoach Way\, Suite 103\, Kuna\, ID\, 83634\, United States
CATEGORIES:Balance,Ball,Body weight,Chair,Weights
GEO:43.4833055;-116.4046421
X-APPLE-STRUCTURED-LOCATION;VALUE=URI;X-ADDRESS=Freedom Fitness Center 757 E Stagecoach Way Suite 103 Kuna ID 83634 United States;X-APPLE-RADIUS=500;X-TITLE=757 E Stagecoach Way\, Suite 103:geo:-116.4046421,43.4833055
END:VEVENT
BEGIN:VEVENT
DTSTART;TZID=America/Boise:20270121T181500
DTEND;TZID=America/Boise:20270121T190000
DTSTAMP:20260424T090244
CREATED:20250603T185738Z
LAST-MODIFIED:20250603T185738Z
UID:10035323-1800555300-1800558000@freedomfitnessidaho.com
SUMMARY:Pumped Up Strength w/Natalie
DESCRIPTION:
URL:https://freedomfitnessidaho.com/event/pumped-up-strength-w-natalie-6/2027-01-21/
LOCATION:Freedom Fitness Center\, 757 E Stagecoach Way\, Suite 103\, Kuna\, ID\, 83634\, United States
CATEGORIES:Body weight,Weights
GEO:43.4833055;-116.4046421
X-APPLE-STRUCTURED-LOCATION;VALUE=URI;X-ADDRESS=Freedom Fitness Center 757 E Stagecoach Way Suite 103 Kuna ID 83634 United States;X-APPLE-RADIUS=500;X-TITLE=757 E Stagecoach Way\, Suite 103:geo:-116.4046421,43.4833055
END:VEVENT
BEGIN:VEVENT
DTSTART;TZID=America/Boise:20270122T051000
DTEND;TZID=America/Boise:20270122T060000
DTSTAMP:20260424T090244
CREATED:20260105T164706Z
LAST-MODIFIED:20260105T164708Z
UID:10035604-1800594600-1800597600@freedomfitnessidaho.com
SUMMARY:AMPD Strength w/Rachael
DESCRIPTION:
URL:https://freedomfitnessidaho.com/event/ampd-strength-w-rachael/2027-01-22/
LOCATION:Freedom Fitness Center\, 757 E Stagecoach Way\, Suite 103\, Kuna\, ID\, 83634\, United States
CATEGORIES:Body bar,Body weight,Cardio,Low Impact,Weights
GEO:43.4833055;-116.4046421
X-APPLE-STRUCTURED-LOCATION;VALUE=URI;X-ADDRESS=Freedom Fitness Center 757 E Stagecoach Way Suite 103 Kuna ID 83634 United States;X-APPLE-RADIUS=500;X-TITLE=757 E Stagecoach Way\, Suite 103:geo:-116.4046421,43.4833055
END:VEVENT
BEGIN:VEVENT
DTSTART;TZID=America/Boise:20270122T091500
DTEND;TZID=America/Boise:20270122T100000
DTSTAMP:20260424T090244
CREATED:20240903T213554Z
LAST-MODIFIED:20240903T213556Z
UID:10021110-1800609300-1800612000@freedomfitnessidaho.com
SUMMARY:Zumba Sentao w/Carrie
DESCRIPTION:
URL:https://freedomfitnessidaho.com/event/zumba-sentao-w-carrie/2027-01-22/
LOCATION:Freedom Fitness Center\, 757 E Stagecoach Way\, Suite 103\, Kuna\, ID\, 83634\, United States
CATEGORIES:Body weight,Cardio,Chair,Core,Resistance bands,Seniors,Strength Training,Weights
GEO:43.4833055;-116.4046421
X-APPLE-STRUCTURED-LOCATION;VALUE=URI;X-ADDRESS=Freedom Fitness Center 757 E Stagecoach Way Suite 103 Kuna ID 83634 United States;X-APPLE-RADIUS=500;X-TITLE=757 E Stagecoach Way\, Suite 103:geo:-116.4046421,43.4833055
END:VEVENT
BEGIN:VEVENT
DTSTART;TZID=America/Boise:20270125T081500
DTEND;TZID=America/Boise:20270125T090000
DTSTAMP:20260424T090244
CREATED:20231231T025337Z
LAST-MODIFIED:20231231T025337Z
UID:10019645-1800864900-1800867600@freedomfitnessidaho.com
SUMMARY:Cardio & Weights w/Laci
DESCRIPTION:
URL:https://freedomfitnessidaho.com/event/cardio-weights-w-laci/2027-01-25/
LOCATION:Freedom Fitness Center\, 757 E Stagecoach Way\, Suite 103\, Kuna\, ID\, 83634\, United States
CATEGORIES:Body weight,Cardio,Strength Training,Weights
GEO:43.4833055;-116.4046421
X-APPLE-STRUCTURED-LOCATION;VALUE=URI;X-ADDRESS=Freedom Fitness Center 757 E Stagecoach Way Suite 103 Kuna ID 83634 United States;X-APPLE-RADIUS=500;X-TITLE=757 E Stagecoach Way\, Suite 103:geo:-116.4046421,43.4833055
END:VEVENT
BEGIN:VEVENT
DTSTART;TZID=America/Boise:20270125T101500
DTEND;TZID=America/Boise:20270125T110000
DTSTAMP:20260424T090244
CREATED:20250602T225923Z
LAST-MODIFIED:20250602T225925Z
UID:10026254-1800872100-1800874800@freedomfitnessidaho.com
SUMMARY:Pilates w/Jenna
DESCRIPTION:
URL:https://freedomfitnessidaho.com/event/pilates-w-jenna-4/2027-01-25/
LOCATION:Freedom Fitness Center\, 757 E Stagecoach Way\, Suite 103\, Kuna\, ID\, 83634\, United States
CATEGORIES:Balance,Body weight,Stetching,Strength Training
GEO:43.4833055;-116.4046421
X-APPLE-STRUCTURED-LOCATION;VALUE=URI;X-ADDRESS=Freedom Fitness Center 757 E Stagecoach Way Suite 103 Kuna ID 83634 United States;X-APPLE-RADIUS=500;X-TITLE=757 E Stagecoach Way\, Suite 103:geo:-116.4046421,43.4833055
END:VEVENT
BEGIN:VEVENT
DTSTART;TZID=America/Boise:20270126T091500
DTEND;TZID=America/Boise:20270126T100000
DTSTAMP:20260424T090244
CREATED:20250204T185536Z
LAST-MODIFIED:20250204T185536Z
UID:10032374-1800954900-1800957600@freedomfitnessidaho.com
SUMMARY:Barre w/Grace
DESCRIPTION:
URL:https://freedomfitnessidaho.com/event/barre-w-grace-3/2027-01-26/
LOCATION:Freedom Fitness Center\, 757 E Stagecoach Way\, Suite 103\, Kuna\, ID\, 83634\, United States
CATEGORIES:Balance,Barre,Body weight,Chair
GEO:43.4833055;-116.4046421
X-APPLE-STRUCTURED-LOCATION;VALUE=URI;X-ADDRESS=Freedom Fitness Center 757 E Stagecoach Way Suite 103 Kuna ID 83634 United States;X-APPLE-RADIUS=500;X-TITLE=757 E Stagecoach Way\, Suite 103:geo:-116.4046421,43.4833055
END:VEVENT
BEGIN:VEVENT
DTSTART;TZID=America/Boise:20270127T051000
DTEND;TZID=America/Boise:20270127T060000
DTSTAMP:20260424T090244
CREATED:20260105T151912Z
LAST-MODIFIED:20260105T151914Z
UID:10036123-1801026600-1801029600@freedomfitnessidaho.com
SUMMARY:Pound/Pilates Fusion w/Jenna
DESCRIPTION:
URL:https://freedomfitnessidaho.com/event/poundpilates-fusion-w-jenna-3-2/2027-01-27/
LOCATION:Freedom Fitness Center\, 757 E Stagecoach Way\, Suite 103\, Kuna\, ID\, 83634\, United States
CATEGORIES:Balance,Body weight,Cardio,Drum sticks,Focus,Functional Movement,Low Impact,Pilates,Stetching
GEO:43.4833055;-116.4046421
X-APPLE-STRUCTURED-LOCATION;VALUE=URI;X-ADDRESS=Freedom Fitness Center 757 E Stagecoach Way Suite 103 Kuna ID 83634 United States;X-APPLE-RADIUS=500;X-TITLE=757 E Stagecoach Way\, Suite 103:geo:-116.4046421,43.4833055
END:VEVENT
BEGIN:VEVENT
DTSTART;TZID=America/Boise:20270127T081500
DTEND;TZID=America/Boise:20270127T090000
DTSTAMP:20260424T090245
CREATED:20250204T185900Z
LAST-MODIFIED:20250204T185900Z
UID:10032635-1801037700-1801040400@freedomfitnessidaho.com
SUMMARY:Bootcamp w/Laci
DESCRIPTION:
URL:https://freedomfitnessidaho.com/event/bootcamp-w-laci/2027-01-27/
LOCATION:Freedom Fitness Center\, 757 E Stagecoach Way\, Suite 103\, Kuna\, ID\, 83634\, United States
CATEGORIES:Body weight,Cardio,Core,Low Impact,Plyometrics,Strength Training,Weights
GEO:43.4833055;-116.4046421
X-APPLE-STRUCTURED-LOCATION;VALUE=URI;X-ADDRESS=Freedom Fitness Center 757 E Stagecoach Way Suite 103 Kuna ID 83634 United States;X-APPLE-RADIUS=500;X-TITLE=757 E Stagecoach Way\, Suite 103:geo:-116.4046421,43.4833055
END:VEVENT
BEGIN:VEVENT
DTSTART;TZID=America/Boise:20270127T101500
DTEND;TZID=America/Boise:20270127T110000
DTSTAMP:20260424T090245
CREATED:20260105T152302Z
LAST-MODIFIED:20260105T152304Z
UID:10036679-1801044900-1801047600@freedomfitnessidaho.com
SUMMARY:Silver Sneakers w/Rachael
DESCRIPTION:
URL:https://freedomfitnessidaho.com/event/silver-sneakers-w-rachael-2-2/2027-01-27/
LOCATION:Freedom Fitness Center\, 757 E Stagecoach Way\, Suite 103\, Kuna\, ID\, 83634\, United States
CATEGORIES:Balance,Ball,Body weight,Cardio,Chair,Focus,Low Impact,Resistance bands,Weights
GEO:43.4833055;-116.4046421
X-APPLE-STRUCTURED-LOCATION;VALUE=URI;X-ADDRESS=Freedom Fitness Center 757 E Stagecoach Way Suite 103 Kuna ID 83634 United States;X-APPLE-RADIUS=500;X-TITLE=757 E Stagecoach Way\, Suite 103:geo:-116.4046421,43.4833055
END:VEVENT
BEGIN:VEVENT
DTSTART;TZID=America/Boise:20270128T080000
DTEND;TZID=America/Boise:20270128T090000
DTSTAMP:20260424T090245
CREATED:20240125T211642Z
LAST-MODIFIED:20240430T231136Z
UID:10025450-1801123200-1801126800@freedomfitnessidaho.com
SUMMARY:Yoga w/Shawna
DESCRIPTION:
URL:https://freedomfitnessidaho.com/event/yoga-w-shawna-2-2/2027-01-28/
LOCATION:Freedom Fitness Center\, 757 E Stagecoach Way\, Suite 103\, Kuna\, ID\, 83634\, United States
CATEGORIES:Balance,Body weight,Core,Focus,Low Impact,Stetching,Yoga
GEO:43.4833055;-116.4046421
X-APPLE-STRUCTURED-LOCATION;VALUE=URI;X-ADDRESS=Freedom Fitness Center 757 E Stagecoach Way Suite 103 Kuna ID 83634 United States;X-APPLE-RADIUS=500;X-TITLE=757 E Stagecoach Way\, Suite 103:geo:-116.4046421,43.4833055
END:VEVENT
BEGIN:VEVENT
DTSTART;TZID=America/Boise:20270128T101500
DTEND;TZID=America/Boise:20270128T110000
DTSTAMP:20260424T090245
CREATED:20240715T230849Z
LAST-MODIFIED:20240715T230850Z
UID:10027561-1801131300-1801134000@freedomfitnessidaho.com
SUMMARY:Barre w/Grace
DESCRIPTION:
URL:https://freedomfitnessidaho.com/event/barre-w-grace-2-2/2027-01-28/
LOCATION:Freedom Fitness Center\, 757 E Stagecoach Way\, Suite 103\, Kuna\, ID\, 83634\, United States
CATEGORIES:Balance,Ball,Body weight,Chair,Weights
GEO:43.4833055;-116.4046421
X-APPLE-STRUCTURED-LOCATION;VALUE=URI;X-ADDRESS=Freedom Fitness Center 757 E Stagecoach Way Suite 103 Kuna ID 83634 United States;X-APPLE-RADIUS=500;X-TITLE=757 E Stagecoach Way\, Suite 103:geo:-116.4046421,43.4833055
END:VEVENT
BEGIN:VEVENT
DTSTART;TZID=America/Boise:20270128T181500
DTEND;TZID=America/Boise:20270128T190000
DTSTAMP:20260424T090245
CREATED:20250603T185738Z
LAST-MODIFIED:20250603T185738Z
UID:10035324-1801160100-1801162800@freedomfitnessidaho.com
SUMMARY:Pumped Up Strength w/Natalie
DESCRIPTION:
URL:https://freedomfitnessidaho.com/event/pumped-up-strength-w-natalie-6/2027-01-28/
LOCATION:Freedom Fitness Center\, 757 E Stagecoach Way\, Suite 103\, Kuna\, ID\, 83634\, United States
CATEGORIES:Body weight,Weights
GEO:43.4833055;-116.4046421
X-APPLE-STRUCTURED-LOCATION;VALUE=URI;X-ADDRESS=Freedom Fitness Center 757 E Stagecoach Way Suite 103 Kuna ID 83634 United States;X-APPLE-RADIUS=500;X-TITLE=757 E Stagecoach Way\, Suite 103:geo:-116.4046421,43.4833055
END:VEVENT
BEGIN:VEVENT
DTSTART;TZID=America/Boise:20270129T051000
DTEND;TZID=America/Boise:20270129T060000
DTSTAMP:20260424T090245
CREATED:20260105T164706Z
LAST-MODIFIED:20260105T164708Z
UID:10035605-1801199400-1801202400@freedomfitnessidaho.com
SUMMARY:AMPD Strength w/Rachael
DESCRIPTION:
URL:https://freedomfitnessidaho.com/event/ampd-strength-w-rachael/2027-01-29/
LOCATION:Freedom Fitness Center\, 757 E Stagecoach Way\, Suite 103\, Kuna\, ID\, 83634\, United States
CATEGORIES:Body bar,Body weight,Cardio,Low Impact,Weights
GEO:43.4833055;-116.4046421
X-APPLE-STRUCTURED-LOCATION;VALUE=URI;X-ADDRESS=Freedom Fitness Center 757 E Stagecoach Way Suite 103 Kuna ID 83634 United States;X-APPLE-RADIUS=500;X-TITLE=757 E Stagecoach Way\, Suite 103:geo:-116.4046421,43.4833055
END:VEVENT
END:VCALENDAR