BEGIN:VCALENDAR
VERSION:2.0
PRODID:-//Freedom Fitness - ECPv6.2.9//NONSGML v1.0//EN
CALSCALE:GREGORIAN
METHOD:PUBLISH
X-WR-CALNAME:Freedom Fitness
X-ORIGINAL-URL:https://freedomfitnessidaho.com
X-WR-CALDESC:Events for Freedom Fitness
REFRESH-INTERVAL;VALUE=DURATION:PT1H
X-Robots-Tag:noindex
X-PUBLISHED-TTL:PT1H
BEGIN:VTIMEZONE
TZID:America/Boise
BEGIN:DAYLIGHT
TZOFFSETFROM:-0700
TZOFFSETTO:-0600
TZNAME:MDT
DTSTART:20270314T090000
END:DAYLIGHT
BEGIN:STANDARD
TZOFFSETFROM:-0600
TZOFFSETTO:-0700
TZNAME:MST
DTSTART:20271107T080000
END:STANDARD
END:VTIMEZONE
BEGIN:VEVENT
DTSTART;TZID=America/Boise:20270122T051000
DTEND;TZID=America/Boise:20270122T060000
DTSTAMP:20260419T131835
CREATED:20260105T164706Z
LAST-MODIFIED:20260105T164708Z
UID:10035604-1800594600-1800597600@freedomfitnessidaho.com
SUMMARY:AMPD Strength w/Rachael
DESCRIPTION:
URL:https://freedomfitnessidaho.com/event/ampd-strength-w-rachael/2027-01-22/
LOCATION:Freedom Fitness Center\, 757 E Stagecoach Way\, Suite 103\, Kuna\, ID\, 83634\, United States
CATEGORIES:Body bar,Body weight,Cardio,Low Impact,Weights
GEO:43.4833055;-116.4046421
X-APPLE-STRUCTURED-LOCATION;VALUE=URI;X-ADDRESS=Freedom Fitness Center 757 E Stagecoach Way Suite 103 Kuna ID 83634 United States;X-APPLE-RADIUS=500;X-TITLE=757 E Stagecoach Way\, Suite 103:geo:-116.4046421,43.4833055
END:VEVENT
BEGIN:VEVENT
DTSTART;TZID=America/Boise:20270129T051000
DTEND;TZID=America/Boise:20270129T060000
DTSTAMP:20260419T131835
CREATED:20260105T164706Z
LAST-MODIFIED:20260105T164708Z
UID:10035605-1801199400-1801202400@freedomfitnessidaho.com
SUMMARY:AMPD Strength w/Rachael
DESCRIPTION:
URL:https://freedomfitnessidaho.com/event/ampd-strength-w-rachael/2027-01-29/
LOCATION:Freedom Fitness Center\, 757 E Stagecoach Way\, Suite 103\, Kuna\, ID\, 83634\, United States
CATEGORIES:Body bar,Body weight,Cardio,Low Impact,Weights
GEO:43.4833055;-116.4046421
X-APPLE-STRUCTURED-LOCATION;VALUE=URI;X-ADDRESS=Freedom Fitness Center 757 E Stagecoach Way Suite 103 Kuna ID 83634 United States;X-APPLE-RADIUS=500;X-TITLE=757 E Stagecoach Way\, Suite 103:geo:-116.4046421,43.4833055
END:VEVENT
BEGIN:VEVENT
DTSTART;TZID=America/Boise:20270205T051000
DTEND;TZID=America/Boise:20270205T060000
DTSTAMP:20260419T131835
CREATED:20260105T164706Z
LAST-MODIFIED:20260105T164708Z
UID:10035606-1801804200-1801807200@freedomfitnessidaho.com
SUMMARY:AMPD Strength w/Rachael
DESCRIPTION:
URL:https://freedomfitnessidaho.com/event/ampd-strength-w-rachael/2027-02-05/
LOCATION:Freedom Fitness Center\, 757 E Stagecoach Way\, Suite 103\, Kuna\, ID\, 83634\, United States
CATEGORIES:Body bar,Body weight,Cardio,Low Impact,Weights
GEO:43.4833055;-116.4046421
X-APPLE-STRUCTURED-LOCATION;VALUE=URI;X-ADDRESS=Freedom Fitness Center 757 E Stagecoach Way Suite 103 Kuna ID 83634 United States;X-APPLE-RADIUS=500;X-TITLE=757 E Stagecoach Way\, Suite 103:geo:-116.4046421,43.4833055
END:VEVENT
BEGIN:VEVENT
DTSTART;TZID=America/Boise:20270212T051000
DTEND;TZID=America/Boise:20270212T060000
DTSTAMP:20260419T131835
CREATED:20260105T164706Z
LAST-MODIFIED:20260105T164708Z
UID:10035607-1802409000-1802412000@freedomfitnessidaho.com
SUMMARY:AMPD Strength w/Rachael
DESCRIPTION:
URL:https://freedomfitnessidaho.com/event/ampd-strength-w-rachael/2027-02-12/
LOCATION:Freedom Fitness Center\, 757 E Stagecoach Way\, Suite 103\, Kuna\, ID\, 83634\, United States
CATEGORIES:Body bar,Body weight,Cardio,Low Impact,Weights
GEO:43.4833055;-116.4046421
X-APPLE-STRUCTURED-LOCATION;VALUE=URI;X-ADDRESS=Freedom Fitness Center 757 E Stagecoach Way Suite 103 Kuna ID 83634 United States;X-APPLE-RADIUS=500;X-TITLE=757 E Stagecoach Way\, Suite 103:geo:-116.4046421,43.4833055
END:VEVENT
BEGIN:VEVENT
DTSTART;TZID=America/Boise:20270219T051000
DTEND;TZID=America/Boise:20270219T060000
DTSTAMP:20260419T131835
CREATED:20260105T164706Z
LAST-MODIFIED:20260105T164708Z
UID:10035608-1803013800-1803016800@freedomfitnessidaho.com
SUMMARY:AMPD Strength w/Rachael
DESCRIPTION:
URL:https://freedomfitnessidaho.com/event/ampd-strength-w-rachael/2027-02-19/
LOCATION:Freedom Fitness Center\, 757 E Stagecoach Way\, Suite 103\, Kuna\, ID\, 83634\, United States
CATEGORIES:Body bar,Body weight,Cardio,Low Impact,Weights
GEO:43.4833055;-116.4046421
X-APPLE-STRUCTURED-LOCATION;VALUE=URI;X-ADDRESS=Freedom Fitness Center 757 E Stagecoach Way Suite 103 Kuna ID 83634 United States;X-APPLE-RADIUS=500;X-TITLE=757 E Stagecoach Way\, Suite 103:geo:-116.4046421,43.4833055
END:VEVENT
BEGIN:VEVENT
DTSTART;TZID=America/Boise:20270226T051000
DTEND;TZID=America/Boise:20270226T060000
DTSTAMP:20260419T131835
CREATED:20260105T164706Z
LAST-MODIFIED:20260105T164708Z
UID:10035609-1803618600-1803621600@freedomfitnessidaho.com
SUMMARY:AMPD Strength w/Rachael
DESCRIPTION:
URL:https://freedomfitnessidaho.com/event/ampd-strength-w-rachael/2027-02-26/
LOCATION:Freedom Fitness Center\, 757 E Stagecoach Way\, Suite 103\, Kuna\, ID\, 83634\, United States
CATEGORIES:Body bar,Body weight,Cardio,Low Impact,Weights
GEO:43.4833055;-116.4046421
X-APPLE-STRUCTURED-LOCATION;VALUE=URI;X-ADDRESS=Freedom Fitness Center 757 E Stagecoach Way Suite 103 Kuna ID 83634 United States;X-APPLE-RADIUS=500;X-TITLE=757 E Stagecoach Way\, Suite 103:geo:-116.4046421,43.4833055
END:VEVENT
BEGIN:VEVENT
DTSTART;TZID=America/Boise:20270305T051000
DTEND;TZID=America/Boise:20270305T060000
DTSTAMP:20260419T131835
CREATED:20260105T164706Z
LAST-MODIFIED:20260105T164708Z
UID:10035610-1804223400-1804226400@freedomfitnessidaho.com
SUMMARY:AMPD Strength w/Rachael
DESCRIPTION:
URL:https://freedomfitnessidaho.com/event/ampd-strength-w-rachael/2027-03-05/
LOCATION:Freedom Fitness Center\, 757 E Stagecoach Way\, Suite 103\, Kuna\, ID\, 83634\, United States
CATEGORIES:Body bar,Body weight,Cardio,Low Impact,Weights
GEO:43.4833055;-116.4046421
X-APPLE-STRUCTURED-LOCATION;VALUE=URI;X-ADDRESS=Freedom Fitness Center 757 E Stagecoach Way Suite 103 Kuna ID 83634 United States;X-APPLE-RADIUS=500;X-TITLE=757 E Stagecoach Way\, Suite 103:geo:-116.4046421,43.4833055
END:VEVENT
BEGIN:VEVENT
DTSTART;TZID=America/Boise:20270312T051000
DTEND;TZID=America/Boise:20270312T060000
DTSTAMP:20260419T131835
CREATED:20260105T164706Z
LAST-MODIFIED:20260105T164708Z
UID:10035611-1804828200-1804831200@freedomfitnessidaho.com
SUMMARY:AMPD Strength w/Rachael
DESCRIPTION:
URL:https://freedomfitnessidaho.com/event/ampd-strength-w-rachael/2027-03-12/
LOCATION:Freedom Fitness Center\, 757 E Stagecoach Way\, Suite 103\, Kuna\, ID\, 83634\, United States
CATEGORIES:Body bar,Body weight,Cardio,Low Impact,Weights
GEO:43.4833055;-116.4046421
X-APPLE-STRUCTURED-LOCATION;VALUE=URI;X-ADDRESS=Freedom Fitness Center 757 E Stagecoach Way Suite 103 Kuna ID 83634 United States;X-APPLE-RADIUS=500;X-TITLE=757 E Stagecoach Way\, Suite 103:geo:-116.4046421,43.4833055
END:VEVENT
BEGIN:VEVENT
DTSTART;TZID=America/Boise:20270319T051000
DTEND;TZID=America/Boise:20270319T060000
DTSTAMP:20260419T131835
CREATED:20260105T164706Z
LAST-MODIFIED:20260105T164708Z
UID:10035612-1805433000-1805436000@freedomfitnessidaho.com
SUMMARY:AMPD Strength w/Rachael
DESCRIPTION:
URL:https://freedomfitnessidaho.com/event/ampd-strength-w-rachael/2027-03-19/
LOCATION:Freedom Fitness Center\, 757 E Stagecoach Way\, Suite 103\, Kuna\, ID\, 83634\, United States
CATEGORIES:Body bar,Body weight,Cardio,Low Impact,Weights
GEO:43.4833055;-116.4046421
X-APPLE-STRUCTURED-LOCATION;VALUE=URI;X-ADDRESS=Freedom Fitness Center 757 E Stagecoach Way Suite 103 Kuna ID 83634 United States;X-APPLE-RADIUS=500;X-TITLE=757 E Stagecoach Way\, Suite 103:geo:-116.4046421,43.4833055
END:VEVENT
BEGIN:VEVENT
DTSTART;TZID=America/Boise:20270326T051000
DTEND;TZID=America/Boise:20270326T060000
DTSTAMP:20260419T131835
CREATED:20260105T164706Z
LAST-MODIFIED:20260105T164708Z
UID:10035613-1806037800-1806040800@freedomfitnessidaho.com
SUMMARY:AMPD Strength w/Rachael
DESCRIPTION:
URL:https://freedomfitnessidaho.com/event/ampd-strength-w-rachael/2027-03-26/
LOCATION:Freedom Fitness Center\, 757 E Stagecoach Way\, Suite 103\, Kuna\, ID\, 83634\, United States
CATEGORIES:Body bar,Body weight,Cardio,Low Impact,Weights
GEO:43.4833055;-116.4046421
X-APPLE-STRUCTURED-LOCATION;VALUE=URI;X-ADDRESS=Freedom Fitness Center 757 E Stagecoach Way Suite 103 Kuna ID 83634 United States;X-APPLE-RADIUS=500;X-TITLE=757 E Stagecoach Way\, Suite 103:geo:-116.4046421,43.4833055
END:VEVENT
BEGIN:VEVENT
DTSTART;TZID=America/Boise:20270402T051000
DTEND;TZID=America/Boise:20270402T060000
DTSTAMP:20260419T131835
CREATED:20260105T164706Z
LAST-MODIFIED:20260105T164708Z
UID:10035614-1806642600-1806645600@freedomfitnessidaho.com
SUMMARY:AMPD Strength w/Rachael
DESCRIPTION:
URL:https://freedomfitnessidaho.com/event/ampd-strength-w-rachael/2027-04-02/
LOCATION:Freedom Fitness Center\, 757 E Stagecoach Way\, Suite 103\, Kuna\, ID\, 83634\, United States
CATEGORIES:Body bar,Body weight,Cardio,Low Impact,Weights
GEO:43.4833055;-116.4046421
X-APPLE-STRUCTURED-LOCATION;VALUE=URI;X-ADDRESS=Freedom Fitness Center 757 E Stagecoach Way Suite 103 Kuna ID 83634 United States;X-APPLE-RADIUS=500;X-TITLE=757 E Stagecoach Way\, Suite 103:geo:-116.4046421,43.4833055
END:VEVENT
BEGIN:VEVENT
DTSTART;TZID=America/Boise:20270409T051000
DTEND;TZID=America/Boise:20270409T060000
DTSTAMP:20260419T131835
CREATED:20260105T164706Z
LAST-MODIFIED:20260105T164708Z
UID:10035615-1807247400-1807250400@freedomfitnessidaho.com
SUMMARY:AMPD Strength w/Rachael
DESCRIPTION:
URL:https://freedomfitnessidaho.com/event/ampd-strength-w-rachael/2027-04-09/
LOCATION:Freedom Fitness Center\, 757 E Stagecoach Way\, Suite 103\, Kuna\, ID\, 83634\, United States
CATEGORIES:Body bar,Body weight,Cardio,Low Impact,Weights
GEO:43.4833055;-116.4046421
X-APPLE-STRUCTURED-LOCATION;VALUE=URI;X-ADDRESS=Freedom Fitness Center 757 E Stagecoach Way Suite 103 Kuna ID 83634 United States;X-APPLE-RADIUS=500;X-TITLE=757 E Stagecoach Way\, Suite 103:geo:-116.4046421,43.4833055
END:VEVENT
BEGIN:VEVENT
DTSTART;TZID=America/Boise:20270416T051000
DTEND;TZID=America/Boise:20270416T060000
DTSTAMP:20260419T131835
CREATED:20260105T164706Z
LAST-MODIFIED:20260105T164708Z
UID:10035616-1807852200-1807855200@freedomfitnessidaho.com
SUMMARY:AMPD Strength w/Rachael
DESCRIPTION:
URL:https://freedomfitnessidaho.com/event/ampd-strength-w-rachael/2027-04-16/
LOCATION:Freedom Fitness Center\, 757 E Stagecoach Way\, Suite 103\, Kuna\, ID\, 83634\, United States
CATEGORIES:Body bar,Body weight,Cardio,Low Impact,Weights
GEO:43.4833055;-116.4046421
X-APPLE-STRUCTURED-LOCATION;VALUE=URI;X-ADDRESS=Freedom Fitness Center 757 E Stagecoach Way Suite 103 Kuna ID 83634 United States;X-APPLE-RADIUS=500;X-TITLE=757 E Stagecoach Way\, Suite 103:geo:-116.4046421,43.4833055
END:VEVENT
BEGIN:VEVENT
DTSTART;TZID=America/Boise:20270423T051000
DTEND;TZID=America/Boise:20270423T060000
DTSTAMP:20260419T131835
CREATED:20260105T164706Z
LAST-MODIFIED:20260105T164708Z
UID:10035617-1808457000-1808460000@freedomfitnessidaho.com
SUMMARY:AMPD Strength w/Rachael
DESCRIPTION:
URL:https://freedomfitnessidaho.com/event/ampd-strength-w-rachael/2027-04-23/
LOCATION:Freedom Fitness Center\, 757 E Stagecoach Way\, Suite 103\, Kuna\, ID\, 83634\, United States
CATEGORIES:Body bar,Body weight,Cardio,Low Impact,Weights
GEO:43.4833055;-116.4046421
X-APPLE-STRUCTURED-LOCATION;VALUE=URI;X-ADDRESS=Freedom Fitness Center 757 E Stagecoach Way Suite 103 Kuna ID 83634 United States;X-APPLE-RADIUS=500;X-TITLE=757 E Stagecoach Way\, Suite 103:geo:-116.4046421,43.4833055
END:VEVENT
BEGIN:VEVENT
DTSTART;TZID=America/Boise:20270430T051000
DTEND;TZID=America/Boise:20270430T060000
DTSTAMP:20260419T131835
CREATED:20260105T164706Z
LAST-MODIFIED:20260105T164708Z
UID:10035618-1809061800-1809064800@freedomfitnessidaho.com
SUMMARY:AMPD Strength w/Rachael
DESCRIPTION:
URL:https://freedomfitnessidaho.com/event/ampd-strength-w-rachael/2027-04-30/
LOCATION:Freedom Fitness Center\, 757 E Stagecoach Way\, Suite 103\, Kuna\, ID\, 83634\, United States
CATEGORIES:Body bar,Body weight,Cardio,Low Impact,Weights
GEO:43.4833055;-116.4046421
X-APPLE-STRUCTURED-LOCATION;VALUE=URI;X-ADDRESS=Freedom Fitness Center 757 E Stagecoach Way Suite 103 Kuna ID 83634 United States;X-APPLE-RADIUS=500;X-TITLE=757 E Stagecoach Way\, Suite 103:geo:-116.4046421,43.4833055
END:VEVENT
BEGIN:VEVENT
DTSTART;TZID=America/Boise:20270507T051000
DTEND;TZID=America/Boise:20270507T060000
DTSTAMP:20260419T131835
CREATED:20260105T164706Z
LAST-MODIFIED:20260105T164708Z
UID:10035619-1809666600-1809669600@freedomfitnessidaho.com
SUMMARY:AMPD Strength w/Rachael
DESCRIPTION:
URL:https://freedomfitnessidaho.com/event/ampd-strength-w-rachael/2027-05-07/
LOCATION:Freedom Fitness Center\, 757 E Stagecoach Way\, Suite 103\, Kuna\, ID\, 83634\, United States
CATEGORIES:Body bar,Body weight,Cardio,Low Impact,Weights
GEO:43.4833055;-116.4046421
X-APPLE-STRUCTURED-LOCATION;VALUE=URI;X-ADDRESS=Freedom Fitness Center 757 E Stagecoach Way Suite 103 Kuna ID 83634 United States;X-APPLE-RADIUS=500;X-TITLE=757 E Stagecoach Way\, Suite 103:geo:-116.4046421,43.4833055
END:VEVENT
BEGIN:VEVENT
DTSTART;TZID=America/Boise:20270514T051000
DTEND;TZID=America/Boise:20270514T060000
DTSTAMP:20260419T131835
CREATED:20260105T164706Z
LAST-MODIFIED:20260105T164708Z
UID:10035620-1810271400-1810274400@freedomfitnessidaho.com
SUMMARY:AMPD Strength w/Rachael
DESCRIPTION:
URL:https://freedomfitnessidaho.com/event/ampd-strength-w-rachael/2027-05-14/
LOCATION:Freedom Fitness Center\, 757 E Stagecoach Way\, Suite 103\, Kuna\, ID\, 83634\, United States
CATEGORIES:Body bar,Body weight,Cardio,Low Impact,Weights
GEO:43.4833055;-116.4046421
X-APPLE-STRUCTURED-LOCATION;VALUE=URI;X-ADDRESS=Freedom Fitness Center 757 E Stagecoach Way Suite 103 Kuna ID 83634 United States;X-APPLE-RADIUS=500;X-TITLE=757 E Stagecoach Way\, Suite 103:geo:-116.4046421,43.4833055
END:VEVENT
BEGIN:VEVENT
DTSTART;TZID=America/Boise:20270521T051000
DTEND;TZID=America/Boise:20270521T060000
DTSTAMP:20260419T131835
CREATED:20260105T164706Z
LAST-MODIFIED:20260105T164708Z
UID:10035621-1810876200-1810879200@freedomfitnessidaho.com
SUMMARY:AMPD Strength w/Rachael
DESCRIPTION:
URL:https://freedomfitnessidaho.com/event/ampd-strength-w-rachael/2027-05-21/
LOCATION:Freedom Fitness Center\, 757 E Stagecoach Way\, Suite 103\, Kuna\, ID\, 83634\, United States
CATEGORIES:Body bar,Body weight,Cardio,Low Impact,Weights
GEO:43.4833055;-116.4046421
X-APPLE-STRUCTURED-LOCATION;VALUE=URI;X-ADDRESS=Freedom Fitness Center 757 E Stagecoach Way Suite 103 Kuna ID 83634 United States;X-APPLE-RADIUS=500;X-TITLE=757 E Stagecoach Way\, Suite 103:geo:-116.4046421,43.4833055
END:VEVENT
BEGIN:VEVENT
DTSTART;TZID=America/Boise:20270528T051000
DTEND;TZID=America/Boise:20270528T060000
DTSTAMP:20260419T131835
CREATED:20260105T164706Z
LAST-MODIFIED:20260105T164708Z
UID:10035622-1811481000-1811484000@freedomfitnessidaho.com
SUMMARY:AMPD Strength w/Rachael
DESCRIPTION:
URL:https://freedomfitnessidaho.com/event/ampd-strength-w-rachael/2027-05-28/
LOCATION:Freedom Fitness Center\, 757 E Stagecoach Way\, Suite 103\, Kuna\, ID\, 83634\, United States
CATEGORIES:Body bar,Body weight,Cardio,Low Impact,Weights
GEO:43.4833055;-116.4046421
X-APPLE-STRUCTURED-LOCATION;VALUE=URI;X-ADDRESS=Freedom Fitness Center 757 E Stagecoach Way Suite 103 Kuna ID 83634 United States;X-APPLE-RADIUS=500;X-TITLE=757 E Stagecoach Way\, Suite 103:geo:-116.4046421,43.4833055
END:VEVENT
BEGIN:VEVENT
DTSTART;TZID=America/Boise:20270604T051000
DTEND;TZID=America/Boise:20270604T060000
DTSTAMP:20260419T131835
CREATED:20260105T164706Z
LAST-MODIFIED:20260105T164708Z
UID:10035623-1812085800-1812088800@freedomfitnessidaho.com
SUMMARY:AMPD Strength w/Rachael
DESCRIPTION:
URL:https://freedomfitnessidaho.com/event/ampd-strength-w-rachael/2027-06-04/
LOCATION:Freedom Fitness Center\, 757 E Stagecoach Way\, Suite 103\, Kuna\, ID\, 83634\, United States
CATEGORIES:Body bar,Body weight,Cardio,Low Impact,Weights
GEO:43.4833055;-116.4046421
X-APPLE-STRUCTURED-LOCATION;VALUE=URI;X-ADDRESS=Freedom Fitness Center 757 E Stagecoach Way Suite 103 Kuna ID 83634 United States;X-APPLE-RADIUS=500;X-TITLE=757 E Stagecoach Way\, Suite 103:geo:-116.4046421,43.4833055
END:VEVENT
BEGIN:VEVENT
DTSTART;TZID=America/Boise:20270611T051000
DTEND;TZID=America/Boise:20270611T060000
DTSTAMP:20260419T131835
CREATED:20260105T164706Z
LAST-MODIFIED:20260105T164708Z
UID:10035624-1812690600-1812693600@freedomfitnessidaho.com
SUMMARY:AMPD Strength w/Rachael
DESCRIPTION:
URL:https://freedomfitnessidaho.com/event/ampd-strength-w-rachael/2027-06-11/
LOCATION:Freedom Fitness Center\, 757 E Stagecoach Way\, Suite 103\, Kuna\, ID\, 83634\, United States
CATEGORIES:Body bar,Body weight,Cardio,Low Impact,Weights
GEO:43.4833055;-116.4046421
X-APPLE-STRUCTURED-LOCATION;VALUE=URI;X-ADDRESS=Freedom Fitness Center 757 E Stagecoach Way Suite 103 Kuna ID 83634 United States;X-APPLE-RADIUS=500;X-TITLE=757 E Stagecoach Way\, Suite 103:geo:-116.4046421,43.4833055
END:VEVENT
BEGIN:VEVENT
DTSTART;TZID=America/Boise:20270618T051000
DTEND;TZID=America/Boise:20270618T060000
DTSTAMP:20260419T131835
CREATED:20260105T164706Z
LAST-MODIFIED:20260105T164708Z
UID:10035625-1813295400-1813298400@freedomfitnessidaho.com
SUMMARY:AMPD Strength w/Rachael
DESCRIPTION:
URL:https://freedomfitnessidaho.com/event/ampd-strength-w-rachael/2027-06-18/
LOCATION:Freedom Fitness Center\, 757 E Stagecoach Way\, Suite 103\, Kuna\, ID\, 83634\, United States
CATEGORIES:Body bar,Body weight,Cardio,Low Impact,Weights
GEO:43.4833055;-116.4046421
X-APPLE-STRUCTURED-LOCATION;VALUE=URI;X-ADDRESS=Freedom Fitness Center 757 E Stagecoach Way Suite 103 Kuna ID 83634 United States;X-APPLE-RADIUS=500;X-TITLE=757 E Stagecoach Way\, Suite 103:geo:-116.4046421,43.4833055
END:VEVENT
BEGIN:VEVENT
DTSTART;TZID=America/Boise:20270625T051000
DTEND;TZID=America/Boise:20270625T060000
DTSTAMP:20260419T131835
CREATED:20260105T164706Z
LAST-MODIFIED:20260105T164708Z
UID:10035626-1813900200-1813903200@freedomfitnessidaho.com
SUMMARY:AMPD Strength w/Rachael
DESCRIPTION:
URL:https://freedomfitnessidaho.com/event/ampd-strength-w-rachael/2027-06-25/
LOCATION:Freedom Fitness Center\, 757 E Stagecoach Way\, Suite 103\, Kuna\, ID\, 83634\, United States
CATEGORIES:Body bar,Body weight,Cardio,Low Impact,Weights
GEO:43.4833055;-116.4046421
X-APPLE-STRUCTURED-LOCATION;VALUE=URI;X-ADDRESS=Freedom Fitness Center 757 E Stagecoach Way Suite 103 Kuna ID 83634 United States;X-APPLE-RADIUS=500;X-TITLE=757 E Stagecoach Way\, Suite 103:geo:-116.4046421,43.4833055
END:VEVENT
BEGIN:VEVENT
DTSTART;TZID=America/Boise:20270702T051000
DTEND;TZID=America/Boise:20270702T060000
DTSTAMP:20260419T131835
CREATED:20260105T164706Z
LAST-MODIFIED:20260105T164708Z
UID:10035627-1814505000-1814508000@freedomfitnessidaho.com
SUMMARY:AMPD Strength w/Rachael
DESCRIPTION:
URL:https://freedomfitnessidaho.com/event/ampd-strength-w-rachael/2027-07-02/
LOCATION:Freedom Fitness Center\, 757 E Stagecoach Way\, Suite 103\, Kuna\, ID\, 83634\, United States
CATEGORIES:Body bar,Body weight,Cardio,Low Impact,Weights
GEO:43.4833055;-116.4046421
X-APPLE-STRUCTURED-LOCATION;VALUE=URI;X-ADDRESS=Freedom Fitness Center 757 E Stagecoach Way Suite 103 Kuna ID 83634 United States;X-APPLE-RADIUS=500;X-TITLE=757 E Stagecoach Way\, Suite 103:geo:-116.4046421,43.4833055
END:VEVENT
BEGIN:VEVENT
DTSTART;TZID=America/Boise:20270709T051000
DTEND;TZID=America/Boise:20270709T060000
DTSTAMP:20260419T131835
CREATED:20260105T164706Z
LAST-MODIFIED:20260105T164708Z
UID:10035628-1815109800-1815112800@freedomfitnessidaho.com
SUMMARY:AMPD Strength w/Rachael
DESCRIPTION:
URL:https://freedomfitnessidaho.com/event/ampd-strength-w-rachael/2027-07-09/
LOCATION:Freedom Fitness Center\, 757 E Stagecoach Way\, Suite 103\, Kuna\, ID\, 83634\, United States
CATEGORIES:Body bar,Body weight,Cardio,Low Impact,Weights
GEO:43.4833055;-116.4046421
X-APPLE-STRUCTURED-LOCATION;VALUE=URI;X-ADDRESS=Freedom Fitness Center 757 E Stagecoach Way Suite 103 Kuna ID 83634 United States;X-APPLE-RADIUS=500;X-TITLE=757 E Stagecoach Way\, Suite 103:geo:-116.4046421,43.4833055
END:VEVENT
BEGIN:VEVENT
DTSTART;TZID=America/Boise:20270716T051000
DTEND;TZID=America/Boise:20270716T060000
DTSTAMP:20260419T131835
CREATED:20260105T164706Z
LAST-MODIFIED:20260105T164708Z
UID:10035629-1815714600-1815717600@freedomfitnessidaho.com
SUMMARY:AMPD Strength w/Rachael
DESCRIPTION:
URL:https://freedomfitnessidaho.com/event/ampd-strength-w-rachael/2027-07-16/
LOCATION:Freedom Fitness Center\, 757 E Stagecoach Way\, Suite 103\, Kuna\, ID\, 83634\, United States
CATEGORIES:Body bar,Body weight,Cardio,Low Impact,Weights
GEO:43.4833055;-116.4046421
X-APPLE-STRUCTURED-LOCATION;VALUE=URI;X-ADDRESS=Freedom Fitness Center 757 E Stagecoach Way Suite 103 Kuna ID 83634 United States;X-APPLE-RADIUS=500;X-TITLE=757 E Stagecoach Way\, Suite 103:geo:-116.4046421,43.4833055
END:VEVENT
BEGIN:VEVENT
DTSTART;TZID=America/Boise:20270723T051000
DTEND;TZID=America/Boise:20270723T060000
DTSTAMP:20260419T131835
CREATED:20260105T164706Z
LAST-MODIFIED:20260105T164708Z
UID:10035630-1816319400-1816322400@freedomfitnessidaho.com
SUMMARY:AMPD Strength w/Rachael
DESCRIPTION:
URL:https://freedomfitnessidaho.com/event/ampd-strength-w-rachael/2027-07-23/
LOCATION:Freedom Fitness Center\, 757 E Stagecoach Way\, Suite 103\, Kuna\, ID\, 83634\, United States
CATEGORIES:Body bar,Body weight,Cardio,Low Impact,Weights
GEO:43.4833055;-116.4046421
X-APPLE-STRUCTURED-LOCATION;VALUE=URI;X-ADDRESS=Freedom Fitness Center 757 E Stagecoach Way Suite 103 Kuna ID 83634 United States;X-APPLE-RADIUS=500;X-TITLE=757 E Stagecoach Way\, Suite 103:geo:-116.4046421,43.4833055
END:VEVENT
BEGIN:VEVENT
DTSTART;TZID=America/Boise:20270730T051000
DTEND;TZID=America/Boise:20270730T060000
DTSTAMP:20260419T131835
CREATED:20260105T164706Z
LAST-MODIFIED:20260105T164708Z
UID:10035631-1816924200-1816927200@freedomfitnessidaho.com
SUMMARY:AMPD Strength w/Rachael
DESCRIPTION:
URL:https://freedomfitnessidaho.com/event/ampd-strength-w-rachael/2027-07-30/
LOCATION:Freedom Fitness Center\, 757 E Stagecoach Way\, Suite 103\, Kuna\, ID\, 83634\, United States
CATEGORIES:Body bar,Body weight,Cardio,Low Impact,Weights
GEO:43.4833055;-116.4046421
X-APPLE-STRUCTURED-LOCATION;VALUE=URI;X-ADDRESS=Freedom Fitness Center 757 E Stagecoach Way Suite 103 Kuna ID 83634 United States;X-APPLE-RADIUS=500;X-TITLE=757 E Stagecoach Way\, Suite 103:geo:-116.4046421,43.4833055
END:VEVENT
BEGIN:VEVENT
DTSTART;TZID=America/Boise:20270806T051000
DTEND;TZID=America/Boise:20270806T060000
DTSTAMP:20260419T131835
CREATED:20260105T164706Z
LAST-MODIFIED:20260105T164708Z
UID:10035632-1817529000-1817532000@freedomfitnessidaho.com
SUMMARY:AMPD Strength w/Rachael
DESCRIPTION:
URL:https://freedomfitnessidaho.com/event/ampd-strength-w-rachael/2027-08-06/
LOCATION:Freedom Fitness Center\, 757 E Stagecoach Way\, Suite 103\, Kuna\, ID\, 83634\, United States
CATEGORIES:Body bar,Body weight,Cardio,Low Impact,Weights
GEO:43.4833055;-116.4046421
X-APPLE-STRUCTURED-LOCATION;VALUE=URI;X-ADDRESS=Freedom Fitness Center 757 E Stagecoach Way Suite 103 Kuna ID 83634 United States;X-APPLE-RADIUS=500;X-TITLE=757 E Stagecoach Way\, Suite 103:geo:-116.4046421,43.4833055
END:VEVENT
BEGIN:VEVENT
DTSTART;TZID=America/Boise:20270813T051000
DTEND;TZID=America/Boise:20270813T060000
DTSTAMP:20260419T131835
CREATED:20260105T164706Z
LAST-MODIFIED:20260105T164708Z
UID:10035633-1818133800-1818136800@freedomfitnessidaho.com
SUMMARY:AMPD Strength w/Rachael
DESCRIPTION:
URL:https://freedomfitnessidaho.com/event/ampd-strength-w-rachael/2027-08-13/
LOCATION:Freedom Fitness Center\, 757 E Stagecoach Way\, Suite 103\, Kuna\, ID\, 83634\, United States
CATEGORIES:Body bar,Body weight,Cardio,Low Impact,Weights
GEO:43.4833055;-116.4046421
X-APPLE-STRUCTURED-LOCATION;VALUE=URI;X-ADDRESS=Freedom Fitness Center 757 E Stagecoach Way Suite 103 Kuna ID 83634 United States;X-APPLE-RADIUS=500;X-TITLE=757 E Stagecoach Way\, Suite 103:geo:-116.4046421,43.4833055
END:VEVENT
END:VCALENDAR