BEGIN:VCALENDAR
VERSION:2.0
PRODID:-//Freedom Fitness - ECPv6.2.9//NONSGML v1.0//EN
CALSCALE:GREGORIAN
METHOD:PUBLISH
X-ORIGINAL-URL:https://freedomfitnessidaho.com
X-WR-CALDESC:Events for Freedom Fitness
REFRESH-INTERVAL;VALUE=DURATION:PT1H
X-Robots-Tag:noindex
X-PUBLISHED-TTL:PT1H
BEGIN:VTIMEZONE
TZID:America/Boise
BEGIN:DAYLIGHT
TZOFFSETFROM:-0700
TZOFFSETTO:-0600
TZNAME:MDT
DTSTART:20300310T090000
END:DAYLIGHT
BEGIN:STANDARD
TZOFFSETFROM:-0600
TZOFFSETTO:-0700
TZNAME:MST
DTSTART:20301103T080000
END:STANDARD
BEGIN:DAYLIGHT
TZOFFSETFROM:-0700
TZOFFSETTO:-0600
TZNAME:MDT
DTSTART:20310309T090000
END:DAYLIGHT
BEGIN:STANDARD
TZOFFSETFROM:-0600
TZOFFSETTO:-0700
TZNAME:MST
DTSTART:20311102T080000
END:STANDARD
END:VTIMEZONE
BEGIN:VEVENT
DTSTART;TZID=America/Boise:20300809T051000
DTEND;TZID=America/Boise:20300809T060000
DTSTAMP:20260421T193555
CREATED:20260105T164706Z
LAST-MODIFIED:20260105T164708Z
UID:10035789-1912482600-1912485600@freedomfitnessidaho.com
SUMMARY:AMPD Strength w/Rachael
DESCRIPTION:
URL:https://freedomfitnessidaho.com/event/ampd-strength-w-rachael/2030-08-09/
LOCATION:Freedom Fitness Center\, 757 E Stagecoach Way\, Suite 103\, Kuna\, ID\, 83634\, United States
CATEGORIES:Body bar,Body weight,Cardio,Low Impact,Weights
GEO:43.4833055;-116.4046421
X-APPLE-STRUCTURED-LOCATION;VALUE=URI;X-ADDRESS=Freedom Fitness Center 757 E Stagecoach Way Suite 103 Kuna ID 83634 United States;X-APPLE-RADIUS=500;X-TITLE=757 E Stagecoach Way\, Suite 103:geo:-116.4046421,43.4833055
END:VEVENT
BEGIN:VEVENT
DTSTART;TZID=America/Boise:20300816T051000
DTEND;TZID=America/Boise:20300816T060000
DTSTAMP:20260421T193555
CREATED:20260105T164706Z
LAST-MODIFIED:20260105T164708Z
UID:10035790-1913087400-1913090400@freedomfitnessidaho.com
SUMMARY:AMPD Strength w/Rachael
DESCRIPTION:
URL:https://freedomfitnessidaho.com/event/ampd-strength-w-rachael/2030-08-16/
LOCATION:Freedom Fitness Center\, 757 E Stagecoach Way\, Suite 103\, Kuna\, ID\, 83634\, United States
CATEGORIES:Body bar,Body weight,Cardio,Low Impact,Weights
GEO:43.4833055;-116.4046421
X-APPLE-STRUCTURED-LOCATION;VALUE=URI;X-ADDRESS=Freedom Fitness Center 757 E Stagecoach Way Suite 103 Kuna ID 83634 United States;X-APPLE-RADIUS=500;X-TITLE=757 E Stagecoach Way\, Suite 103:geo:-116.4046421,43.4833055
END:VEVENT
BEGIN:VEVENT
DTSTART;TZID=America/Boise:20300823T051000
DTEND;TZID=America/Boise:20300823T060000
DTSTAMP:20260421T193555
CREATED:20260105T164706Z
LAST-MODIFIED:20260105T164708Z
UID:10035791-1913692200-1913695200@freedomfitnessidaho.com
SUMMARY:AMPD Strength w/Rachael
DESCRIPTION:
URL:https://freedomfitnessidaho.com/event/ampd-strength-w-rachael/2030-08-23/
LOCATION:Freedom Fitness Center\, 757 E Stagecoach Way\, Suite 103\, Kuna\, ID\, 83634\, United States
CATEGORIES:Body bar,Body weight,Cardio,Low Impact,Weights
GEO:43.4833055;-116.4046421
X-APPLE-STRUCTURED-LOCATION;VALUE=URI;X-ADDRESS=Freedom Fitness Center 757 E Stagecoach Way Suite 103 Kuna ID 83634 United States;X-APPLE-RADIUS=500;X-TITLE=757 E Stagecoach Way\, Suite 103:geo:-116.4046421,43.4833055
END:VEVENT
BEGIN:VEVENT
DTSTART;TZID=America/Boise:20300830T051000
DTEND;TZID=America/Boise:20300830T060000
DTSTAMP:20260421T193555
CREATED:20260105T164706Z
LAST-MODIFIED:20260105T164708Z
UID:10036885-1914297000-1914300000@freedomfitnessidaho.com
SUMMARY:AMPD Strength w/Rachael
DESCRIPTION:
URL:https://freedomfitnessidaho.com/event/ampd-strength-w-rachael/2030-08-30/
LOCATION:Freedom Fitness Center\, 757 E Stagecoach Way\, Suite 103\, Kuna\, ID\, 83634\, United States
CATEGORIES:Body bar,Body weight,Cardio,Low Impact,Weights
GEO:43.4833055;-116.4046421
X-APPLE-STRUCTURED-LOCATION;VALUE=URI;X-ADDRESS=Freedom Fitness Center 757 E Stagecoach Way Suite 103 Kuna ID 83634 United States;X-APPLE-RADIUS=500;X-TITLE=757 E Stagecoach Way\, Suite 103:geo:-116.4046421,43.4833055
END:VEVENT
BEGIN:VEVENT
DTSTART;TZID=America/Boise:20300906T051000
DTEND;TZID=America/Boise:20300906T060000
DTSTAMP:20260421T193555
CREATED:20260105T164706Z
LAST-MODIFIED:20260105T164708Z
UID:10036886-1914901800-1914904800@freedomfitnessidaho.com
SUMMARY:AMPD Strength w/Rachael
DESCRIPTION:
URL:https://freedomfitnessidaho.com/event/ampd-strength-w-rachael/2030-09-06/
LOCATION:Freedom Fitness Center\, 757 E Stagecoach Way\, Suite 103\, Kuna\, ID\, 83634\, United States
CATEGORIES:Body bar,Body weight,Cardio,Low Impact,Weights
GEO:43.4833055;-116.4046421
X-APPLE-STRUCTURED-LOCATION;VALUE=URI;X-ADDRESS=Freedom Fitness Center 757 E Stagecoach Way Suite 103 Kuna ID 83634 United States;X-APPLE-RADIUS=500;X-TITLE=757 E Stagecoach Way\, Suite 103:geo:-116.4046421,43.4833055
END:VEVENT
BEGIN:VEVENT
DTSTART;TZID=America/Boise:20300913T051000
DTEND;TZID=America/Boise:20300913T060000
DTSTAMP:20260421T193555
CREATED:20260105T164706Z
LAST-MODIFIED:20260105T164708Z
UID:10036887-1915506600-1915509600@freedomfitnessidaho.com
SUMMARY:AMPD Strength w/Rachael
DESCRIPTION:
URL:https://freedomfitnessidaho.com/event/ampd-strength-w-rachael/2030-09-13/
LOCATION:Freedom Fitness Center\, 757 E Stagecoach Way\, Suite 103\, Kuna\, ID\, 83634\, United States
CATEGORIES:Body bar,Body weight,Cardio,Low Impact,Weights
GEO:43.4833055;-116.4046421
X-APPLE-STRUCTURED-LOCATION;VALUE=URI;X-ADDRESS=Freedom Fitness Center 757 E Stagecoach Way Suite 103 Kuna ID 83634 United States;X-APPLE-RADIUS=500;X-TITLE=757 E Stagecoach Way\, Suite 103:geo:-116.4046421,43.4833055
END:VEVENT
BEGIN:VEVENT
DTSTART;TZID=America/Boise:20300920T051000
DTEND;TZID=America/Boise:20300920T060000
DTSTAMP:20260421T193555
CREATED:20260105T164706Z
LAST-MODIFIED:20260105T164708Z
UID:10036888-1916111400-1916114400@freedomfitnessidaho.com
SUMMARY:AMPD Strength w/Rachael
DESCRIPTION:
URL:https://freedomfitnessidaho.com/event/ampd-strength-w-rachael/2030-09-20/
LOCATION:Freedom Fitness Center\, 757 E Stagecoach Way\, Suite 103\, Kuna\, ID\, 83634\, United States
CATEGORIES:Body bar,Body weight,Cardio,Low Impact,Weights
GEO:43.4833055;-116.4046421
X-APPLE-STRUCTURED-LOCATION;VALUE=URI;X-ADDRESS=Freedom Fitness Center 757 E Stagecoach Way Suite 103 Kuna ID 83634 United States;X-APPLE-RADIUS=500;X-TITLE=757 E Stagecoach Way\, Suite 103:geo:-116.4046421,43.4833055
END:VEVENT
BEGIN:VEVENT
DTSTART;TZID=America/Boise:20300927T051000
DTEND;TZID=America/Boise:20300927T060000
DTSTAMP:20260421T193555
CREATED:20260105T164706Z
LAST-MODIFIED:20260105T164708Z
UID:10036889-1916716200-1916719200@freedomfitnessidaho.com
SUMMARY:AMPD Strength w/Rachael
DESCRIPTION:
URL:https://freedomfitnessidaho.com/event/ampd-strength-w-rachael/2030-09-27/
LOCATION:Freedom Fitness Center\, 757 E Stagecoach Way\, Suite 103\, Kuna\, ID\, 83634\, United States
CATEGORIES:Body bar,Body weight,Cardio,Low Impact,Weights
GEO:43.4833055;-116.4046421
X-APPLE-STRUCTURED-LOCATION;VALUE=URI;X-ADDRESS=Freedom Fitness Center 757 E Stagecoach Way Suite 103 Kuna ID 83634 United States;X-APPLE-RADIUS=500;X-TITLE=757 E Stagecoach Way\, Suite 103:geo:-116.4046421,43.4833055
END:VEVENT
BEGIN:VEVENT
DTSTART;TZID=America/Boise:20301004T051000
DTEND;TZID=America/Boise:20301004T060000
DTSTAMP:20260421T193555
CREATED:20260105T164706Z
LAST-MODIFIED:20260105T164708Z
UID:10036890-1917321000-1917324000@freedomfitnessidaho.com
SUMMARY:AMPD Strength w/Rachael
DESCRIPTION:
URL:https://freedomfitnessidaho.com/event/ampd-strength-w-rachael/2030-10-04/
LOCATION:Freedom Fitness Center\, 757 E Stagecoach Way\, Suite 103\, Kuna\, ID\, 83634\, United States
CATEGORIES:Body bar,Body weight,Cardio,Low Impact,Weights
GEO:43.4833055;-116.4046421
X-APPLE-STRUCTURED-LOCATION;VALUE=URI;X-ADDRESS=Freedom Fitness Center 757 E Stagecoach Way Suite 103 Kuna ID 83634 United States;X-APPLE-RADIUS=500;X-TITLE=757 E Stagecoach Way\, Suite 103:geo:-116.4046421,43.4833055
END:VEVENT
BEGIN:VEVENT
DTSTART;TZID=America/Boise:20301011T051000
DTEND;TZID=America/Boise:20301011T060000
DTSTAMP:20260421T193555
CREATED:20260105T164706Z
LAST-MODIFIED:20260105T164708Z
UID:10036891-1917925800-1917928800@freedomfitnessidaho.com
SUMMARY:AMPD Strength w/Rachael
DESCRIPTION:
URL:https://freedomfitnessidaho.com/event/ampd-strength-w-rachael/2030-10-11/
LOCATION:Freedom Fitness Center\, 757 E Stagecoach Way\, Suite 103\, Kuna\, ID\, 83634\, United States
CATEGORIES:Body bar,Body weight,Cardio,Low Impact,Weights
GEO:43.4833055;-116.4046421
X-APPLE-STRUCTURED-LOCATION;VALUE=URI;X-ADDRESS=Freedom Fitness Center 757 E Stagecoach Way Suite 103 Kuna ID 83634 United States;X-APPLE-RADIUS=500;X-TITLE=757 E Stagecoach Way\, Suite 103:geo:-116.4046421,43.4833055
END:VEVENT
BEGIN:VEVENT
DTSTART;TZID=America/Boise:20301018T051000
DTEND;TZID=America/Boise:20301018T060000
DTSTAMP:20260421T193555
CREATED:20260105T164706Z
LAST-MODIFIED:20260105T164708Z
UID:10036892-1918530600-1918533600@freedomfitnessidaho.com
SUMMARY:AMPD Strength w/Rachael
DESCRIPTION:
URL:https://freedomfitnessidaho.com/event/ampd-strength-w-rachael/2030-10-18/
LOCATION:Freedom Fitness Center\, 757 E Stagecoach Way\, Suite 103\, Kuna\, ID\, 83634\, United States
CATEGORIES:Body bar,Body weight,Cardio,Low Impact,Weights
GEO:43.4833055;-116.4046421
X-APPLE-STRUCTURED-LOCATION;VALUE=URI;X-ADDRESS=Freedom Fitness Center 757 E Stagecoach Way Suite 103 Kuna ID 83634 United States;X-APPLE-RADIUS=500;X-TITLE=757 E Stagecoach Way\, Suite 103:geo:-116.4046421,43.4833055
END:VEVENT
BEGIN:VEVENT
DTSTART;TZID=America/Boise:20301025T051000
DTEND;TZID=America/Boise:20301025T060000
DTSTAMP:20260421T193555
CREATED:20260105T164706Z
LAST-MODIFIED:20260105T164708Z
UID:10036893-1919135400-1919138400@freedomfitnessidaho.com
SUMMARY:AMPD Strength w/Rachael
DESCRIPTION:
URL:https://freedomfitnessidaho.com/event/ampd-strength-w-rachael/2030-10-25/
LOCATION:Freedom Fitness Center\, 757 E Stagecoach Way\, Suite 103\, Kuna\, ID\, 83634\, United States
CATEGORIES:Body bar,Body weight,Cardio,Low Impact,Weights
GEO:43.4833055;-116.4046421
X-APPLE-STRUCTURED-LOCATION;VALUE=URI;X-ADDRESS=Freedom Fitness Center 757 E Stagecoach Way Suite 103 Kuna ID 83634 United States;X-APPLE-RADIUS=500;X-TITLE=757 E Stagecoach Way\, Suite 103:geo:-116.4046421,43.4833055
END:VEVENT
BEGIN:VEVENT
DTSTART;TZID=America/Boise:20301101T051000
DTEND;TZID=America/Boise:20301101T060000
DTSTAMP:20260421T193555
CREATED:20260105T164706Z
LAST-MODIFIED:20260105T164708Z
UID:10036894-1919740200-1919743200@freedomfitnessidaho.com
SUMMARY:AMPD Strength w/Rachael
DESCRIPTION:
URL:https://freedomfitnessidaho.com/event/ampd-strength-w-rachael/2030-11-01/
LOCATION:Freedom Fitness Center\, 757 E Stagecoach Way\, Suite 103\, Kuna\, ID\, 83634\, United States
CATEGORIES:Body bar,Body weight,Cardio,Low Impact,Weights
GEO:43.4833055;-116.4046421
X-APPLE-STRUCTURED-LOCATION;VALUE=URI;X-ADDRESS=Freedom Fitness Center 757 E Stagecoach Way Suite 103 Kuna ID 83634 United States;X-APPLE-RADIUS=500;X-TITLE=757 E Stagecoach Way\, Suite 103:geo:-116.4046421,43.4833055
END:VEVENT
BEGIN:VEVENT
DTSTART;TZID=America/Boise:20301108T051000
DTEND;TZID=America/Boise:20301108T060000
DTSTAMP:20260421T193555
CREATED:20260105T164706Z
LAST-MODIFIED:20260105T164708Z
UID:10036895-1920345000-1920348000@freedomfitnessidaho.com
SUMMARY:AMPD Strength w/Rachael
DESCRIPTION:
URL:https://freedomfitnessidaho.com/event/ampd-strength-w-rachael/2030-11-08/
LOCATION:Freedom Fitness Center\, 757 E Stagecoach Way\, Suite 103\, Kuna\, ID\, 83634\, United States
CATEGORIES:Body bar,Body weight,Cardio,Low Impact,Weights
GEO:43.4833055;-116.4046421
X-APPLE-STRUCTURED-LOCATION;VALUE=URI;X-ADDRESS=Freedom Fitness Center 757 E Stagecoach Way Suite 103 Kuna ID 83634 United States;X-APPLE-RADIUS=500;X-TITLE=757 E Stagecoach Way\, Suite 103:geo:-116.4046421,43.4833055
END:VEVENT
BEGIN:VEVENT
DTSTART;TZID=America/Boise:20301115T051000
DTEND;TZID=America/Boise:20301115T060000
DTSTAMP:20260421T193555
CREATED:20260105T164706Z
LAST-MODIFIED:20260105T164708Z
UID:10036896-1920949800-1920952800@freedomfitnessidaho.com
SUMMARY:AMPD Strength w/Rachael
DESCRIPTION:
URL:https://freedomfitnessidaho.com/event/ampd-strength-w-rachael/2030-11-15/
LOCATION:Freedom Fitness Center\, 757 E Stagecoach Way\, Suite 103\, Kuna\, ID\, 83634\, United States
CATEGORIES:Body bar,Body weight,Cardio,Low Impact,Weights
GEO:43.4833055;-116.4046421
X-APPLE-STRUCTURED-LOCATION;VALUE=URI;X-ADDRESS=Freedom Fitness Center 757 E Stagecoach Way Suite 103 Kuna ID 83634 United States;X-APPLE-RADIUS=500;X-TITLE=757 E Stagecoach Way\, Suite 103:geo:-116.4046421,43.4833055
END:VEVENT
BEGIN:VEVENT
DTSTART;TZID=America/Boise:20301122T051000
DTEND;TZID=America/Boise:20301122T060000
DTSTAMP:20260421T193555
CREATED:20260105T164706Z
LAST-MODIFIED:20260105T164708Z
UID:10036897-1921554600-1921557600@freedomfitnessidaho.com
SUMMARY:AMPD Strength w/Rachael
DESCRIPTION:
URL:https://freedomfitnessidaho.com/event/ampd-strength-w-rachael/2030-11-22/
LOCATION:Freedom Fitness Center\, 757 E Stagecoach Way\, Suite 103\, Kuna\, ID\, 83634\, United States
CATEGORIES:Body bar,Body weight,Cardio,Low Impact,Weights
GEO:43.4833055;-116.4046421
X-APPLE-STRUCTURED-LOCATION;VALUE=URI;X-ADDRESS=Freedom Fitness Center 757 E Stagecoach Way Suite 103 Kuna ID 83634 United States;X-APPLE-RADIUS=500;X-TITLE=757 E Stagecoach Way\, Suite 103:geo:-116.4046421,43.4833055
END:VEVENT
BEGIN:VEVENT
DTSTART;TZID=America/Boise:20301129T051000
DTEND;TZID=America/Boise:20301129T060000
DTSTAMP:20260421T193555
CREATED:20260105T164706Z
LAST-MODIFIED:20260105T164708Z
UID:10036898-1922159400-1922162400@freedomfitnessidaho.com
SUMMARY:AMPD Strength w/Rachael
DESCRIPTION:
URL:https://freedomfitnessidaho.com/event/ampd-strength-w-rachael/2030-11-29/
LOCATION:Freedom Fitness Center\, 757 E Stagecoach Way\, Suite 103\, Kuna\, ID\, 83634\, United States
CATEGORIES:Body bar,Body weight,Cardio,Low Impact,Weights
GEO:43.4833055;-116.4046421
X-APPLE-STRUCTURED-LOCATION;VALUE=URI;X-ADDRESS=Freedom Fitness Center 757 E Stagecoach Way Suite 103 Kuna ID 83634 United States;X-APPLE-RADIUS=500;X-TITLE=757 E Stagecoach Way\, Suite 103:geo:-116.4046421,43.4833055
END:VEVENT
BEGIN:VEVENT
DTSTART;TZID=America/Boise:20301206T051000
DTEND;TZID=America/Boise:20301206T060000
DTSTAMP:20260421T193555
CREATED:20260105T164706Z
LAST-MODIFIED:20260105T164708Z
UID:10036899-1922764200-1922767200@freedomfitnessidaho.com
SUMMARY:AMPD Strength w/Rachael
DESCRIPTION:
URL:https://freedomfitnessidaho.com/event/ampd-strength-w-rachael/2030-12-06/
LOCATION:Freedom Fitness Center\, 757 E Stagecoach Way\, Suite 103\, Kuna\, ID\, 83634\, United States
CATEGORIES:Body bar,Body weight,Cardio,Low Impact,Weights
GEO:43.4833055;-116.4046421
X-APPLE-STRUCTURED-LOCATION;VALUE=URI;X-ADDRESS=Freedom Fitness Center 757 E Stagecoach Way Suite 103 Kuna ID 83634 United States;X-APPLE-RADIUS=500;X-TITLE=757 E Stagecoach Way\, Suite 103:geo:-116.4046421,43.4833055
END:VEVENT
BEGIN:VEVENT
DTSTART;TZID=America/Boise:20301213T051000
DTEND;TZID=America/Boise:20301213T060000
DTSTAMP:20260421T193555
CREATED:20260105T164706Z
LAST-MODIFIED:20260105T164708Z
UID:10036900-1923369000-1923372000@freedomfitnessidaho.com
SUMMARY:AMPD Strength w/Rachael
DESCRIPTION:
URL:https://freedomfitnessidaho.com/event/ampd-strength-w-rachael/2030-12-13/
LOCATION:Freedom Fitness Center\, 757 E Stagecoach Way\, Suite 103\, Kuna\, ID\, 83634\, United States
CATEGORIES:Body bar,Body weight,Cardio,Low Impact,Weights
GEO:43.4833055;-116.4046421
X-APPLE-STRUCTURED-LOCATION;VALUE=URI;X-ADDRESS=Freedom Fitness Center 757 E Stagecoach Way Suite 103 Kuna ID 83634 United States;X-APPLE-RADIUS=500;X-TITLE=757 E Stagecoach Way\, Suite 103:geo:-116.4046421,43.4833055
END:VEVENT
BEGIN:VEVENT
DTSTART;TZID=America/Boise:20301220T051000
DTEND;TZID=America/Boise:20301220T060000
DTSTAMP:20260421T193555
CREATED:20260105T164706Z
LAST-MODIFIED:20260105T164708Z
UID:10036901-1923973800-1923976800@freedomfitnessidaho.com
SUMMARY:AMPD Strength w/Rachael
DESCRIPTION:
URL:https://freedomfitnessidaho.com/event/ampd-strength-w-rachael/2030-12-20/
LOCATION:Freedom Fitness Center\, 757 E Stagecoach Way\, Suite 103\, Kuna\, ID\, 83634\, United States
CATEGORIES:Body bar,Body weight,Cardio,Low Impact,Weights
GEO:43.4833055;-116.4046421
X-APPLE-STRUCTURED-LOCATION;VALUE=URI;X-ADDRESS=Freedom Fitness Center 757 E Stagecoach Way Suite 103 Kuna ID 83634 United States;X-APPLE-RADIUS=500;X-TITLE=757 E Stagecoach Way\, Suite 103:geo:-116.4046421,43.4833055
END:VEVENT
BEGIN:VEVENT
DTSTART;TZID=America/Boise:20301227T051000
DTEND;TZID=America/Boise:20301227T060000
DTSTAMP:20260421T193555
CREATED:20260105T164706Z
LAST-MODIFIED:20260105T164708Z
UID:10036902-1924578600-1924581600@freedomfitnessidaho.com
SUMMARY:AMPD Strength w/Rachael
DESCRIPTION:
URL:https://freedomfitnessidaho.com/event/ampd-strength-w-rachael/2030-12-27/
LOCATION:Freedom Fitness Center\, 757 E Stagecoach Way\, Suite 103\, Kuna\, ID\, 83634\, United States
CATEGORIES:Body bar,Body weight,Cardio,Low Impact,Weights
GEO:43.4833055;-116.4046421
X-APPLE-STRUCTURED-LOCATION;VALUE=URI;X-ADDRESS=Freedom Fitness Center 757 E Stagecoach Way Suite 103 Kuna ID 83634 United States;X-APPLE-RADIUS=500;X-TITLE=757 E Stagecoach Way\, Suite 103:geo:-116.4046421,43.4833055
END:VEVENT
BEGIN:VEVENT
DTSTART;TZID=America/Boise:20310103T051000
DTEND;TZID=America/Boise:20310103T060000
DTSTAMP:20260421T193555
CREATED:20260105T164706Z
LAST-MODIFIED:20260105T164708Z
UID:10036903-1925183400-1925186400@freedomfitnessidaho.com
SUMMARY:AMPD Strength w/Rachael
DESCRIPTION:
URL:https://freedomfitnessidaho.com/event/ampd-strength-w-rachael/2031-01-03/
LOCATION:Freedom Fitness Center\, 757 E Stagecoach Way\, Suite 103\, Kuna\, ID\, 83634\, United States
CATEGORIES:Body bar,Body weight,Cardio,Low Impact,Weights
GEO:43.4833055;-116.4046421
X-APPLE-STRUCTURED-LOCATION;VALUE=URI;X-ADDRESS=Freedom Fitness Center 757 E Stagecoach Way Suite 103 Kuna ID 83634 United States;X-APPLE-RADIUS=500;X-TITLE=757 E Stagecoach Way\, Suite 103:geo:-116.4046421,43.4833055
END:VEVENT
END:VCALENDAR