BEGIN:VCALENDAR
VERSION:2.0
PRODID:-//Freedom Fitness - ECPv6.2.9//NONSGML v1.0//EN
CALSCALE:GREGORIAN
METHOD:PUBLISH
X-ORIGINAL-URL:https://freedomfitnessidaho.com
X-WR-CALDESC:Events for Freedom Fitness
REFRESH-INTERVAL;VALUE=DURATION:PT1H
X-Robots-Tag:noindex
X-PUBLISHED-TTL:PT1H
BEGIN:VTIMEZONE
TZID:America/Boise
BEGIN:DAYLIGHT
TZOFFSETFROM:-0700
TZOFFSETTO:-0600
TZNAME:MDT
DTSTART:20250309T090000
END:DAYLIGHT
BEGIN:STANDARD
TZOFFSETFROM:-0600
TZOFFSETTO:-0700
TZNAME:MST
DTSTART:20251102T080000
END:STANDARD
END:VTIMEZONE
BEGIN:VEVENT
DTSTART;TZID=America/Boise:20250320T051000
DTEND;TZID=America/Boise:20250320T060000
DTSTAMP:20260419T075741
CREATED:20250204T184357Z
LAST-MODIFIED:20250204T184357Z
UID:10031488-1742447400-1742450400@freedomfitnessidaho.com
SUMMARY:Cycling w/Rachael
DESCRIPTION:
URL:https://freedomfitnessidaho.com/event/cycling-w-rachael-35/2025-03-20/
LOCATION:Freedom Fitness Center\, 757 E Stagecoach Way\, Suite 103\, Kuna\, ID\, 83634\, United States
CATEGORIES:Cardio,Cycling
GEO:43.4833055;-116.4046421
X-APPLE-STRUCTURED-LOCATION;VALUE=URI;X-ADDRESS=Freedom Fitness Center 757 E Stagecoach Way Suite 103 Kuna ID 83634 United States;X-APPLE-RADIUS=500;X-TITLE=757 E Stagecoach Way\, Suite 103:geo:-116.4046421,43.4833055
END:VEVENT
BEGIN:VEVENT
DTSTART;TZID=America/Boise:20250320T080000
DTEND;TZID=America/Boise:20250320T090000
DTSTAMP:20260419T075741
CREATED:20240125T211642Z
LAST-MODIFIED:20240430T231136Z
UID:10025353-1742457600-1742461200@freedomfitnessidaho.com
SUMMARY:Yoga w/Shawna
DESCRIPTION:
URL:https://freedomfitnessidaho.com/event/yoga-w-shawna-2-2/2025-03-20/
LOCATION:Freedom Fitness Center\, 757 E Stagecoach Way\, Suite 103\, Kuna\, ID\, 83634\, United States
CATEGORIES:Balance,Body weight,Core,Focus,Low Impact,Stetching,Yoga
GEO:43.4833055;-116.4046421
X-APPLE-STRUCTURED-LOCATION;VALUE=URI;X-ADDRESS=Freedom Fitness Center 757 E Stagecoach Way Suite 103 Kuna ID 83634 United States;X-APPLE-RADIUS=500;X-TITLE=757 E Stagecoach Way\, Suite 103:geo:-116.4046421,43.4833055
END:VEVENT
BEGIN:VEVENT
DTSTART;TZID=America/Boise:20250320T101500
DTEND;TZID=America/Boise:20250320T110000
DTSTAMP:20260419T075741
CREATED:20240715T230849Z
LAST-MODIFIED:20240715T230850Z
UID:10027464-1742465700-1742468400@freedomfitnessidaho.com
SUMMARY:Barre w/Grace
DESCRIPTION:
URL:https://freedomfitnessidaho.com/event/barre-w-grace-2-2/2025-03-20/
LOCATION:Freedom Fitness Center\, 757 E Stagecoach Way\, Suite 103\, Kuna\, ID\, 83634\, United States
CATEGORIES:Balance,Ball,Body weight,Chair,Weights
GEO:43.4833055;-116.4046421
X-APPLE-STRUCTURED-LOCATION;VALUE=URI;X-ADDRESS=Freedom Fitness Center 757 E Stagecoach Way Suite 103 Kuna ID 83634 United States;X-APPLE-RADIUS=500;X-TITLE=757 E Stagecoach Way\, Suite 103:geo:-116.4046421,43.4833055
END:VEVENT
BEGIN:VEVENT
DTSTART;TZID=America/Boise:20250320T181500
DTEND;TZID=America/Boise:20250320T190000
DTSTAMP:20260419T075741
CREATED:20250108T203401Z
LAST-MODIFIED:20250108T203401Z
UID:10030149-1742494500-1742497200@freedomfitnessidaho.com
SUMMARY:Pumped Up Strength w/Natalie
DESCRIPTION:
URL:https://freedomfitnessidaho.com/event/pumped-up-strength-w-natalie-4/2025-03-20/
LOCATION:Freedom Fitness Center\, 757 E Stagecoach Way\, Suite 103\, Kuna\, ID\, 83634\, United States
CATEGORIES:Weights
GEO:43.4833055;-116.4046421
X-APPLE-STRUCTURED-LOCATION;VALUE=URI;X-ADDRESS=Freedom Fitness Center 757 E Stagecoach Way Suite 103 Kuna ID 83634 United States;X-APPLE-RADIUS=500;X-TITLE=757 E Stagecoach Way\, Suite 103:geo:-116.4046421,43.4833055
END:VEVENT
END:VCALENDAR