BEGIN:VCALENDAR
VERSION:2.0
PRODID:-//Freedom Fitness - ECPv6.2.9//NONSGML v1.0//EN
CALSCALE:GREGORIAN
METHOD:PUBLISH
X-WR-CALNAME:Freedom Fitness
X-ORIGINAL-URL:https://freedomfitnessidaho.com
X-WR-CALDESC:Events for Freedom Fitness
REFRESH-INTERVAL;VALUE=DURATION:PT1H
X-Robots-Tag:noindex
X-PUBLISHED-TTL:PT1H
BEGIN:VTIMEZONE
TZID:America/Boise
BEGIN:DAYLIGHT
TZOFFSETFROM:-0700
TZOFFSETTO:-0600
TZNAME:MDT
DTSTART:20240310T090000
END:DAYLIGHT
BEGIN:STANDARD
TZOFFSETFROM:-0600
TZOFFSETTO:-0700
TZNAME:MST
DTSTART:20241103T080000
END:STANDARD
END:VTIMEZONE
BEGIN:VEVENT
DTSTART;TZID=America/Boise:20241021T081500
DTEND;TZID=America/Boise:20241021T090000
DTSTAMP:20260425T044121
CREATED:20231231T025337Z
LAST-MODIFIED:20231231T025337Z
UID:10019527-1729498500-1729501200@freedomfitnessidaho.com
SUMMARY:Cardio & Weights w/Laci
DESCRIPTION:
URL:https://freedomfitnessidaho.com/event/cardio-weights-w-laci/2024-10-21/
LOCATION:Freedom Fitness Center\, 757 E Stagecoach Way\, Suite 103\, Kuna\, ID\, 83634\, United States
CATEGORIES:Body weight,Cardio,Strength Training,Weights
GEO:43.4833055;-116.4046421
X-APPLE-STRUCTURED-LOCATION;VALUE=URI;X-ADDRESS=Freedom Fitness Center 757 E Stagecoach Way Suite 103 Kuna ID 83634 United States;X-APPLE-RADIUS=500;X-TITLE=757 E Stagecoach Way\, Suite 103:geo:-116.4046421,43.4833055
END:VEVENT
BEGIN:VEVENT
DTSTART;TZID=America/Boise:20241021T091500
DTEND;TZID=America/Boise:20241021T100000
DTSTAMP:20260425T044121
CREATED:20231215T215511Z
LAST-MODIFIED:20231215T215533Z
UID:10012780-1729502100-1729504800@freedomfitnessidaho.com
SUMMARY:Silver Sneakers w/Angela
DESCRIPTION:
URL:https://freedomfitnessidaho.com/event/silver-sneakers-w-angela-2-2/2024-10-21/
LOCATION:Freedom Fitness Center\, 757 E Stagecoach Way\, Suite 103\, Kuna\, ID\, 83634\, United States
CATEGORIES:Balance,Body weight,Cardio,Core,Low Impact,Seniors
GEO:43.4833055;-116.4046421
X-APPLE-STRUCTURED-LOCATION;VALUE=URI;X-ADDRESS=Freedom Fitness Center 757 E Stagecoach Way Suite 103 Kuna ID 83634 United States;X-APPLE-RADIUS=500;X-TITLE=757 E Stagecoach Way\, Suite 103:geo:-116.4046421,43.4833055
END:VEVENT
BEGIN:VEVENT
DTSTART;TZID=America/Boise:20241021T101500
DTEND;TZID=America/Boise:20241021T110000
DTSTAMP:20260425T044121
CREATED:20240715T230503Z
LAST-MODIFIED:20240715T230506Z
UID:10012672-1729505700-1729508400@freedomfitnessidaho.com
SUMMARY:Pilates w/Jenna
DESCRIPTION:
URL:https://freedomfitnessidaho.com/event/pilates-w-njenna/2024-10-21/
LOCATION:Freedom Fitness Center\, 757 E Stagecoach Way\, Suite 103\, Kuna\, ID\, 83634\, United States
CATEGORIES:Balance,Body weight,Stetching,Strength Training
GEO:43.4833055;-116.4046421
X-APPLE-STRUCTURED-LOCATION;VALUE=URI;X-ADDRESS=Freedom Fitness Center 757 E Stagecoach Way Suite 103 Kuna ID 83634 United States;X-APPLE-RADIUS=500;X-TITLE=757 E Stagecoach Way\, Suite 103:geo:-116.4046421,43.4833055
END:VEVENT
BEGIN:VEVENT
DTSTART;TZID=America/Boise:20241021T181500
DTEND;TZID=America/Boise:20241021T190000
DTSTAMP:20260425T044121
CREATED:20231215T215353Z
LAST-MODIFIED:20231215T215353Z
UID:10012726-1729534500-1729537200@freedomfitnessidaho.com
SUMMARY:Cardio Fuse w/Kelsey
DESCRIPTION:
URL:https://freedomfitnessidaho.com/event/cardio-fuse-w-kelsey/2024-10-21/
LOCATION:Freedom Fitness Center\, 757 E Stagecoach Way\, Suite 103\, Kuna\, ID\, 83634\, United States
CATEGORIES:Cardio,Dance,Loop band
GEO:43.4833055;-116.4046421
X-APPLE-STRUCTURED-LOCATION;VALUE=URI;X-ADDRESS=Freedom Fitness Center 757 E Stagecoach Way Suite 103 Kuna ID 83634 United States;X-APPLE-RADIUS=500;X-TITLE=757 E Stagecoach Way\, Suite 103:geo:-116.4046421,43.4833055
END:VEVENT
END:VCALENDAR